BEGIN:VCALENDAR
VERSION:2.0
PRODID:-//The Kerrville Life - ECPv6.15.20//NONSGML v1.0//EN
CALSCALE:GREGORIAN
METHOD:PUBLISH
X-ORIGINAL-URL:https://thekerrvillelife.com
X-WR-CALDESC:Events for The Kerrville Life
REFRESH-INTERVAL;VALUE=DURATION:PT1H
X-Robots-Tag:noindex
X-PUBLISHED-TTL:PT1H
BEGIN:VTIMEZONE
TZID:America/Chicago
BEGIN:DAYLIGHT
TZOFFSETFROM:-0600
TZOFFSETTO:-0500
TZNAME:CDT
DTSTART:20250309T080000
END:DAYLIGHT
BEGIN:STANDARD
TZOFFSETFROM:-0500
TZOFFSETTO:-0600
TZNAME:CST
DTSTART:20251102T070000
END:STANDARD
BEGIN:DAYLIGHT
TZOFFSETFROM:-0600
TZOFFSETTO:-0500
TZNAME:CDT
DTSTART:20260308T080000
END:DAYLIGHT
BEGIN:STANDARD
TZOFFSETFROM:-0500
TZOFFSETTO:-0600
TZNAME:CST
DTSTART:20261101T070000
END:STANDARD
BEGIN:DAYLIGHT
TZOFFSETFROM:-0600
TZOFFSETTO:-0500
TZNAME:CDT
DTSTART:20270314T080000
END:DAYLIGHT
BEGIN:STANDARD
TZOFFSETFROM:-0500
TZOFFSETTO:-0600
TZNAME:CST
DTSTART:20271107T070000
END:STANDARD
END:VTIMEZONE
BEGIN:VEVENT
DTSTART;TZID=America/Chicago:20260426T140000
DTEND;TZID=America/Chicago:20260426T170000
DTSTAMP:20260424T080706
CREATED:20260406T015526Z
LAST-MODIFIED:20260406T015526Z
UID:80975-1777212000-1777222800@thekerrvillelife.com
SUMMARY:Toby Lee and Scott Rotge Live at The Boat
DESCRIPTION:Live music takes the outdoor stage at The Boat on Sunday\, April 26\, 2026 from 2 pm to 5 pm with performances by Toby Lee and Scott Rotge. This laid-back afternoon show invites guests to enjoy live guitar-driven music in a relaxed riverside setting.\n\n\nAttendees can grab a cold drink\, enjoy a bite to eat\, and unwind while listening to an afternoon of live performances filled with energetic guitar playing and easygoing vibes.\n\n\nThe Boat is located at 1483 Junction Hwy\, Kerrville\, TX. For more information\, contact the venue directly.
URL:https://thekerrvillelife.com/event/toby-lee-and-scott-rotge-live-at-the-boat/
LOCATION:The Boat\, 1483 Junction Highway\, Kerrville\, TX\, 78028\, United States
CATEGORIES:Music
ATTACH;FMTTYPE=image/jpeg:https://thekerrvillelife.com/wp-content/uploads/2026/04/toby-lee-and-scott-rotge-live-at-the-boat.jpg
END:VEVENT
END:VCALENDAR