BEGIN:VCALENDAR
VERSION:2.0
PRODID:-//The Kerrville Life - ECPv6.15.20//NONSGML v1.0//EN
CALSCALE:GREGORIAN
METHOD:PUBLISH
X-ORIGINAL-URL:https://thekerrvillelife.com
X-WR-CALDESC:Events for The Kerrville Life
REFRESH-INTERVAL;VALUE=DURATION:PT1H
X-Robots-Tag:noindex
X-PUBLISHED-TTL:PT1H
BEGIN:VTIMEZONE
TZID:America/Chicago
BEGIN:DAYLIGHT
TZOFFSETFROM:-0600
TZOFFSETTO:-0500
TZNAME:CDT
DTSTART:20240310T080000
END:DAYLIGHT
BEGIN:STANDARD
TZOFFSETFROM:-0500
TZOFFSETTO:-0600
TZNAME:CST
DTSTART:20241103T070000
END:STANDARD
BEGIN:DAYLIGHT
TZOFFSETFROM:-0600
TZOFFSETTO:-0500
TZNAME:CDT
DTSTART:20250309T080000
END:DAYLIGHT
BEGIN:STANDARD
TZOFFSETFROM:-0500
TZOFFSETTO:-0600
TZNAME:CST
DTSTART:20251102T070000
END:STANDARD
BEGIN:DAYLIGHT
TZOFFSETFROM:-0600
TZOFFSETTO:-0500
TZNAME:CDT
DTSTART:20260308T080000
END:DAYLIGHT
BEGIN:STANDARD
TZOFFSETFROM:-0500
TZOFFSETTO:-0600
TZNAME:CST
DTSTART:20261101T070000
END:STANDARD
END:VTIMEZONE
BEGIN:VEVENT
DTSTART;VALUE=DATE:20250830
DTEND;VALUE=DATE:20250901
DTSTAMP:20260423T195603
CREATED:20250821T130329Z
LAST-MODIFIED:20250821T130329Z
UID:78597-1756594800-1756681199@thekerrvillelife.com
SUMMARY:Heart of the Hills Golf Tournament at Scott Schreiner Golf Course
DESCRIPTION:The 2025 Heart of the Hills Golf Tournament returns to Scott Schreiner Golf Course in Kerrville from August 29 to 31\, bringing together golfers for one of the Hill Country’s most anticipated competitions. This year’s tournament will showcase the newly renovated greens and course updates\, offering players an enhanced experience.\n\n\nEntries and payments must be received by August 22\, 2025\, and the tournament is nearing capacity. Teams already confirmed are listed on the official website’s Teams Page\, while entry forms are available both online and at the Scott Schreiner Pro Shop. A practice round and registration will take place on Thursday\, August 28\, though the Shootout has been cancelled due to the fresh greens.\n\n\nWhile the traditional Fish Fry will not be held this year\, lunches will be served on Friday and Saturday. Lodging blocks have been reserved for participants at the Inn of the Hills Hotel & Conference Center and the Y.O. Ranch Hotel & Conference Center.\n\n\nThe Heart of the Hills Committee has also noted that players unable to attend this year will have their places reserved for the 2026 tournament\, which will return to its traditional July schedule.
URL:https://thekerrvillelife.com/event/heart-of-the-hills-golf-tournament-at-scott-schreiner-golf-course/2025-08-31/
LOCATION:Scott Schreiner Golf Course\, 1 Country Club Drive\, Kerrville\, TX\, 78028\, United States
CATEGORIES:Sports
ATTACH;FMTTYPE=image/jpeg:https://thekerrvillelife.com/wp-content/uploads/2025/08/heart-of-the-hills-golf-tournament-at-scott-schreiner-golf-course.jpg
END:VEVENT
BEGIN:VEVENT
DTSTART;VALUE=DATE:20250829
DTEND;VALUE=DATE:20250831
DTSTAMP:20260423T195603
CREATED:20250821T130329Z
LAST-MODIFIED:20250821T130329Z
UID:78596-1756508400-1756594799@thekerrvillelife.com
SUMMARY:Heart of the Hills Golf Tournament at Scott Schreiner Golf Course
DESCRIPTION:The 2025 Heart of the Hills Golf Tournament returns to Scott Schreiner Golf Course in Kerrville from August 29 to 31\, bringing together golfers for one of the Hill Country’s most anticipated competitions. This year’s tournament will showcase the newly renovated greens and course updates\, offering players an enhanced experience.\n\n\nEntries and payments must be received by August 22\, 2025\, and the tournament is nearing capacity. Teams already confirmed are listed on the official website’s Teams Page\, while entry forms are available both online and at the Scott Schreiner Pro Shop. A practice round and registration will take place on Thursday\, August 28\, though the Shootout has been cancelled due to the fresh greens.\n\n\nWhile the traditional Fish Fry will not be held this year\, lunches will be served on Friday and Saturday. Lodging blocks have been reserved for participants at the Inn of the Hills Hotel & Conference Center and the Y.O. Ranch Hotel & Conference Center.\n\n\nThe Heart of the Hills Committee has also noted that players unable to attend this year will have their places reserved for the 2026 tournament\, which will return to its traditional July schedule.
URL:https://thekerrvillelife.com/event/heart-of-the-hills-golf-tournament-at-scott-schreiner-golf-course/2025-08-30/
LOCATION:Scott Schreiner Golf Course\, 1 Country Club Drive\, Kerrville\, TX\, 78028\, United States
CATEGORIES:Sports
ATTACH;FMTTYPE=image/jpeg:https://thekerrvillelife.com/wp-content/uploads/2025/08/heart-of-the-hills-golf-tournament-at-scott-schreiner-golf-course.jpg
END:VEVENT
BEGIN:VEVENT
DTSTART;VALUE=DATE:20250828
DTEND;VALUE=DATE:20250830
DTSTAMP:20260423T195603
CREATED:20250821T130329Z
LAST-MODIFIED:20250821T130329Z
UID:78593-1756422000-1756508399@thekerrvillelife.com
SUMMARY:Heart of the Hills Golf Tournament at Scott Schreiner Golf Course
DESCRIPTION:The 2025 Heart of the Hills Golf Tournament returns to Scott Schreiner Golf Course in Kerrville from August 29 to 31\, bringing together golfers for one of the Hill Country’s most anticipated competitions. This year’s tournament will showcase the newly renovated greens and course updates\, offering players an enhanced experience.\n\n\nEntries and payments must be received by August 22\, 2025\, and the tournament is nearing capacity. Teams already confirmed are listed on the official website’s Teams Page\, while entry forms are available both online and at the Scott Schreiner Pro Shop. A practice round and registration will take place on Thursday\, August 28\, though the Shootout has been cancelled due to the fresh greens.\n\n\nWhile the traditional Fish Fry will not be held this year\, lunches will be served on Friday and Saturday. Lodging blocks have been reserved for participants at the Inn of the Hills Hotel & Conference Center and the Y.O. Ranch Hotel & Conference Center.\n\n\nThe Heart of the Hills Committee has also noted that players unable to attend this year will have their places reserved for the 2026 tournament\, which will return to its traditional July schedule.
URL:https://thekerrvillelife.com/event/heart-of-the-hills-golf-tournament-at-scott-schreiner-golf-course/2025-08-29/
LOCATION:Scott Schreiner Golf Course\, 1 Country Club Drive\, Kerrville\, TX\, 78028\, United States
CATEGORIES:Sports
ATTACH;FMTTYPE=image/jpeg:https://thekerrvillelife.com/wp-content/uploads/2025/08/heart-of-the-hills-golf-tournament-at-scott-schreiner-golf-course.jpg
END:VEVENT
END:VCALENDAR