BEGIN:VCALENDAR
VERSION:2.0
PRODID:-//The Kerrville Life - ECPv6.15.20//NONSGML v1.0//EN
CALSCALE:GREGORIAN
METHOD:PUBLISH
X-ORIGINAL-URL:https://thekerrvillelife.com
X-WR-CALDESC:Events for The Kerrville Life
REFRESH-INTERVAL;VALUE=DURATION:PT1H
X-Robots-Tag:noindex
X-PUBLISHED-TTL:PT1H
BEGIN:VTIMEZONE
TZID:America/Chicago
BEGIN:DAYLIGHT
TZOFFSETFROM:-0600
TZOFFSETTO:-0500
TZNAME:CDT
DTSTART:20250309T080000
END:DAYLIGHT
BEGIN:STANDARD
TZOFFSETFROM:-0500
TZOFFSETTO:-0600
TZNAME:CST
DTSTART:20251102T070000
END:STANDARD
BEGIN:DAYLIGHT
TZOFFSETFROM:-0600
TZOFFSETTO:-0500
TZNAME:CDT
DTSTART:20260308T080000
END:DAYLIGHT
BEGIN:STANDARD
TZOFFSETFROM:-0500
TZOFFSETTO:-0600
TZNAME:CST
DTSTART:20261101T070000
END:STANDARD
BEGIN:DAYLIGHT
TZOFFSETFROM:-0600
TZOFFSETTO:-0500
TZNAME:CDT
DTSTART:20270314T080000
END:DAYLIGHT
BEGIN:STANDARD
TZOFFSETFROM:-0500
TZOFFSETTO:-0600
TZNAME:CST
DTSTART:20271107T070000
END:STANDARD
END:VTIMEZONE
BEGIN:VEVENT
DTSTART;TZID=America/Chicago:20260422T080000
DTEND;TZID=America/Chicago:20260422T170000
DTSTAMP:20260420T040354
CREATED:20260406T012624Z
LAST-MODIFIED:20260406T012624Z
UID:80963-1776844800-1776877200@thekerrvillelife.com
SUMMARY:Kerrville-Schreiner Park Earth Day Promo & Hike at Kerrville-Schreiner Park
DESCRIPTION:An Earth Day celebration takes place at Kerrville-Schreiner Park on April 22\, 2026\, offering a full day of outdoor activities in the Texas Hill Country. Hosted by the City of Kerrville Parks and Recreation Department\, the event invites the community to explore the park and enjoy nature.\n\n\nFree day-use entry will be available from 8 am to 5 pm\, giving visitors the opportunity to hike\, relax\, and take in the scenic surroundings. An Earth Day Interpretive Hike begins at 10 am at Trailhead 5\, presented in partnership with the Riverside Nature Center. The guided hike will highlight native plants\, local wildlife\, and simple ways to help protect the environment.\n\n\nKerrville-Schreiner Park is located at 2385 Bandera Highway\, Kerrville\, TX 78028. For more information\, contact the City of Kerrville Parks and Recreation Department.
URL:https://thekerrvillelife.com/event/kerrville-schreiner-park-earth-day-promo-hike-at-kerrville-schreiner-park/
LOCATION:Kerrville Schreiner Park\, 2385 Bandera Highway\, Kerrville\, TX\, 78028\, United States
CATEGORIES:Kids & Family,Outdoors
ATTACH;FMTTYPE=image/jpeg:https://thekerrvillelife.com/wp-content/uploads/2026/04/kerrville-schreiner-park-earth-day-promo-and-hike-at-kerrville-schreiner-park.jpg
END:VEVENT
END:VCALENDAR