BEGIN:VCALENDAR
VERSION:2.0
PRODID:-//The Kerrville Life - ECPv6.15.20//NONSGML v1.0//EN
CALSCALE:GREGORIAN
METHOD:PUBLISH
X-ORIGINAL-URL:https://thekerrvillelife.com
X-WR-CALDESC:Events for The Kerrville Life
REFRESH-INTERVAL;VALUE=DURATION:PT1H
X-Robots-Tag:noindex
X-PUBLISHED-TTL:PT1H
BEGIN:VTIMEZONE
TZID:America/Chicago
BEGIN:DAYLIGHT
TZOFFSETFROM:-0600
TZOFFSETTO:-0500
TZNAME:CDT
DTSTART:20240310T080000
END:DAYLIGHT
BEGIN:STANDARD
TZOFFSETFROM:-0500
TZOFFSETTO:-0600
TZNAME:CST
DTSTART:20241103T070000
END:STANDARD
BEGIN:DAYLIGHT
TZOFFSETFROM:-0600
TZOFFSETTO:-0500
TZNAME:CDT
DTSTART:20250309T080000
END:DAYLIGHT
BEGIN:STANDARD
TZOFFSETFROM:-0500
TZOFFSETTO:-0600
TZNAME:CST
DTSTART:20251102T070000
END:STANDARD
BEGIN:DAYLIGHT
TZOFFSETFROM:-0600
TZOFFSETTO:-0500
TZNAME:CDT
DTSTART:20260308T080000
END:DAYLIGHT
BEGIN:STANDARD
TZOFFSETFROM:-0500
TZOFFSETTO:-0600
TZNAME:CST
DTSTART:20261101T070000
END:STANDARD
END:VTIMEZONE
BEGIN:VEVENT
DTSTART;TZID=America/Chicago:20251122T180000
DTEND;TZID=America/Chicago:20251122T210000
DTSTAMP:20260423T082043
CREATED:20251112T012101Z
LAST-MODIFIED:20251112T012101Z
UID:79289-1763834400-1763845200@thekerrvillelife.com
SUMMARY:Holiday Lighted Parade in Downtown Kerrville
DESCRIPTION:Downtown Kerrville will come alive with holiday cheer during the annual Holiday Lighted Parade. This free community event brings together sparkling floats\, cheerful music\, and the warm glow of festive lights to celebrate the start of the holiday season. Spectators of all ages can enjoy the sights and sounds as the parade makes its way through downtown.\n\n\nThe parade will begin at 6 pm on Saturday\, November 22\, 2025. Additional details about the event will be announced closer to the date.\n\n\nThe celebration takes place in downtown Kerrville\, Texas.
URL:https://thekerrvillelife.com/event/holiday-lighted-parade-in-downtown-kerrville/
LOCATION:Downtown Kerrville\, Kerrville\, TX\, United States
CATEGORIES:Kids & Family
ATTACH;FMTTYPE=image/jpeg:https://thekerrvillelife.com/wp-content/uploads/2025/11/holiday-lighted-parade-in-downtown-kerrville.jpg
END:VEVENT
BEGIN:VEVENT
DTSTART;TZID=America/Chicago:20251025T100000
DTEND;TZID=America/Chicago:20251025T170000
DTSTAMP:20260423T082043
CREATED:20251009T071510Z
LAST-MODIFIED:20251009T071530Z
UID:79088-1761386400-1761411600@thekerrvillelife.com
SUMMARY:Water Street Festival in Downtown Kerrville
DESCRIPTION:The Water Street Festival comes to downtown Kerrville on Saturday\, October 25\, 2025\, celebrating the city’s art\, music\, and community spirit. Hosted by the Kerrville Historic Downtown Business Alliance\, this new event is designed to bring people together while showcasing the culture\, creativity\, and charm of Kerrville’s historic Main Street district.\n\n\nSet among the shops\, galleries\, and restaurants of downtown Kerrville\, the festival transforms Water Street into a walkable\, family-friendly destination filled with live music\, art\, food\, and local vendors. Storefronts will spill out into the streets\, featuring pop-up shops\, open-air tastings\, and hands-on activities for all ages.\n\n\nA highlight of the day will be the interactive plein air art competition\, featuring 50 artists from across the country painting outdoors throughout the week. Their finished works will be displayed at the Kerr Arts & Cultural Center on the final day of the competition\, October 25\, offering visitors the chance to view and purchase fresh pieces created on-site.\n\n\nThe festival runs from 10 am throughout the day in downtown Kerrville. Admission is free and open to all ages.\n\n \n\n\nOrganizers are seeking volunteers to assist with children’s activities and the community parade. For sponsorship opportunities\, vendor applications\, and volunteer information\, email waterstreetfestival@gmail.com or follow @downtownkerrville on Facebook and Instagram for updates.
URL:https://thekerrvillelife.com/event/water-street-festival-in-downtown-kerrville/
LOCATION:Downtown Kerrville\, Kerrville\, TX\, United States
CATEGORIES:Kids & Family
ATTACH;FMTTYPE=image/jpeg:https://thekerrvillelife.com/wp-content/uploads/2025/10/water-street-festival-in-downtown-kerrville.jpg
END:VEVENT
END:VCALENDAR