BEGIN:VCALENDAR
VERSION:2.0
PRODID:-//The Kerrville Life - ECPv6.15.20//NONSGML v1.0//EN
CALSCALE:GREGORIAN
METHOD:PUBLISH
X-ORIGINAL-URL:https://thekerrvillelife.com
X-WR-CALDESC:Events for The Kerrville Life
REFRESH-INTERVAL;VALUE=DURATION:PT1H
X-Robots-Tag:noindex
X-PUBLISHED-TTL:PT1H
BEGIN:VTIMEZONE
TZID:America/Chicago
BEGIN:DAYLIGHT
TZOFFSETFROM:-0600
TZOFFSETTO:-0500
TZNAME:CDT
DTSTART:20240310T080000
END:DAYLIGHT
BEGIN:STANDARD
TZOFFSETFROM:-0500
TZOFFSETTO:-0600
TZNAME:CST
DTSTART:20241103T070000
END:STANDARD
BEGIN:DAYLIGHT
TZOFFSETFROM:-0600
TZOFFSETTO:-0500
TZNAME:CDT
DTSTART:20250309T080000
END:DAYLIGHT
BEGIN:STANDARD
TZOFFSETFROM:-0500
TZOFFSETTO:-0600
TZNAME:CST
DTSTART:20251102T070000
END:STANDARD
BEGIN:DAYLIGHT
TZOFFSETFROM:-0600
TZOFFSETTO:-0500
TZNAME:CDT
DTSTART:20260308T080000
END:DAYLIGHT
BEGIN:STANDARD
TZOFFSETFROM:-0500
TZOFFSETTO:-0600
TZNAME:CST
DTSTART:20261101T070000
END:STANDARD
BEGIN:DAYLIGHT
TZOFFSETFROM:-0600
TZOFFSETTO:-0500
TZNAME:CDT
DTSTART:20270314T080000
END:DAYLIGHT
BEGIN:STANDARD
TZOFFSETFROM:-0500
TZOFFSETTO:-0600
TZNAME:CST
DTSTART:20271107T070000
END:STANDARD
END:VTIMEZONE
BEGIN:VEVENT
DTSTART;TZID=America/Chicago:20260414T163000
DTEND;TZID=America/Chicago:20260414T180000
DTSTAMP:20260423T053442
CREATED:20251216T013744Z
LAST-MODIFIED:20251216T013943Z
UID:79908-1776184200-1776189600@thekerrvillelife.com
SUMMARY:Boomers & Beyond at the Dietert Center
DESCRIPTION:Boomers & Beyond Alliance brings together business professionals and community members focused on supporting the aging population and their families through education and connection to local resources. The group works to strengthen the continuum of care in the Hill Country by sharing information\, encouraging collaboration\, and promoting awareness of services available in the Kerrville area.\n\n\nMeetings are held on the second Tuesday of each month from 4:30 pm to 6 pm at the Dietert Center\, located at 451 Guadalupe Street\, Suite 203\, in Kerrville\, Texas. The network includes both Chamber and non-Chamber members who directly serve the aging community and are committed to improving quality of life through education\, advocacy\, and community outreach.
URL:https://thekerrvillelife.com/event/boomers-beyond-at-the-dietert-center-2/2026-04-14/
LOCATION:Dietert Center\, 451 Guadalupe Street\, Suite 203\, Kerrville\, TX\, 78028\, United States
CATEGORIES:General
ATTACH;FMTTYPE=image/jpeg:https://thekerrvillelife.com/wp-content/uploads/2025/12/boomers-and-beyond-at-the-dietert-center.jpg
END:VEVENT
BEGIN:VEVENT
DTSTART;TZID=America/Chicago:20260310T163000
DTEND;TZID=America/Chicago:20260310T180000
DTSTAMP:20260423T053442
CREATED:20251216T013744Z
LAST-MODIFIED:20251216T013942Z
UID:79907-1773160200-1773165600@thekerrvillelife.com
SUMMARY:Boomers & Beyond at the Dietert Center
DESCRIPTION:Boomers & Beyond Alliance brings together business professionals and community members focused on supporting the aging population and their families through education and connection to local resources. The group works to strengthen the continuum of care in the Hill Country by sharing information\, encouraging collaboration\, and promoting awareness of services available in the Kerrville area.\n\n\nMeetings are held on the second Tuesday of each month from 4:30 pm to 6 pm at the Dietert Center\, located at 451 Guadalupe Street\, Suite 203\, in Kerrville\, Texas. The network includes both Chamber and non-Chamber members who directly serve the aging community and are committed to improving quality of life through education\, advocacy\, and community outreach.
URL:https://thekerrvillelife.com/event/boomers-beyond-at-the-dietert-center-2/2026-03-10/
LOCATION:Dietert Center\, 451 Guadalupe Street\, Suite 203\, Kerrville\, TX\, 78028\, United States
CATEGORIES:General
ATTACH;FMTTYPE=image/jpeg:https://thekerrvillelife.com/wp-content/uploads/2025/12/boomers-and-beyond-at-the-dietert-center.jpg
END:VEVENT
BEGIN:VEVENT
DTSTART;TZID=America/Chicago:20260210T163000
DTEND;TZID=America/Chicago:20260210T180000
DTSTAMP:20260423T053442
CREATED:20251216T013744Z
LAST-MODIFIED:20251216T013941Z
UID:79906-1770741000-1770746400@thekerrvillelife.com
SUMMARY:Boomers & Beyond at the Dietert Center
DESCRIPTION:Boomers & Beyond Alliance brings together business professionals and community members focused on supporting the aging population and their families through education and connection to local resources. The group works to strengthen the continuum of care in the Hill Country by sharing information\, encouraging collaboration\, and promoting awareness of services available in the Kerrville area.\n\n\nMeetings are held on the second Tuesday of each month from 4:30 pm to 6 pm at the Dietert Center\, located at 451 Guadalupe Street\, Suite 203\, in Kerrville\, Texas. The network includes both Chamber and non-Chamber members who directly serve the aging community and are committed to improving quality of life through education\, advocacy\, and community outreach.
URL:https://thekerrvillelife.com/event/boomers-beyond-at-the-dietert-center-2/2026-02-10/
LOCATION:Dietert Center\, 451 Guadalupe Street\, Suite 203\, Kerrville\, TX\, 78028\, United States
CATEGORIES:General
ATTACH;FMTTYPE=image/jpeg:https://thekerrvillelife.com/wp-content/uploads/2025/12/boomers-and-beyond-at-the-dietert-center.jpg
END:VEVENT
BEGIN:VEVENT
DTSTART;TZID=America/Chicago:20260113T163000
DTEND;TZID=America/Chicago:20260113T180000
DTSTAMP:20260423T053442
CREATED:20251216T013744Z
LAST-MODIFIED:20251216T013941Z
UID:79905-1768321800-1768327200@thekerrvillelife.com
SUMMARY:Boomers & Beyond at the Dietert Center
DESCRIPTION:Boomers & Beyond Alliance brings together business professionals and community members focused on supporting the aging population and their families through education and connection to local resources. The group works to strengthen the continuum of care in the Hill Country by sharing information\, encouraging collaboration\, and promoting awareness of services available in the Kerrville area.\n\n\nMeetings are held on the second Tuesday of each month from 4:30 pm to 6 pm at the Dietert Center\, located at 451 Guadalupe Street\, Suite 203\, in Kerrville\, Texas. The network includes both Chamber and non-Chamber members who directly serve the aging community and are committed to improving quality of life through education\, advocacy\, and community outreach.
URL:https://thekerrvillelife.com/event/boomers-beyond-at-the-dietert-center-2/2026-01-13/
LOCATION:Dietert Center\, 451 Guadalupe Street\, Suite 203\, Kerrville\, TX\, 78028\, United States
CATEGORIES:General
ATTACH;FMTTYPE=image/jpeg:https://thekerrvillelife.com/wp-content/uploads/2025/12/boomers-and-beyond-at-the-dietert-center.jpg
END:VEVENT
BEGIN:VEVENT
DTSTART;TZID=America/Chicago:20251209T163000
DTEND;TZID=America/Chicago:20251209T180000
DTSTAMP:20260423T053442
CREATED:20250926T031304Z
LAST-MODIFIED:20250926T031304Z
UID:79051-1765297800-1765303200@thekerrvillelife.com
SUMMARY:Boomers & Beyond at the Dietert Center
DESCRIPTION:The Boomers and Beyond Alliance (BBA) brings together business professionals who serve the aging community to share resources\, provide education\, and foster connections in the Kerrville area. This networking group focuses on improving quality of life for older adults and their families through education\, advocacy\, and community outreach.\n\n\nMeetings take place on the second Tuesday of each month\, with upcoming gatherings scheduled for October 14\, November 11\, and December 9\, 2025\, from 4:30 pm to 6 pm at the Dietert Center\, 451 Guadalupe Street #203\, Kerrville\, Texas 78028.\n\n\nThe BBA welcomes both Chamber and non-Chamber members who directly support the aging community in the Hill Country. These sessions provide a collaborative environment for sharing knowledge and strengthening the continuum of care for older adults.
URL:https://thekerrvillelife.com/event/boomers-beyond-at-the-dietert-center/2025-12-09/
LOCATION:Dietert Center\, 451 Guadalupe Street\, Suite 203\, Kerrville\, TX\, 78028\, United States
CATEGORIES:General
ATTACH;FMTTYPE=image/jpeg:https://thekerrvillelife.com/wp-content/uploads/2025/08/boomers-and-beyond-at-dietert-center.jpg
END:VEVENT
BEGIN:VEVENT
DTSTART;TZID=America/Chicago:20251120T100000
DTEND;TZID=America/Chicago:20251120T130000
DTSTAMP:20260423T053442
CREATED:20251112T000418Z
LAST-MODIFIED:20251112T000418Z
UID:79270-1763632800-1763643600@thekerrvillelife.com
SUMMARY:KPUB Community Weatherization Event at Dietert Center
DESCRIPTION:Residents can learn practical ways to save energy and reduce utility costs during the KPUB Community Weatherization Event at the Dietert Center. Representatives from Kerrville Public Utility Board (KPUB) and the Alamo Area Council of Governments (AACOG) will share home energy-saving tips and information about available programs. Attendees can learn about AACOG’s free funding for energy-efficiency home improvements\, KPUB’s rebate programs\, and bill discounts for qualifying households.\n\n\nThe event will take place on Thursday\, November 20\, 2025\, from 10 am to 1 pm. Visitors can also enter a drawing for a free Nest smart thermostat\, and KPUB will be giving away heat blanket kits while supplies last. The event is free and open to the public.\n\n\nThe Dietert Center is located in Kerrville\, Texas. For more information\, contact DJ Owens at dowens@kpub.com or call (830) 257-3050. Additional details are available at https://www.kpub.com/save-energy-money/home-weatherization-program/.
URL:https://thekerrvillelife.com/event/kpub-community-weatherization-event-at-dietert-center/
LOCATION:Dietert Center\, 451 Guadalupe Street\, Suite 203\, Kerrville\, TX\, 78028\, United States
CATEGORIES:Business & Networking
ATTACH;FMTTYPE=image/jpeg:https://thekerrvillelife.com/wp-content/uploads/2025/11/kpub-community-weatherization-event-at-dietert-center.jpg
END:VEVENT
BEGIN:VEVENT
DTSTART;TZID=America/Chicago:20251111T163000
DTEND;TZID=America/Chicago:20251111T180000
DTSTAMP:20260423T053442
CREATED:20250926T031304Z
LAST-MODIFIED:20250926T031304Z
UID:79050-1762878600-1762884000@thekerrvillelife.com
SUMMARY:Boomers & Beyond at the Dietert Center
DESCRIPTION:The Boomers and Beyond Alliance (BBA) brings together business professionals who serve the aging community to share resources\, provide education\, and foster connections in the Kerrville area. This networking group focuses on improving quality of life for older adults and their families through education\, advocacy\, and community outreach.\n\n\nMeetings take place on the second Tuesday of each month\, with upcoming gatherings scheduled for October 14\, November 11\, and December 9\, 2025\, from 4:30 pm to 6 pm at the Dietert Center\, 451 Guadalupe Street #203\, Kerrville\, Texas 78028.\n\n\nThe BBA welcomes both Chamber and non-Chamber members who directly support the aging community in the Hill Country. These sessions provide a collaborative environment for sharing knowledge and strengthening the continuum of care for older adults.
URL:https://thekerrvillelife.com/event/boomers-beyond-at-the-dietert-center/2025-11-11/
LOCATION:Dietert Center\, 451 Guadalupe Street\, Suite 203\, Kerrville\, TX\, 78028\, United States
CATEGORIES:General
ATTACH;FMTTYPE=image/jpeg:https://thekerrvillelife.com/wp-content/uploads/2025/08/boomers-and-beyond-at-dietert-center.jpg
END:VEVENT
BEGIN:VEVENT
DTSTART;TZID=America/Chicago:20251014T163000
DTEND;TZID=America/Chicago:20251014T180000
DTSTAMP:20260423T053442
CREATED:20250926T031304Z
LAST-MODIFIED:20250926T031304Z
UID:79049-1760459400-1760464800@thekerrvillelife.com
SUMMARY:Boomers & Beyond at the Dietert Center
DESCRIPTION:The Boomers and Beyond Alliance (BBA) brings together business professionals who serve the aging community to share resources\, provide education\, and foster connections in the Kerrville area. This networking group focuses on improving quality of life for older adults and their families through education\, advocacy\, and community outreach.\n\n\nMeetings take place on the second Tuesday of each month\, with upcoming gatherings scheduled for October 14\, November 11\, and December 9\, 2025\, from 4:30 pm to 6 pm at the Dietert Center\, 451 Guadalupe Street #203\, Kerrville\, Texas 78028.\n\n\nThe BBA welcomes both Chamber and non-Chamber members who directly support the aging community in the Hill Country. These sessions provide a collaborative environment for sharing knowledge and strengthening the continuum of care for older adults.
URL:https://thekerrvillelife.com/event/boomers-beyond-at-the-dietert-center/2025-10-14/
LOCATION:Dietert Center\, 451 Guadalupe Street\, Suite 203\, Kerrville\, TX\, 78028\, United States
CATEGORIES:General
ATTACH;FMTTYPE=image/jpeg:https://thekerrvillelife.com/wp-content/uploads/2025/08/boomers-and-beyond-at-dietert-center.jpg
END:VEVENT
BEGIN:VEVENT
DTSTART;TZID=America/Chicago:20250909T153000
DTEND;TZID=America/Chicago:20250909T170000
DTSTAMP:20260423T053442
CREATED:20250822T082035Z
LAST-MODIFIED:20250822T082035Z
UID:78704-1757431800-1757437200@thekerrvillelife.com
SUMMARY:Boomers & Beyond at Dietert Center
DESCRIPTION:The Boomers and Beyond Alliance (BBA) meets monthly in Kerrville\, bringing together business professionals who serve the aging community in the Hill Country. The group focuses on education\, advocacy\, and outreach\, offering valuable information and resources to older adults and their families. By strengthening the continuum of care\, BBA works to improve the overall quality of life for those they serve.\n\n\nThe next meeting will be held on Tuesday\, September 9\, 2025\, from 4:30 pm to 6 pm at the Dietert Center\, 451 Guadalupe Street\, Suite 203\, Kerrville\, Texas 78028. Meetings are held on the second Tuesday of each month and are open to both Chamber and non-Chamber members who support the aging community.
URL:https://thekerrvillelife.com/event/boomers-beyond-at-dietert-center/
LOCATION:Dietert Center\, 451 Guadalupe Street\, Suite 203\, Kerrville\, TX\, 78028\, United States
CATEGORIES:General
ATTACH;FMTTYPE=image/jpeg:https://thekerrvillelife.com/wp-content/uploads/2025/08/boomers-and-beyond-at-dietert-center.jpg
END:VEVENT
END:VCALENDAR