BEGIN:VCALENDAR
VERSION:2.0
PRODID:-//The Kerrville Life - ECPv6.15.20//NONSGML v1.0//EN
CALSCALE:GREGORIAN
METHOD:PUBLISH
X-WR-CALNAME:The Kerrville Life
X-ORIGINAL-URL:https://thekerrvillelife.com
X-WR-CALDESC:Events for The Kerrville Life
REFRESH-INTERVAL;VALUE=DURATION:PT1H
X-Robots-Tag:noindex
X-PUBLISHED-TTL:PT1H
BEGIN:VTIMEZONE
TZID:America/Chicago
BEGIN:DAYLIGHT
TZOFFSETFROM:-0600
TZOFFSETTO:-0500
TZNAME:CDT
DTSTART:20240310T080000
END:DAYLIGHT
BEGIN:STANDARD
TZOFFSETFROM:-0500
TZOFFSETTO:-0600
TZNAME:CST
DTSTART:20241103T070000
END:STANDARD
BEGIN:DAYLIGHT
TZOFFSETFROM:-0600
TZOFFSETTO:-0500
TZNAME:CDT
DTSTART:20250309T080000
END:DAYLIGHT
BEGIN:STANDARD
TZOFFSETFROM:-0500
TZOFFSETTO:-0600
TZNAME:CST
DTSTART:20251102T070000
END:STANDARD
BEGIN:DAYLIGHT
TZOFFSETFROM:-0600
TZOFFSETTO:-0500
TZNAME:CDT
DTSTART:20260308T080000
END:DAYLIGHT
BEGIN:STANDARD
TZOFFSETFROM:-0500
TZOFFSETTO:-0600
TZNAME:CST
DTSTART:20261101T070000
END:STANDARD
END:VTIMEZONE
BEGIN:VEVENT
DTSTART;TZID=America/Chicago:20251119T173000
DTEND;TZID=America/Chicago:20251119T193000
DTSTAMP:20260425T140054
CREATED:20251119T235947Z
LAST-MODIFIED:20251119T235947Z
UID:79473-1763573400-1763580600@thekerrvillelife.com
SUMMARY:Live Music with Susan Herndon at Central Provisions
DESCRIPTION:Enjoy an evening of live music and great food as singer-songwriter Susan Herndon performs at Central Provisions in Center Point. Known for her soulful voice and heartfelt lyrics\, Herndon brings a mix of folk\, Americana\, and original tunes that create the perfect backdrop for a relaxing night out.\n\n\nThe performance will take place on Wednesday\, November 19\, 2025\, from 5:30 pm to 7:30 pm. Guests can savor the restaurant’s inviting atmosphere\, delicious menu\, and local charm while enjoying live music.\n\n\nCentral Provisions is located at 223 Ranch to Market Road 480\, Center Point\, TX 78010.
URL:https://thekerrvillelife.com/event/live-music-with-susan-herndon-at-central-provisions/
LOCATION:Central Provisions\, 223 Ranch to Market Road 480\, Center Point\, TX\, 78010\, United States
CATEGORIES:Music
ATTACH;FMTTYPE=image/jpeg:https://thekerrvillelife.com/wp-content/uploads/2025/11/live-music-with-susan-herndon-at-central-provisions.jpg
END:VEVENT
END:VCALENDAR