BEGIN:VCALENDAR
VERSION:2.0
PRODID:-//The Kerrville Life - ECPv6.15.20//NONSGML v1.0//EN
CALSCALE:GREGORIAN
METHOD:PUBLISH
X-ORIGINAL-URL:https://thekerrvillelife.com
X-WR-CALDESC:Events for The Kerrville Life
REFRESH-INTERVAL;VALUE=DURATION:PT1H
X-Robots-Tag:noindex
X-PUBLISHED-TTL:PT1H
BEGIN:VTIMEZONE
TZID:America/Chicago
BEGIN:DAYLIGHT
TZOFFSETFROM:-0600
TZOFFSETTO:-0500
TZNAME:CDT
DTSTART:20250309T080000
END:DAYLIGHT
BEGIN:STANDARD
TZOFFSETFROM:-0500
TZOFFSETTO:-0600
TZNAME:CST
DTSTART:20251102T070000
END:STANDARD
BEGIN:DAYLIGHT
TZOFFSETFROM:-0600
TZOFFSETTO:-0500
TZNAME:CDT
DTSTART:20260308T080000
END:DAYLIGHT
BEGIN:STANDARD
TZOFFSETFROM:-0500
TZOFFSETTO:-0600
TZNAME:CST
DTSTART:20261101T070000
END:STANDARD
BEGIN:DAYLIGHT
TZOFFSETFROM:-0600
TZOFFSETTO:-0500
TZNAME:CDT
DTSTART:20270314T080000
END:DAYLIGHT
BEGIN:STANDARD
TZOFFSETFROM:-0500
TZOFFSETTO:-0600
TZNAME:CST
DTSTART:20271107T070000
END:STANDARD
END:VTIMEZONE
BEGIN:VEVENT
DTSTART;TZID=America/Chicago:20260519T170000
DTEND;TZID=America/Chicago:20260519T233000
DTSTAMP:20260423T100951
CREATED:20260406T052529Z
LAST-MODIFIED:20260406T052844Z
UID:81103-1779210000-1779233400@thekerrvillelife.com
SUMMARY:Latin Night Every Tuesday at Divine's Sports Bar
DESCRIPTION:Latin Night takes place every Tuesday from 5 pm to 12 am at Divine’s Sports Bar in Kerrville\, bringing a lively mix of Tejano and Cumbia music to the dance floor each week. \nGuests can enjoy a festive atmosphere with music perfect for dancing\, along with drink specials including $3 Mexican Candy shots and $4 frozen margaritas. The event offers a fun and social midweek outing for those looking to enjoy Latin music and connect with others. \nLotería nights are also hosted periodically\, with special drink offers for players. Guests are encouraged to follow the venue for announcements\, as seating for Lotería events is limited and fills quickly. \nDivine’s Sports Bar is located in Kerrville\, TX. For more information\, contact the venue directly.
URL:https://thekerrvillelife.com/event/latin-night-every-tuesday-at-divines-sports-bar/2026-05-19/
LOCATION:Divine’s Sports Bar\, 225 Earl Garrett Street East\, Kerrville\, TX\, 78028\, United States
CATEGORIES:Music
ATTACH;FMTTYPE=image/jpeg:https://thekerrvillelife.com/wp-content/uploads/2026/04/latin-night-every-tuesday-at-divines-sports-bar.jpg
END:VEVENT
BEGIN:VEVENT
DTSTART;TZID=America/Chicago:20260520T110000
DTEND;TZID=America/Chicago:20260520T140000
DTSTAMP:20260423T100951
CREATED:20260305T011655Z
LAST-MODIFIED:20260305T011655Z
UID:80757-1779274800-1779285600@thekerrvillelife.com
SUMMARY:Friends of the Library Book Sale at Butt-Holdsworth Memorial Library
DESCRIPTION:The Friends of the Butt-Holdsworth Memorial Library host their ongoing Book Sale throughout 2026\, offering a wide selection of gently used books\, DVDs\, and CDs at very affordable prices. The bookstore operates every Wednesday from 11 am to 2 pm\, with additional sales held from 11 am to 2 pm on the second Saturday of each month. \nShoppers can browse thousands of titles across a variety of genres while supporting the programs and services of the library. The book sale is open to all ages and provides a great opportunity to discover new reads and media at bargain prices. \nThose interested in volunteering with the Friends of the Library can email fobhml@gmail.com or contact the library at 830-258-1274 for more information. \nThe Butt-Holdsworth Memorial Library is located at 505 Water St.\, Kerrville\, TX 78028. For additional details\, call (830) 257-8422.
URL:https://thekerrvillelife.com/event/friends-of-the-library-book-sale-at-butt-holdsworth-memorial-library-6/2026-05-20/
LOCATION:Butt-Holdsworth Memorial Library\, 505 Water Street\, Kerrville\, TX\, 78028\, United States
CATEGORIES:General
ATTACH;FMTTYPE=image/jpeg:https://thekerrvillelife.com/wp-content/uploads/2026/01/friends-of-the-library-book-sale-at-butt-holdsworth-memorial-library.jpg
END:VEVENT
BEGIN:VEVENT
DTSTART;TZID=America/Chicago:20260520T170000
DTEND;TZID=America/Chicago:20260520T233000
DTSTAMP:20260423T100951
CREATED:20260406T033936Z
LAST-MODIFIED:20260406T052753Z
UID:81063-1779296400-1779319800@thekerrvillelife.com
SUMMARY:Country Night Every Wednesday at Divine's Sports Bar
DESCRIPTION:Country Night takes place every Wednesday from 5 pm to 12 am at Divine’s Sports Bar in Kerrville. This weekly event brings a lively country atmosphere with music\, dancing\, and drink specials. \nGuests can enjoy country classics and line dancing favorites throughout the night\, whether arriving with a partner or finding one on the dance floor. Drink specials include $5 call liquors\, featuring popular options like Jameson\, Deep Eddy’s\, Malibu\, Jack Daniel’s\, and more\, with bartenders available to help guide selections. \nThe event offers a fun and casual midweek outing for those looking to dance\, socialize\, and enjoy country music in a welcoming bar setting. \nDivine’s Sports Bar is located in Kerrville\, TX. For more information\, contact the venue directly.
URL:https://thekerrvillelife.com/event/country-night-every-wednesday-at-divines-sports-bar/2026-05-20/
LOCATION:Divine’s Sports Bar\, 225 Earl Garrett Street East\, Kerrville\, TX\, 78028\, United States
CATEGORIES:Music
ATTACH;FMTTYPE=image/jpeg:https://thekerrvillelife.com/wp-content/uploads/2026/04/country-night-every-wednesday-at-divines-sports-bar.jpg
END:VEVENT
BEGIN:VEVENT
DTSTART;TZID=America/Chicago:20260520T180000
DTEND;TZID=America/Chicago:20260520T220000
DTSTAMP:20260423T100951
CREATED:20251120T000728Z
LAST-MODIFIED:20251120T000728Z
UID:79497-1779300000-1779314400@thekerrvillelife.com
SUMMARY:Wednesday Karaoke Night at Gravity Check Saloon & Arena
DESCRIPTION:Singers of all levels can take the stage for a fun midweek night of music during Wednesday Karaoke Night at Gravity Check Saloon & Arena. Guests can belt out country classics\, rock anthems\, and pop favorites while enjoying a lively\, welcoming atmosphere with friends. \nKaraoke begins at 6 pm every Wednesday. The full bar is open until midnight\, and the kitchen serves until 9 pm\, making it easy to fuel up before or after your song. \nGravity Check Saloon & Arena is located at 3979 Bandera Highway\, Pipe Creek\, TX. For more information\, call 830-634-3075 or visit www.gravitychecksaloonandarena.com.
URL:https://thekerrvillelife.com/event/wednesday-karaoke-night-at-gravity-check-saloon-arena/2026-05-20/
LOCATION:Gravity Check Saloon and Arena\, 3979 Bandera Highway (173)\, Kerrville\, TX\, 78028\, United States
CATEGORIES:Music
ATTACH;FMTTYPE=image/jpeg:https://thekerrvillelife.com/wp-content/uploads/2025/09/karaoke-wednesday-nights-at-gravity-check-saloon-and-arena.jpg
END:VEVENT
BEGIN:VEVENT
DTSTART;TZID=America/Chicago:20260520T183000
DTEND;TZID=America/Chicago:20260520T203000
DTSTAMP:20260423T100951
CREATED:20260406T051603Z
LAST-MODIFIED:20260406T051603Z
UID:81090-1779301800-1779309000@thekerrvillelife.com
SUMMARY:Millennial Lotería at Tailchasers Patio + Pub
DESCRIPTION:Millennial Lotería takes place from 6:30 pm to 8:30 pm at Tailchasers Patio + Pub in Kerrville\, offering a modern twist on the classic Mexican bingo-style game. \nGuests can enjoy a lively and social atmosphere while playing for fun and laughs\, with a $5 buy-in per card for each game. The event is designed for groups\, date nights\, and first-time players alike\, creating an easygoing and interactive experience. \nA full bar and kitchen will be available throughout the evening\, along with both indoor seating and a dog-friendly patio. \nTailchasers Patio + Pub is located at 516 Jefferson Street\, Kerrville\, TX 78028. For more information\, contact the venue directly.
URL:https://thekerrvillelife.com/event/millennial-loteria-at-tailchasers-patio-pub/2026-05-20/
LOCATION:Tailchasers Patio + Pub\, 516 Jefferson Street\, Kerrville\, TX\, 78028\, United States
CATEGORIES:General
ATTACH;FMTTYPE=image/jpeg:https://thekerrvillelife.com/wp-content/uploads/2026/04/millenial-loteria-at-tailchasers-patio-pub.jpg
END:VEVENT
BEGIN:VEVENT
DTSTART;TZID=America/Chicago:20260521T100000
DTEND;TZID=America/Chicago:20260521T140000
DTSTAMP:20260423T100951
CREATED:20251120T001424Z
LAST-MODIFIED:20251120T001424Z
UID:79558-1779357600-1779372000@thekerrvillelife.com
SUMMARY:Schreiner Mansion Tours at Schreiner Mansion
DESCRIPTION:Step into Kerrville’s past with guided tours of the historic Schreiner Mansion\, built in 1879 and listed on the National Register of Historic Places. Located in downtown Kerrville overlooking Peterson Plaza\, the Mansion offers a close look at period architecture and the legacy of one of the city’s founding families. \nTours are offered on Thursdays from 10 am to 2 pm\, beginning on the half-hour\, with the last tour starting at 1:30 pm. Admission is $10 for adults\, $5 for students\, and $5 for military with ID. Group tours of 10 or more are $8 per person with reservations. \nThe Schreiner Mansion is in Kerrville\, Texas. For more information\, call Stacy Page at (830) 895-5222. Visitors can view a photo gallery and experience a virtual tour on the Schreiner Mansion’s Facebook page\, and learn more about the site’s history online. \nAdditional information: The Mansion is available for special event rentals for $25\,000\, which includes access to the Events at Water Street space in the historic Schreiner Building. Two hours of complimentary photography are included with any event. To schedule an appointment to discuss your event or for further details\, call (830) 895-5222.
URL:https://thekerrvillelife.com/event/schreiner-mansion-tours-at-schreiner-mansion/2026-05-21/
LOCATION:Schreiner Mansion\, 222 Earl Garrett St\, Kerrville\, TX\, 78028\, United States
CATEGORIES:General,Kids & Family
ATTACH;FMTTYPE=image/jpeg:https://thekerrvillelife.com/wp-content/uploads/2025/11/schreiner-mansion-tours-at-schreiner-mansion.jpg
END:VEVENT
BEGIN:VEVENT
DTSTART;TZID=America/Chicago:20260521T113000
DTEND;TZID=America/Chicago:20260521T123000
DTSTAMP:20260423T100951
CREATED:20251215T232939Z
LAST-MODIFIED:20251215T233321Z
UID:79760-1779363000-1779366600@thekerrvillelife.com
SUMMARY:KAC Networking Group at Inn of the Hills Hotel & Conference
DESCRIPTION:The KAC Networking Group offers a professional\, structured environment for local business people to promote their services while building meaningful connections through shared referrals\, knowledge\, and expertise. Hosted by the Kerrville Area Chamber of Commerce\, this networking group is designed to foster collaboration among members while maintaining a focused and organized format. \nMeetings take place from 11:30 am to 12:30 pm on the first and third Thursday of every month at the Inn of the Hills Hotel & Conference\, located at 1001 Junction Highway in Kerrville\, Texas. The group follows a one-industry-per-person model\, with membership available on a first-come\, first-served basis\, ensuring a diverse range of professional representation. \nParticipation is available to members of the Kerrville Area Chamber of Commerce\, and attendees can expect a consistent opportunity to build relationships and exchange business referrals in a supportive setting. For additional details about membership or meeting availability\, contact the Kerrville Area Chamber of Commerce directly.
URL:https://thekerrvillelife.com/event/kac-networking-group-at-inn-of-the-hills-hotel-conference/2026-05-21/
LOCATION:Inn of the Hills\, 1001 Junction Highway\, Kerrville\, TX\, 78028\, United States
CATEGORIES:Business & Networking
ATTACH;FMTTYPE=image/jpeg:https://thekerrvillelife.com/wp-content/uploads/2025/08/kac-networking-group-at-inn-of-the-hills.jpg
END:VEVENT
BEGIN:VEVENT
DTSTART;TZID=America/Chicago:20260521T170000
DTEND;TZID=America/Chicago:20260521T200000
DTSTAMP:20260423T100951
CREATED:20250821T094324Z
LAST-MODIFIED:20251120T003249Z
UID:79629-1779382800-1779393600@thekerrvillelife.com
SUMMARY:Country Nights Open Mic at Gravity Check Saloon and Arena
DESCRIPTION:Country music fans can enjoy an easygoing evening of live local talent during Country Nights Open Mic at Gravity Check Saloon. Listeners can relax to a mix of classic and contemporary country\, while aspiring performers are welcome to bring an instrument and take a turn on stage. \nThe open mic runs every Thursday from 6 pm to 10 pm\, with the grill serving until 9 pm. \nGravity Check Saloon is located in Kerrville\, Texas.
URL:https://thekerrvillelife.com/event/country-nights-open-mic-at-gravity-check-saloon-and-arena/2026-05-21/
LOCATION:Gravity Check Saloon and Arena\, 3979 Bandera Highway (173)\, Kerrville\, TX\, 78028\, United States
CATEGORIES:Music
ATTACH;FMTTYPE=image/jpeg:https://thekerrvillelife.com/wp-content/uploads/2025/08/country-nights-open-mic-at-gravity-check-saloon-and-arena.jpg
END:VEVENT
BEGIN:VEVENT
DTSTART;TZID=America/Chicago:20260521T173000
DTEND;TZID=America/Chicago:20260521T210000
DTSTAMP:20260423T100951
CREATED:20260415T015937Z
LAST-MODIFIED:20260415T015937Z
UID:81153-1779384600-1779397200@thekerrvillelife.com
SUMMARY:T4: Trivia at Arcadia Live
DESCRIPTION:T4: Trivia takes place on May 21\, 2026 from 5:45 pm to 9 pm at Arcadia Live in Kerrville. Doors open at 5:45 pm\, and trivia begins at 6:30 pm for an evening of friendly competition and entertainment. \nThis event welcomes both seasoned trivia players and newcomers\, offering a fun and engaging atmosphere where teams can compete for prizes and bragging rights. Teams may include up to six people\, and creativity is encouraged when choosing a team name. A full bar will be available throughout the evening\, along with prizes\, drink tokens for top teams\, and complimentary tickets to a future Arcadia Live event for the winning team. \nGuests can enhance their experience by pre-ordering pizza and appetizers from Pint & Plow Brewing Company when RSVPing\, with food delivered directly to their table at 5:45 pm. For larger groups\, the box office can assist with reserving additional tables to keep parties together. \nTrivia tickets go on sale on the first of the month. No outside beverages are permitted. For more information or to reserve a spot\, visit https://www.thearcadialive.org/trivia-may.
URL:https://thekerrvillelife.com/event/t4-trivia-at-arcadia-live-3/
LOCATION:Arcadia Live Theatre\, 717 Water Street\, Kerrville\, TX\, 78028\, United States
CATEGORIES:Food & Drink
ATTACH;FMTTYPE=image/jpeg:https://thekerrvillelife.com/wp-content/uploads/2026/04/t4-trivia-at-arcadia-live.jpg
END:VEVENT
BEGIN:VEVENT
DTSTART;TZID=America/Chicago:20260523T130000
DTEND;TZID=America/Chicago:20260523T160000
DTSTAMP:20260423T100951
CREATED:20260415T022242Z
LAST-MODIFIED:20260415T022242Z
UID:81169-1779541200-1779552000@thekerrvillelife.com
SUMMARY:John Moore Live at Singing Water Vineyards
DESCRIPTION:John Moore performs live at Singing Water Vineyards in Comfort on Saturday\, May 23\, 2026 from 1 pm to 4 pm. This afternoon performance features a selection of favorite hits from the 1970s\, delivered with a smooth tenor style that pairs well with a relaxed winery setting. \nJohn Moore creates an easygoing atmosphere\, offering guests a chance to unwind with live music while enjoying the vineyard’s scenic surroundings and a glass of wine. \nThis all-ages event is free and open to the public\, with no tickets required. Singing Water Vineyards is located in Comfort\, TX. For more information\, contact the venue directly.
URL:https://thekerrvillelife.com/event/john-moore-live-at-singing-water-vineyards/
LOCATION:Singing Water Vineyards\, 316 Mill Dam Rd\, Comfort\, TX\, 78013\, United States
CATEGORIES:Music
ATTACH;FMTTYPE=image/jpeg:https://thekerrvillelife.com/wp-content/uploads/2026/04/john-moore-live-at-singing-water-vineyards.jpg
END:VEVENT
BEGIN:VEVENT
DTSTART;TZID=America/Chicago:20260523T170000
DTEND;TZID=America/Chicago:20260523T200000
DTSTAMP:20260423T100951
CREATED:20260415T022424Z
LAST-MODIFIED:20260415T022424Z
UID:81171-1779555600-1779566400@thekerrvillelife.com
SUMMARY:Meagan Tubb Live at Singing Water Vineyards
DESCRIPTION:Meagan Tubb performs live at Singing Water Vineyards in Comfort on Saturday\, May 23\, 2026 from 5 pm to 8 pm. This evening show features a dynamic blend of classic rock\, blues\, soul\, Americana\, and funk\, creating an energetic and immersive live music experience. \nMeagan Tubb is known for powerful vocals and a richly layered sound\, backed by a band that incorporates dual lead guitars\, slide guitar\, and strong harmonies. With a career that includes opening for Willie Nelson\, award-winning songwriting\, and extensive touring across the U.S. and internationally\, her performances bring both depth and high energy to the stage. \nThis all-ages event is free and open to the public\, with no tickets required. Singing Water Vineyards is located in Comfort\, TX. For more information\, contact the venue directly.
URL:https://thekerrvillelife.com/event/meagan-tubb-live-at-singing-water-vineyards/
LOCATION:Singing Water Vineyards\, 316 Mill Dam Rd\, Comfort\, TX\, 78013\, United States
CATEGORIES:Music
ATTACH;FMTTYPE=image/jpeg:https://thekerrvillelife.com/wp-content/uploads/2026/04/meagan-tubb-live-at-singing-water-vineyards.jpg
END:VEVENT
BEGIN:VEVENT
DTSTART;TZID=America/Chicago:20260524T130000
DTEND;TZID=America/Chicago:20260524T160000
DTSTAMP:20260423T100951
CREATED:20260415T022604Z
LAST-MODIFIED:20260415T022604Z
UID:81173-1779627600-1779638400@thekerrvillelife.com
SUMMARY:Matt Kirk Live at Singing Water Vineyards
DESCRIPTION:Matt Kirk performs live at Singing Water Vineyards in Comfort on Sunday\, May 24\, 2026 from 1 pm to 4 pm. This afternoon show features a blend of Texas-rooted music shaped by deep family traditions and Hill Country influences. \nMatt Kirk brings a lifetime of musical experience to the stage\, having grown up in a talented musical family in the San Antonio and New Braunfels area. He began performing at a young age\, even sharing the stage with Texas icon Kinky Friedman as a child. His background\, including collaborations with his mother Sylvia Kirk\, reflects a strong connection to the Texas songwriting tradition. \nThis all-ages event is free and open to the public\, with no tickets required. Singing Water Vineyards is located in Comfort\, TX. For more information\, contact the venue directly.
URL:https://thekerrvillelife.com/event/matt-kirk-live-at-singing-water-vineyards/
LOCATION:Singing Water Vineyards\, 316 Mill Dam Rd\, Comfort\, TX\, 78013\, United States
CATEGORIES:Music
ATTACH;FMTTYPE=image/jpeg:https://thekerrvillelife.com/wp-content/uploads/2026/04/matt-kirk-live-at-singing-water-vineyards.jpg
END:VEVENT
BEGIN:VEVENT
DTSTART;TZID=America/Chicago:20260524T180000
DTEND;TZID=America/Chicago:20260524T210000
DTSTAMP:20260423T100951
CREATED:20260415T022756Z
LAST-MODIFIED:20260415T022756Z
UID:81175-1779645600-1779656400@thekerrvillelife.com
SUMMARY:Brad Normandeau Live at Singing Water Vineyards
DESCRIPTION:Brad Normandeau performs live at Singing Water Vineyards in Comfort on Sunday\, May 24\, 2026 at 6 pm. This evening show features a timeless mix of classic and contemporary crooner favorites in a relaxed Hill Country setting. \nBrad Normandeau brings a smooth vocal style to songs made famous by artists such as Frank Sinatra\, Dean Martin\, Billy Joel\, Michael Bublé\, Nat King Cole\, and Elvis Presley. His performance blends nostalgia with a modern touch\, creating an enjoyable experience for a wide range of audiences. \nAdmission is free and open to the public on a first-come\, first-served basis. Wine and food will be available for purchase on-site\, and outside food and alcohol are not permitted. \nSinging Water Vineyards is located in Comfort\, TX. For more information\, contact the venue directly.
URL:https://thekerrvillelife.com/event/brad-normandeau-live-at-singing-water-vineyards/
LOCATION:Singing Water Vineyards\, 316 Mill Dam Rd\, Comfort\, TX\, 78013\, United States
CATEGORIES:Music
ATTACH;FMTTYPE=image/jpeg:https://thekerrvillelife.com/wp-content/uploads/2026/04/brad-normandeau-live-at-singing-water-vineyards.jpg
END:VEVENT
END:VCALENDAR