BEGIN:VCALENDAR
VERSION:2.0
PRODID:-//The Kerrville Life - ECPv6.15.20//NONSGML v1.0//EN
CALSCALE:GREGORIAN
METHOD:PUBLISH
X-WR-CALNAME:The Kerrville Life
X-ORIGINAL-URL:https://thekerrvillelife.com
X-WR-CALDESC:Events for The Kerrville Life
REFRESH-INTERVAL;VALUE=DURATION:PT1H
X-Robots-Tag:noindex
X-PUBLISHED-TTL:PT1H
BEGIN:VTIMEZONE
TZID:America/Chicago
BEGIN:DAYLIGHT
TZOFFSETFROM:-0600
TZOFFSETTO:-0500
TZNAME:CDT
DTSTART:20250309T080000
END:DAYLIGHT
BEGIN:STANDARD
TZOFFSETFROM:-0500
TZOFFSETTO:-0600
TZNAME:CST
DTSTART:20251102T070000
END:STANDARD
BEGIN:DAYLIGHT
TZOFFSETFROM:-0600
TZOFFSETTO:-0500
TZNAME:CDT
DTSTART:20260308T080000
END:DAYLIGHT
BEGIN:STANDARD
TZOFFSETFROM:-0500
TZOFFSETTO:-0600
TZNAME:CST
DTSTART:20261101T070000
END:STANDARD
BEGIN:DAYLIGHT
TZOFFSETFROM:-0600
TZOFFSETTO:-0500
TZNAME:CDT
DTSTART:20270314T080000
END:DAYLIGHT
BEGIN:STANDARD
TZOFFSETFROM:-0500
TZOFFSETTO:-0600
TZNAME:CST
DTSTART:20271107T070000
END:STANDARD
END:VTIMEZONE
BEGIN:VEVENT
DTSTART;TZID=America/Chicago:20260504T170000
DTEND;TZID=America/Chicago:20260504T183000
DTSTAMP:20260419T214905
CREATED:20251216T002816Z
LAST-MODIFIED:20251216T002816Z
UID:79813-1777914000-1777919400@thekerrvillelife.com
SUMMARY:KAC Young Professionals Meeting
DESCRIPTION:The KAC Young Professionals Meeting provides a networking opportunity for emerging and established professionals connected to the Kerrville Area Chamber of Commerce. These monthly gatherings are designed to encourage relationship-building\, professional growth\, and community involvement in a relaxed and engaging setting. \nMeetings are held on the first Monday of each month from 5:15 pm to 6:30 pm\, with the location changing monthly. Admission is free and open to current Chamber members or their listed representatives who are employed with a current Chamber member. Updated meeting locations and additional details are available at https://www.kerrvillechamber.biz/young-professionals/. \nKim Pendergraft serves as the Chamber liaison for this networking opportunity and can be reached at (830) 896-1155 for more information.
URL:https://thekerrvillelife.com/event/kac-young-professionals-meeting-4/2026-05-04/
LOCATION:TX
CATEGORIES:General
ATTACH;FMTTYPE=image/jpeg:https://thekerrvillelife.com/wp-content/uploads/2025/12/kac-young-professionals-meeting.jpg
END:VEVENT
BEGIN:VEVENT
DTSTART;TZID=America/Chicago:20260505T150000
DTEND;TZID=America/Chicago:20260505T170000
DTSTAMP:20260419T214905
CREATED:20251216T003236Z
LAST-MODIFIED:20251216T003236Z
UID:79825-1777993200-1778000400@thekerrvillelife.com
SUMMARY:River Point of Kerrville Caregivers Café
DESCRIPTION:River Point of Kerrville hosts the Caregivers Café as a supportive gathering for those caring for individuals with dementia. This monthly meet-up offers a relaxed setting where caregivers can connect over coffee and desserts while sharing ideas\, information\, experiences\, and encouragement with others who understand the journey. \nThe Caregivers Café is held on the first Tuesday of every month from 3 pm to 5 pm at River Point of Kerrville. Admission is free and open to dementia caregivers seeking community and support. For additional information\, contact Valerie Newport at (830) 955-3214. \nRiver Point of Kerrville also provides a variety of social and recreational activities for residents\, creating opportunities for connection and engagement within the community.
URL:https://thekerrvillelife.com/event/river-point-of-kerrville-caregivers-cafe-2/2026-05-05/
LOCATION:River Point of Kerrville\, 1441 Bandera Highway\, Kerrville\, TX\, 78028\, United States
CATEGORIES:Food & Drink
ATTACH;FMTTYPE=image/jpeg:https://thekerrvillelife.com/wp-content/uploads/2025/08/river-point-of-kerrville-caregivers-cafe.jpg
END:VEVENT
BEGIN:VEVENT
DTSTART;TZID=America/Chicago:20260505T170000
DTEND;TZID=America/Chicago:20260505T233000
DTSTAMP:20260419T214905
CREATED:20260406T052529Z
LAST-MODIFIED:20260406T052844Z
UID:81101-1778000400-1778023800@thekerrvillelife.com
SUMMARY:Latin Night Every Tuesday at Divine's Sports Bar
DESCRIPTION:Latin Night takes place every Tuesday from 5 pm to 12 am at Divine’s Sports Bar in Kerrville\, bringing a lively mix of Tejano and Cumbia music to the dance floor each week. \nGuests can enjoy a festive atmosphere with music perfect for dancing\, along with drink specials including $3 Mexican Candy shots and $4 frozen margaritas. The event offers a fun and social midweek outing for those looking to enjoy Latin music and connect with others. \nLotería nights are also hosted periodically\, with special drink offers for players. Guests are encouraged to follow the venue for announcements\, as seating for Lotería events is limited and fills quickly. \nDivine’s Sports Bar is located in Kerrville\, TX. For more information\, contact the venue directly.
URL:https://thekerrvillelife.com/event/latin-night-every-tuesday-at-divines-sports-bar/2026-05-05/
LOCATION:Divine’s Sports Bar\, 225 Earl Garrett Street East\, Kerrville\, TX\, 78028\, United States
CATEGORIES:Music
ATTACH;FMTTYPE=image/jpeg:https://thekerrvillelife.com/wp-content/uploads/2026/04/latin-night-every-tuesday-at-divines-sports-bar.jpg
END:VEVENT
BEGIN:VEVENT
DTSTART;TZID=America/Chicago:20260506T110000
DTEND;TZID=America/Chicago:20260506T140000
DTSTAMP:20260419T214905
CREATED:20260305T011655Z
LAST-MODIFIED:20260305T011655Z
UID:80755-1778065200-1778076000@thekerrvillelife.com
SUMMARY:Friends of the Library Book Sale at Butt-Holdsworth Memorial Library
DESCRIPTION:The Friends of the Butt-Holdsworth Memorial Library host their ongoing Book Sale throughout 2026\, offering a wide selection of gently used books\, DVDs\, and CDs at very affordable prices. The bookstore operates every Wednesday from 11 am to 2 pm\, with additional sales held from 11 am to 2 pm on the second Saturday of each month. \nShoppers can browse thousands of titles across a variety of genres while supporting the programs and services of the library. The book sale is open to all ages and provides a great opportunity to discover new reads and media at bargain prices. \nThose interested in volunteering with the Friends of the Library can email fobhml@gmail.com or contact the library at 830-258-1274 for more information. \nThe Butt-Holdsworth Memorial Library is located at 505 Water St.\, Kerrville\, TX 78028. For additional details\, call (830) 257-8422.
URL:https://thekerrvillelife.com/event/friends-of-the-library-book-sale-at-butt-holdsworth-memorial-library-6/2026-05-06/
LOCATION:Butt-Holdsworth Memorial Library\, 505 Water Street\, Kerrville\, TX\, 78028\, United States
CATEGORIES:General
ATTACH;FMTTYPE=image/jpeg:https://thekerrvillelife.com/wp-content/uploads/2026/01/friends-of-the-library-book-sale-at-butt-holdsworth-memorial-library.jpg
END:VEVENT
BEGIN:VEVENT
DTSTART;TZID=America/Chicago:20260506T170000
DTEND;TZID=America/Chicago:20260506T233000
DTSTAMP:20260419T214905
CREATED:20260406T033936Z
LAST-MODIFIED:20260406T052752Z
UID:81061-1778086800-1778110200@thekerrvillelife.com
SUMMARY:Country Night Every Wednesday at Divine's Sports Bar
DESCRIPTION:Country Night takes place every Wednesday from 5 pm to 12 am at Divine’s Sports Bar in Kerrville. This weekly event brings a lively country atmosphere with music\, dancing\, and drink specials. \nGuests can enjoy country classics and line dancing favorites throughout the night\, whether arriving with a partner or finding one on the dance floor. Drink specials include $5 call liquors\, featuring popular options like Jameson\, Deep Eddy’s\, Malibu\, Jack Daniel’s\, and more\, with bartenders available to help guide selections. \nThe event offers a fun and casual midweek outing for those looking to dance\, socialize\, and enjoy country music in a welcoming bar setting. \nDivine’s Sports Bar is located in Kerrville\, TX. For more information\, contact the venue directly.
URL:https://thekerrvillelife.com/event/country-night-every-wednesday-at-divines-sports-bar/2026-05-06/
LOCATION:Divine’s Sports Bar\, 225 Earl Garrett Street East\, Kerrville\, TX\, 78028\, United States
CATEGORIES:Music
ATTACH;FMTTYPE=image/jpeg:https://thekerrvillelife.com/wp-content/uploads/2026/04/country-night-every-wednesday-at-divines-sports-bar.jpg
END:VEVENT
BEGIN:VEVENT
DTSTART;TZID=America/Chicago:20260506T180000
DTEND;TZID=America/Chicago:20260506T220000
DTSTAMP:20260419T214905
CREATED:20251120T000728Z
LAST-MODIFIED:20251120T000728Z
UID:79495-1778090400-1778104800@thekerrvillelife.com
SUMMARY:Wednesday Karaoke Night at Gravity Check Saloon & Arena
DESCRIPTION:Singers of all levels can take the stage for a fun midweek night of music during Wednesday Karaoke Night at Gravity Check Saloon & Arena. Guests can belt out country classics\, rock anthems\, and pop favorites while enjoying a lively\, welcoming atmosphere with friends. \nKaraoke begins at 6 pm every Wednesday. The full bar is open until midnight\, and the kitchen serves until 9 pm\, making it easy to fuel up before or after your song. \nGravity Check Saloon & Arena is located at 3979 Bandera Highway\, Pipe Creek\, TX. For more information\, call 830-634-3075 or visit www.gravitychecksaloonandarena.com.
URL:https://thekerrvillelife.com/event/wednesday-karaoke-night-at-gravity-check-saloon-arena/2026-05-06/
LOCATION:Gravity Check Saloon and Arena\, 3979 Bandera Highway (173)\, Kerrville\, TX\, 78028\, United States
CATEGORIES:Music
ATTACH;FMTTYPE=image/jpeg:https://thekerrvillelife.com/wp-content/uploads/2025/09/karaoke-wednesday-nights-at-gravity-check-saloon-and-arena.jpg
END:VEVENT
BEGIN:VEVENT
DTSTART;TZID=America/Chicago:20260506T183000
DTEND;TZID=America/Chicago:20260506T203000
DTSTAMP:20260419T214905
CREATED:20260406T051603Z
LAST-MODIFIED:20260406T051603Z
UID:81088-1778092200-1778099400@thekerrvillelife.com
SUMMARY:Millennial Lotería at Tailchasers Patio + Pub
DESCRIPTION:Millennial Lotería takes place from 6:30 pm to 8:30 pm at Tailchasers Patio + Pub in Kerrville\, offering a modern twist on the classic Mexican bingo-style game. \nGuests can enjoy a lively and social atmosphere while playing for fun and laughs\, with a $5 buy-in per card for each game. The event is designed for groups\, date nights\, and first-time players alike\, creating an easygoing and interactive experience. \nA full bar and kitchen will be available throughout the evening\, along with both indoor seating and a dog-friendly patio. \nTailchasers Patio + Pub is located at 516 Jefferson Street\, Kerrville\, TX 78028. For more information\, contact the venue directly.
URL:https://thekerrvillelife.com/event/millennial-loteria-at-tailchasers-patio-pub/2026-05-06/
LOCATION:Tailchasers Patio + Pub\, 516 Jefferson Street\, Kerrville\, TX\, 78028\, United States
CATEGORIES:General
ATTACH;FMTTYPE=image/jpeg:https://thekerrvillelife.com/wp-content/uploads/2026/04/millenial-loteria-at-tailchasers-patio-pub.jpg
END:VEVENT
BEGIN:VEVENT
DTSTART;TZID=America/Chicago:20260506T183000
DTEND;TZID=America/Chicago:20260506T210000
DTSTAMP:20260419T214905
CREATED:20260415T014130Z
LAST-MODIFIED:20260415T014130Z
UID:81145-1778092200-1778101200@thekerrvillelife.com
SUMMARY:The First Wives Club at The Arcadia Live
DESCRIPTION:The First Wives Club will be featured as part of The Arcadia Live’s 2026 Iconic Film Series\, celebrating classic cinema with a lively and themed movie night experience. The event will take place on May 6\, 2026 from 6:30 pm to 9 pm at The Arcadia Live. \nDoors and the bar open at 6:30 pm\, with the film beginning at 7 pm. Guests can enjoy specialty drinks inspired by the movie\, along with a fun “ladies night” theme that includes free popcorn for those wearing white pantsuits. The evening is designed to bring the film to life in a welcoming and entertaining theater setting. \nAdmission is complimentary thanks to the event sponsor\, Art2Heart\, though reservations are requested to help plan for seating and refreshments. For more information or to reserve a spot\, visit https://www.thearcadialive.org/the-first-wives-club.
URL:https://thekerrvillelife.com/event/the-first-wives-club-at-the-arcadia-live/
LOCATION:Arcadia Live Theatre\, 717 Water Street\, Kerrville\, TX\, 78028\, United States
CATEGORIES:General
ATTACH;FMTTYPE=image/jpeg:https://thekerrvillelife.com/wp-content/uploads/2026/04/the-first-wives-club-at-the-arcadia-live.jpg
END:VEVENT
BEGIN:VEVENT
DTSTART;TZID=America/Chicago:20260507T100000
DTEND;TZID=America/Chicago:20260507T140000
DTSTAMP:20260419T214905
CREATED:20251120T001424Z
LAST-MODIFIED:20251120T001424Z
UID:79556-1778148000-1778162400@thekerrvillelife.com
SUMMARY:Schreiner Mansion Tours at Schreiner Mansion
DESCRIPTION:Step into Kerrville’s past with guided tours of the historic Schreiner Mansion\, built in 1879 and listed on the National Register of Historic Places. Located in downtown Kerrville overlooking Peterson Plaza\, the Mansion offers a close look at period architecture and the legacy of one of the city’s founding families. \nTours are offered on Thursdays from 10 am to 2 pm\, beginning on the half-hour\, with the last tour starting at 1:30 pm. Admission is $10 for adults\, $5 for students\, and $5 for military with ID. Group tours of 10 or more are $8 per person with reservations. \nThe Schreiner Mansion is in Kerrville\, Texas. For more information\, call Stacy Page at (830) 895-5222. Visitors can view a photo gallery and experience a virtual tour on the Schreiner Mansion’s Facebook page\, and learn more about the site’s history online. \nAdditional information: The Mansion is available for special event rentals for $25\,000\, which includes access to the Events at Water Street space in the historic Schreiner Building. Two hours of complimentary photography are included with any event. To schedule an appointment to discuss your event or for further details\, call (830) 895-5222.
URL:https://thekerrvillelife.com/event/schreiner-mansion-tours-at-schreiner-mansion/2026-05-07/
LOCATION:Schreiner Mansion\, 222 Earl Garrett St\, Kerrville\, TX\, 78028\, United States
CATEGORIES:General,Kids & Family
ATTACH;FMTTYPE=image/jpeg:https://thekerrvillelife.com/wp-content/uploads/2025/11/schreiner-mansion-tours-at-schreiner-mansion.jpg
END:VEVENT
BEGIN:VEVENT
DTSTART;TZID=America/Chicago:20260507T113000
DTEND;TZID=America/Chicago:20260507T123000
DTSTAMP:20260419T214905
CREATED:20251215T232939Z
LAST-MODIFIED:20251215T233320Z
UID:79759-1778153400-1778157000@thekerrvillelife.com
SUMMARY:KAC Networking Group at Inn of the Hills Hotel & Conference
DESCRIPTION:The KAC Networking Group offers a professional\, structured environment for local business people to promote their services while building meaningful connections through shared referrals\, knowledge\, and expertise. Hosted by the Kerrville Area Chamber of Commerce\, this networking group is designed to foster collaboration among members while maintaining a focused and organized format. \nMeetings take place from 11:30 am to 12:30 pm on the first and third Thursday of every month at the Inn of the Hills Hotel & Conference\, located at 1001 Junction Highway in Kerrville\, Texas. The group follows a one-industry-per-person model\, with membership available on a first-come\, first-served basis\, ensuring a diverse range of professional representation. \nParticipation is available to members of the Kerrville Area Chamber of Commerce\, and attendees can expect a consistent opportunity to build relationships and exchange business referrals in a supportive setting. For additional details about membership or meeting availability\, contact the Kerrville Area Chamber of Commerce directly.
URL:https://thekerrvillelife.com/event/kac-networking-group-at-inn-of-the-hills-hotel-conference/2026-05-07/
LOCATION:Inn of the Hills\, 1001 Junction Highway\, Kerrville\, TX\, 78028\, United States
CATEGORIES:Business & Networking
ATTACH;FMTTYPE=image/jpeg:https://thekerrvillelife.com/wp-content/uploads/2025/08/kac-networking-group-at-inn-of-the-hills.jpg
END:VEVENT
BEGIN:VEVENT
DTSTART;TZID=America/Chicago:20260507T170000
DTEND;TZID=America/Chicago:20260507T200000
DTSTAMP:20260419T214905
CREATED:20250821T094324Z
LAST-MODIFIED:20251120T003248Z
UID:79627-1778173200-1778184000@thekerrvillelife.com
SUMMARY:Country Nights Open Mic at Gravity Check Saloon and Arena
DESCRIPTION:Country music fans can enjoy an easygoing evening of live local talent during Country Nights Open Mic at Gravity Check Saloon. Listeners can relax to a mix of classic and contemporary country\, while aspiring performers are welcome to bring an instrument and take a turn on stage. \nThe open mic runs every Thursday from 6 pm to 10 pm\, with the grill serving until 9 pm. \nGravity Check Saloon is located in Kerrville\, Texas.
URL:https://thekerrvillelife.com/event/country-nights-open-mic-at-gravity-check-saloon-and-arena/2026-05-07/
LOCATION:Gravity Check Saloon and Arena\, 3979 Bandera Highway (173)\, Kerrville\, TX\, 78028\, United States
CATEGORIES:Music
ATTACH;FMTTYPE=image/jpeg:https://thekerrvillelife.com/wp-content/uploads/2025/08/country-nights-open-mic-at-gravity-check-saloon-and-arena.jpg
END:VEVENT
BEGIN:VEVENT
DTSTART;TZID=America/Chicago:20260507T190000
DTEND;TZID=America/Chicago:20260507T220000
DTSTAMP:20260419T214905
CREATED:20251215T233839Z
LAST-MODIFIED:20251215T233839Z
UID:79792-1778180400-1778191200@thekerrvillelife.com
SUMMARY:Hill Country Amateur Radio Club at Union Church Building on Memorial Boulevard
DESCRIPTION:The Hill Country Amateur Radio Club provides a welcoming space for amateur radio enthusiasts to connect\, share knowledge\, and stay engaged with the hobby through regular monthly meetings. The club supports both experienced operators and those new to amateur radio by offering opportunities for learning\, discussion\, and community involvement. \nMeetings are held on the first Thursday of each month at the Union Church Building on Memorial Boulevard. Doors open at 6:30 pm\, with the meeting beginning at 7 pm. Admission is free and open to the public. Additional information about the club\, including upcoming activities and resources\, is available at http://kerrhams.org.
URL:https://thekerrvillelife.com/event/hill-country-amateur-radio-club-at-union-church-building-on-memorial-boulevard/2026-05-07/
LOCATION:Union Church Building\, 101 Travis St\, Kerrville\, TX\, 78028\, United States
CATEGORIES:General
ATTACH;FMTTYPE=image/jpeg:https://thekerrvillelife.com/wp-content/uploads/2025/08/hill-country-amateur-radio-club-monthly-meeting.jpg
END:VEVENT
BEGIN:VEVENT
DTSTART;TZID=America/Chicago:20260509T093000
DTEND;TZID=America/Chicago:20260509T153000
DTSTAMP:20260419T214905
CREATED:20260406T031319Z
LAST-MODIFIED:20260406T031404Z
UID:81017-1778319000-1778340600@thekerrvillelife.com
SUMMARY:Watercolor Batik Workshop at Kerr Arts & Cultural Center
DESCRIPTION:The Watercolor Batik Workshop takes place on Saturday\, May 9\, 2026 from 9:30 am to 3:30 pm at the Kerr Arts & Cultural Center in Kerrville. This hands-on class introduces participants to the unique batik technique using watercolor and wax. \nLed by instructor Kandi Stimson\, the workshop teaches how to build layers of watercolor and hot wax on Japanese rice paper\, followed by the final step of ironing away the wax to reveal a finished painting. This process creates rich textures and an old-world aesthetic that adds depth and character to each piece. \nThis class is best suited for students with some prior watercolor experience. A supply list will be provided after registration. \nTuition is $90. Registration is available at https://lp.constantcontactpages.com/ev/reg/bx8m3ck/lp/838484a0-58f7-4236-ac44-f449e0921c97. \nThe Kerr Arts & Cultural Center is located at 228 Earl Garrett Street\, Kerrville\, TX 78028. For more information\, contact the center directly.
URL:https://thekerrvillelife.com/event/watercolor-batik-workshop-at-kerr-arts-cultural-center/
LOCATION:Kerr Arts & Cultural Center\, 228 Earl Garrett Street\, Kerrville\, TX\, 78028\, United States
CATEGORIES:Arts & Culture
ATTACH;FMTTYPE=image/jpeg:https://thekerrvillelife.com/wp-content/uploads/2026/04/watercolor-batik-workshop-at-kerr-arts-and-cultural-center.jpg
END:VEVENT
BEGIN:VEVENT
DTSTART;TZID=America/Chicago:20260509T100000
DTEND;TZID=America/Chicago:20260509T160000
DTSTAMP:20260419T214905
CREATED:20251216T013103Z
LAST-MODIFIED:20260403T141346Z
UID:79897-1778320800-1778342400@thekerrvillelife.com
SUMMARY:Friends of the Library Book Sale at Butt-Holdsworth Memorial Library
DESCRIPTION:The Friends of the Library Book Sale offers a monthly opportunity to browse a wide selection of books while supporting local library programs and services. Shoppers can explore a variety of titles during this community sale held in a convenient\, central location. \nThe book sale takes place on the second Saturday of every month from 10 am to 4 pm at the Butt-Holdsworth Memorial Library. The event is open to the public. \nIt’s a great chance to score a fantastic deal on some new (to you) books for your collection.
URL:https://thekerrvillelife.com/event/friends-of-the-library-book-sale-at-kerrville-area-chamber-of-commerce/2026-05-09/
LOCATION:Kerrville Area Chamber of Commerce\, 1700 Sidney Baker\, Suite 100\, Kerrville\, TX\, 78028\, United States
CATEGORIES:Kids & Family
ATTACH;FMTTYPE=image/jpeg:https://thekerrvillelife.com/wp-content/uploads/2025/08/friends-of-the-library-book-sale-at-kerrville-area-chamber-of-commerce.jpg
END:VEVENT
BEGIN:VEVENT
DTSTART;TZID=America/Chicago:20260509T130000
DTEND;TZID=America/Chicago:20260509T160000
DTSTAMP:20260419T214905
CREATED:20260415T020530Z
LAST-MODIFIED:20260415T020530Z
UID:81157-1778331600-1778342400@thekerrvillelife.com
SUMMARY:Tim Russo Live at Singing Water Vineyards
DESCRIPTION:A live performance by Tim Russo takes place on Saturday\, May 9\, 2026 from 1 pm to 4 pm at Singing Water Vineyards. This all-ages event offers a relaxing afternoon of live music in a scenic Hill Country setting. \nTim Russo is a versatile singer-songwriter known for his smooth vocals and wide-ranging repertoire\, covering genres such as R&B\, soul\, country\, and classic standards. Drawing inspiration from artists like Frank Sinatra\, Michael Bublé\, The Temptations\, Al Green\, Kenny Rogers\, Lionel Richie\, Diamond Rio\, and Brad Paisley\, his performances blend nostalgia with a fresh\, engaging style. Accompanied by keyboard and acoustic guitar\, Russo delivers a rich and dynamic musical experience. \nAdmission is free\, and no tickets are required. \nSinging Water Vineyards is located in Comfort\, TX. For more information\, contact the venue directly.
URL:https://thekerrvillelife.com/event/tim-russo-live-at-singing-water-vineyards/
LOCATION:Singing Water Vineyards\, 316 Mill Dam Rd\, Comfort\, TX\, 78013\, United States
CATEGORIES:Music
ATTACH;FMTTYPE=image/jpeg:https://thekerrvillelife.com/wp-content/uploads/2026/04/tim-russo-live-at-singing-water-vineyards.jpg
END:VEVENT
BEGIN:VEVENT
DTSTART;TZID=America/Chicago:20260509T180000
DTEND;TZID=America/Chicago:20260509T210000
DTSTAMP:20260419T214905
CREATED:20260415T014326Z
LAST-MODIFIED:20260415T014326Z
UID:81147-1778349600-1778360400@thekerrvillelife.com
SUMMARY:Girls Just Wanna Play Bingo at The Arcadia Live
DESCRIPTION:Girls Just Wanna Play Bingo brings a lively and spirited twist to a classic game as part of a Mother’s Day weekend celebration at The Arcadia Live. The event will take place on May 9\, 2026 from 6 pm to 9 pm. \nThis high-energy bingo night features specialty cocktails\, mini desserts\, and a fun\, social atmosphere designed for moms\, daughters\, friends\, and anyone looking for a memorable night out. Rhinestone cowgirl attire is encouraged\, adding to the festive and playful vibe of the evening. Tickets include one complimentary cocktail and dessert\, with bingo supplies available for purchase at the theater\, including $10 for a book of cards covering all games and $2 for dobbers. \nThroughout the night\, guests can compete for prizes such as purses\, tickets to future Arcadia events\, and a cash prize during the final round. Additional bingo cards can be purchased between rounds\, and shots will be available\, so bringing small bills is recommended. In the case of a tie\, winners will be decided with a round of rock\, paper\, scissors. \nThis event is for guests 21 and older. For more information or to reserve tickets\, visit https://www.thearcadialive.org/girlsjustwannaplaybingo.
URL:https://thekerrvillelife.com/event/girls-just-wanna-play-bingo-at-the-arcadia-live/
LOCATION:Arcadia Live Theatre\, 717 Water Street\, Kerrville\, TX\, 78028\, United States
CATEGORIES:General
ATTACH;FMTTYPE=image/jpeg:https://thekerrvillelife.com/wp-content/uploads/2026/04/girls-just-wanna-play-bingo-at-the-arcadia-live.jpg
END:VEVENT
BEGIN:VEVENT
DTSTART;TZID=America/Chicago:20260510T130000
DTEND;TZID=America/Chicago:20260510T160000
DTSTAMP:20260419T214905
CREATED:20260415T021200Z
LAST-MODIFIED:20260415T021200Z
UID:81159-1778418000-1778428800@thekerrvillelife.com
SUMMARY:Ty Dillon Live at Singing Water Vineyards
DESCRIPTION:A live performance by Ty Dillon takes place on Sunday\, May 10\, 2026 from 1 pm to 4 pm at Singing Water Vineyards. This all-ages event offers a laid-back afternoon of music in a scenic Hill Country setting. \nTy Dillon brings his signature “Sunday Morning Country Music” style—a blend of heartfelt storytelling\, soulful tones\, and easygoing melodies that connect with audiences in a meaningful way. His music captures a mix of reflection\, rest\, and feel-good Sunday vibes. \nAdmission is free\, and no tickets are required. \nSinging Water Vineyards is located in Comfort\, TX. For more information\, contact the venue directly.
URL:https://thekerrvillelife.com/event/ty-dillon-live-at-singing-water-vineyards/
LOCATION:Singing Water Vineyards\, 316 Mill Dam Rd\, Comfort\, TX\, 78013\, United States
CATEGORIES:Music
END:VEVENT
END:VCALENDAR