BEGIN:VCALENDAR
VERSION:2.0
PRODID:-//The Kerrville Life - ECPv6.15.20//NONSGML v1.0//EN
CALSCALE:GREGORIAN
METHOD:PUBLISH
X-WR-CALNAME:The Kerrville Life
X-ORIGINAL-URL:https://thekerrvillelife.com
X-WR-CALDESC:Events for The Kerrville Life
REFRESH-INTERVAL;VALUE=DURATION:PT1H
X-Robots-Tag:noindex
X-PUBLISHED-TTL:PT1H
BEGIN:VTIMEZONE
TZID:America/Chicago
BEGIN:DAYLIGHT
TZOFFSETFROM:-0600
TZOFFSETTO:-0500
TZNAME:CDT
DTSTART:20250309T080000
END:DAYLIGHT
BEGIN:STANDARD
TZOFFSETFROM:-0500
TZOFFSETTO:-0600
TZNAME:CST
DTSTART:20251102T070000
END:STANDARD
BEGIN:DAYLIGHT
TZOFFSETFROM:-0600
TZOFFSETTO:-0500
TZNAME:CDT
DTSTART:20260308T080000
END:DAYLIGHT
BEGIN:STANDARD
TZOFFSETFROM:-0500
TZOFFSETTO:-0600
TZNAME:CST
DTSTART:20261101T070000
END:STANDARD
BEGIN:DAYLIGHT
TZOFFSETFROM:-0600
TZOFFSETTO:-0500
TZNAME:CDT
DTSTART:20270314T080000
END:DAYLIGHT
BEGIN:STANDARD
TZOFFSETFROM:-0500
TZOFFSETTO:-0600
TZNAME:CST
DTSTART:20271107T070000
END:STANDARD
END:VTIMEZONE
BEGIN:VEVENT
DTSTART;TZID=America/Chicago:20260427T190000
DTEND;TZID=America/Chicago:20260427T200000
DTSTAMP:20260419T232855
CREATED:20260406T023031Z
LAST-MODIFIED:20260406T023212Z
UID:80998-1777316400-1777320000@thekerrvillelife.com
SUMMARY:Monday Night Fiction: The Midnight Library at Schreiner University
DESCRIPTION:Monday Night Fiction continues on April 27\, 2026 from 7 pm to 8 pm at the Logan Library\, Scarle Philips Room on the Schreiner University campus. This free event invites readers to gather for an evening of thoughtful discussion centered on The Midnight Library by Matt Haig. \nHosted by Elsa Glover\, the discussion offers a welcoming space for participants to share insights\, reflect on the book’s themes\, and engage in meaningful conversation with fellow readers. \nAdmission is free and open to everyone. \nSchreiner University Logan Library is located at 2100 Memorial Blvd.\, Kerrville\, TX 78028. For more information\, contact the university directly.
URL:https://thekerrvillelife.com/event/monday-night-fiction-the-midnight-library-at-schreiner-university/
LOCATION:Schreiner University\, 2100 Memorial Boulevard\, Kerrville\, TX\, 78028\, United States
CATEGORIES:General
ATTACH;FMTTYPE=image/jpeg:https://thekerrvillelife.com/wp-content/uploads/2026/04/monday-night-fiction-the-midnight-library-at-schreiner-university.jpg
END:VEVENT
BEGIN:VEVENT
DTSTART;TZID=America/Chicago:20260428T170000
DTEND;TZID=America/Chicago:20260428T233000
DTSTAMP:20260419T232855
CREATED:20260406T052529Z
LAST-MODIFIED:20260406T052843Z
UID:81100-1777395600-1777419000@thekerrvillelife.com
SUMMARY:Latin Night Every Tuesday at Divine's Sports Bar
DESCRIPTION:Latin Night takes place every Tuesday from 5 pm to 12 am at Divine’s Sports Bar in Kerrville\, bringing a lively mix of Tejano and Cumbia music to the dance floor each week. \nGuests can enjoy a festive atmosphere with music perfect for dancing\, along with drink specials including $3 Mexican Candy shots and $4 frozen margaritas. The event offers a fun and social midweek outing for those looking to enjoy Latin music and connect with others. \nLotería nights are also hosted periodically\, with special drink offers for players. Guests are encouraged to follow the venue for announcements\, as seating for Lotería events is limited and fills quickly. \nDivine’s Sports Bar is located in Kerrville\, TX. For more information\, contact the venue directly.
URL:https://thekerrvillelife.com/event/latin-night-every-tuesday-at-divines-sports-bar/2026-04-28/
LOCATION:Divine’s Sports Bar\, 225 Earl Garrett Street East\, Kerrville\, TX\, 78028\, United States
CATEGORIES:Music
ATTACH;FMTTYPE=image/jpeg:https://thekerrvillelife.com/wp-content/uploads/2026/04/latin-night-every-tuesday-at-divines-sports-bar.jpg
END:VEVENT
BEGIN:VEVENT
DTSTART;TZID=America/Chicago:20260429T110000
DTEND;TZID=America/Chicago:20260429T140000
DTSTAMP:20260419T232855
CREATED:20260305T011655Z
LAST-MODIFIED:20260305T011655Z
UID:80754-1777460400-1777471200@thekerrvillelife.com
SUMMARY:Friends of the Library Book Sale at Butt-Holdsworth Memorial Library
DESCRIPTION:The Friends of the Butt-Holdsworth Memorial Library host their ongoing Book Sale throughout 2026\, offering a wide selection of gently used books\, DVDs\, and CDs at very affordable prices. The bookstore operates every Wednesday from 11 am to 2 pm\, with additional sales held from 11 am to 2 pm on the second Saturday of each month. \nShoppers can browse thousands of titles across a variety of genres while supporting the programs and services of the library. The book sale is open to all ages and provides a great opportunity to discover new reads and media at bargain prices. \nThose interested in volunteering with the Friends of the Library can email fobhml@gmail.com or contact the library at 830-258-1274 for more information. \nThe Butt-Holdsworth Memorial Library is located at 505 Water St.\, Kerrville\, TX 78028. For additional details\, call (830) 257-8422.
URL:https://thekerrvillelife.com/event/friends-of-the-library-book-sale-at-butt-holdsworth-memorial-library-6/2026-04-29/
LOCATION:Butt-Holdsworth Memorial Library\, 505 Water Street\, Kerrville\, TX\, 78028\, United States
CATEGORIES:General
ATTACH;FMTTYPE=image/jpeg:https://thekerrvillelife.com/wp-content/uploads/2026/01/friends-of-the-library-book-sale-at-butt-holdsworth-memorial-library.jpg
END:VEVENT
BEGIN:VEVENT
DTSTART;TZID=America/Chicago:20260429T170000
DTEND;TZID=America/Chicago:20260429T233000
DTSTAMP:20260419T232855
CREATED:20260406T033936Z
LAST-MODIFIED:20260406T052752Z
UID:81060-1777482000-1777505400@thekerrvillelife.com
SUMMARY:Country Night Every Wednesday at Divine's Sports Bar
DESCRIPTION:Country Night takes place every Wednesday from 5 pm to 12 am at Divine’s Sports Bar in Kerrville. This weekly event brings a lively country atmosphere with music\, dancing\, and drink specials. \nGuests can enjoy country classics and line dancing favorites throughout the night\, whether arriving with a partner or finding one on the dance floor. Drink specials include $5 call liquors\, featuring popular options like Jameson\, Deep Eddy’s\, Malibu\, Jack Daniel’s\, and more\, with bartenders available to help guide selections. \nThe event offers a fun and casual midweek outing for those looking to dance\, socialize\, and enjoy country music in a welcoming bar setting. \nDivine’s Sports Bar is located in Kerrville\, TX. For more information\, contact the venue directly.
URL:https://thekerrvillelife.com/event/country-night-every-wednesday-at-divines-sports-bar/2026-04-29/
LOCATION:Divine’s Sports Bar\, 225 Earl Garrett Street East\, Kerrville\, TX\, 78028\, United States
CATEGORIES:Music
ATTACH;FMTTYPE=image/jpeg:https://thekerrvillelife.com/wp-content/uploads/2026/04/country-night-every-wednesday-at-divines-sports-bar.jpg
END:VEVENT
BEGIN:VEVENT
DTSTART;TZID=America/Chicago:20260429T180000
DTEND;TZID=America/Chicago:20260429T220000
DTSTAMP:20260419T232855
CREATED:20251120T000728Z
LAST-MODIFIED:20251120T000728Z
UID:79494-1777485600-1777500000@thekerrvillelife.com
SUMMARY:Wednesday Karaoke Night at Gravity Check Saloon & Arena
DESCRIPTION:Singers of all levels can take the stage for a fun midweek night of music during Wednesday Karaoke Night at Gravity Check Saloon & Arena. Guests can belt out country classics\, rock anthems\, and pop favorites while enjoying a lively\, welcoming atmosphere with friends. \nKaraoke begins at 6 pm every Wednesday. The full bar is open until midnight\, and the kitchen serves until 9 pm\, making it easy to fuel up before or after your song. \nGravity Check Saloon & Arena is located at 3979 Bandera Highway\, Pipe Creek\, TX. For more information\, call 830-634-3075 or visit www.gravitychecksaloonandarena.com.
URL:https://thekerrvillelife.com/event/wednesday-karaoke-night-at-gravity-check-saloon-arena/2026-04-29/
LOCATION:Gravity Check Saloon and Arena\, 3979 Bandera Highway (173)\, Kerrville\, TX\, 78028\, United States
CATEGORIES:Music
ATTACH;FMTTYPE=image/jpeg:https://thekerrvillelife.com/wp-content/uploads/2025/09/karaoke-wednesday-nights-at-gravity-check-saloon-and-arena.jpg
END:VEVENT
BEGIN:VEVENT
DTSTART;TZID=America/Chicago:20260429T183000
DTEND;TZID=America/Chicago:20260429T203000
DTSTAMP:20260419T232855
CREATED:20260406T051603Z
LAST-MODIFIED:20260406T051603Z
UID:81087-1777487400-1777494600@thekerrvillelife.com
SUMMARY:Millennial Lotería at Tailchasers Patio + Pub
DESCRIPTION:Millennial Lotería takes place from 6:30 pm to 8:30 pm at Tailchasers Patio + Pub in Kerrville\, offering a modern twist on the classic Mexican bingo-style game. \nGuests can enjoy a lively and social atmosphere while playing for fun and laughs\, with a $5 buy-in per card for each game. The event is designed for groups\, date nights\, and first-time players alike\, creating an easygoing and interactive experience. \nA full bar and kitchen will be available throughout the evening\, along with both indoor seating and a dog-friendly patio. \nTailchasers Patio + Pub is located at 516 Jefferson Street\, Kerrville\, TX 78028. For more information\, contact the venue directly.
URL:https://thekerrvillelife.com/event/millennial-loteria-at-tailchasers-patio-pub/2026-04-29/
LOCATION:Tailchasers Patio + Pub\, 516 Jefferson Street\, Kerrville\, TX\, 78028\, United States
CATEGORIES:General
ATTACH;FMTTYPE=image/jpeg:https://thekerrvillelife.com/wp-content/uploads/2026/04/millenial-loteria-at-tailchasers-patio-pub.jpg
END:VEVENT
BEGIN:VEVENT
DTSTART;TZID=America/Chicago:20260430T100000
DTEND;TZID=America/Chicago:20260430T140000
DTSTAMP:20260419T232855
CREATED:20251120T001424Z
LAST-MODIFIED:20251120T001424Z
UID:79555-1777543200-1777557600@thekerrvillelife.com
SUMMARY:Schreiner Mansion Tours at Schreiner Mansion
DESCRIPTION:Step into Kerrville’s past with guided tours of the historic Schreiner Mansion\, built in 1879 and listed on the National Register of Historic Places. Located in downtown Kerrville overlooking Peterson Plaza\, the Mansion offers a close look at period architecture and the legacy of one of the city’s founding families. \nTours are offered on Thursdays from 10 am to 2 pm\, beginning on the half-hour\, with the last tour starting at 1:30 pm. Admission is $10 for adults\, $5 for students\, and $5 for military with ID. Group tours of 10 or more are $8 per person with reservations. \nThe Schreiner Mansion is in Kerrville\, Texas. For more information\, call Stacy Page at (830) 895-5222. Visitors can view a photo gallery and experience a virtual tour on the Schreiner Mansion’s Facebook page\, and learn more about the site’s history online. \nAdditional information: The Mansion is available for special event rentals for $25\,000\, which includes access to the Events at Water Street space in the historic Schreiner Building. Two hours of complimentary photography are included with any event. To schedule an appointment to discuss your event or for further details\, call (830) 895-5222.
URL:https://thekerrvillelife.com/event/schreiner-mansion-tours-at-schreiner-mansion/2026-04-30/
LOCATION:Schreiner Mansion\, 222 Earl Garrett St\, Kerrville\, TX\, 78028\, United States
CATEGORIES:General,Kids & Family
ATTACH;FMTTYPE=image/jpeg:https://thekerrvillelife.com/wp-content/uploads/2025/11/schreiner-mansion-tours-at-schreiner-mansion.jpg
END:VEVENT
BEGIN:VEVENT
DTSTART;TZID=America/Chicago:20260430T170000
DTEND;TZID=America/Chicago:20260430T200000
DTSTAMP:20260419T232855
CREATED:20250821T094324Z
LAST-MODIFIED:20251120T003247Z
UID:79626-1777568400-1777579200@thekerrvillelife.com
SUMMARY:Country Nights Open Mic at Gravity Check Saloon and Arena
DESCRIPTION:Country music fans can enjoy an easygoing evening of live local talent during Country Nights Open Mic at Gravity Check Saloon. Listeners can relax to a mix of classic and contemporary country\, while aspiring performers are welcome to bring an instrument and take a turn on stage. \nThe open mic runs every Thursday from 6 pm to 10 pm\, with the grill serving until 9 pm. \nGravity Check Saloon is located in Kerrville\, Texas.
URL:https://thekerrvillelife.com/event/country-nights-open-mic-at-gravity-check-saloon-and-arena/2026-04-30/
LOCATION:Gravity Check Saloon and Arena\, 3979 Bandera Highway (173)\, Kerrville\, TX\, 78028\, United States
CATEGORIES:Music
ATTACH;FMTTYPE=image/jpeg:https://thekerrvillelife.com/wp-content/uploads/2025/08/country-nights-open-mic-at-gravity-check-saloon-and-arena.jpg
END:VEVENT
BEGIN:VEVENT
DTSTART;TZID=America/Chicago:20260430T170000
DTEND;TZID=America/Chicago:20260430T233000
DTSTAMP:20260419T232855
CREATED:20260406T060013Z
LAST-MODIFIED:20260406T060013Z
UID:81130-1777568400-1777591800@thekerrvillelife.com
SUMMARY:Divine’s College Night – Every Thursday at Divines Sports Bar
DESCRIPTION:Divine’s College Night takes place every Thursday from 5 pm to 12 am at Divines Sports Bar in Kerrville. This weekly event offers a lively atmosphere with drink specials and a welcoming environment for students and the community. \nThe evening is designed as a casual night out featuring music\, socializing\, and rotating specials\, making it a popular spot to gather with friends. While geared toward college students\, all guests are welcome to enjoy the energy and fun. \nDivines Sports Bar is located in Kerrville\, TX. For more information\, contact the venue directly.
URL:https://thekerrvillelife.com/event/divines-college-night-every-thursday-at-divines-sports-bar/2026-04-30/
LOCATION:Divine’s Sports Bar\, 225 Earl Garrett Street East\, Kerrville\, TX\, 78028\, United States
CATEGORIES:Music
END:VEVENT
BEGIN:VEVENT
DTSTART;TZID=America/Chicago:20260502T093000
DTEND;TZID=America/Chicago:20260502T123000
DTSTAMP:20260419T232855
CREATED:20260406T030329Z
LAST-MODIFIED:20260406T030424Z
UID:81015-1777714200-1777725000@thekerrvillelife.com
SUMMARY:Beginning Watercolor with Kandi Stimson at Kerr Arts & Cultural Center
DESCRIPTION:Beginning Watercolor with Kandi Stimson is a three-week class held on Saturdays\, April 11 and April 25\, and May 2\, 2026 from 9:30 am to 12:30 pm at the Kerr Arts & Cultural Center in Kerrville. This instructional workshop offers an introduction to watercolor techniques in a supportive\, hands-on environment. \nLed by instructor Kandi Stimson\, the class covers essential skills including understanding supplies\, brush techniques\, paint mixing\, washes\, glazing\, layering\, and basic color theory. Participants will also explore value\, edges\, texture\, and composition while completing several paintings throughout the course. \nTuition is $125 for the full three-week session. A supply list will be provided after registration. \nThe Kerr Arts & Cultural Center is located at 228 Earl Garrett Street\, Kerrville\, TX 78028. For more information or to register\, visit https://lp.constantcontactpages.com/ev/reg/3vk9c28/lp/a762fb31-d13c-4a79-bc71-e79a09ef31e5.
URL:https://thekerrvillelife.com/event/beginning-watercolor-with-kandi-stimson-at-kerr-arts-cultural-center/2026-05-02/
LOCATION:Kerr Arts & Cultural Center\, 228 Earl Garrett Street\, Kerrville\, TX\, 78028\, United States
CATEGORIES:Arts & Culture
END:VEVENT
BEGIN:VEVENT
DTSTART;TZID=America/Chicago:20260503T130000
DTEND;TZID=America/Chicago:20260503T160000
DTSTAMP:20260419T232855
CREATED:20260415T020337Z
LAST-MODIFIED:20260415T020337Z
UID:81155-1777813200-1777824000@thekerrvillelife.com
SUMMARY:Andy Garcia at Singing Water Vineyards
DESCRIPTION:A live performance by Andy Garcia takes place on Sunday\, May 3\, 2026 from 1 pm to 4 pm at Singing Water Vineyards. This all-ages event offers a relaxed afternoon of live music set in the scenic Hill Country. \nA local favorite\, Andy Garcia brings a versatile acoustic set featuring songs from country\, jazz\, and pop\, creating an enjoyable and easygoing atmosphere for guests. \nAdmission is free\, and no tickets are required. Singing Water Vineyards is located in Comfort\, TX. For more information\, contact the venue directly.
URL:https://thekerrvillelife.com/event/andy-garcia-at-singing-water-vineyards/
LOCATION:Singing Water Vineyards\, 316 Mill Dam Rd\, Comfort\, TX\, 78013\, United States
CATEGORIES:Music
ATTACH;FMTTYPE=image/jpeg:https://thekerrvillelife.com/wp-content/uploads/2026/04/andy-garcia-at-singing-water-vineyards.jpg
END:VEVENT
END:VCALENDAR