BEGIN:VCALENDAR
VERSION:2.0
PRODID:-//The Kerrville Life - ECPv6.15.20//NONSGML v1.0//EN
CALSCALE:GREGORIAN
METHOD:PUBLISH
X-WR-CALNAME:The Kerrville Life
X-ORIGINAL-URL:https://thekerrvillelife.com
X-WR-CALDESC:Events for The Kerrville Life
REFRESH-INTERVAL;VALUE=DURATION:PT1H
X-Robots-Tag:noindex
X-PUBLISHED-TTL:PT1H
BEGIN:VTIMEZONE
TZID:America/Chicago
BEGIN:DAYLIGHT
TZOFFSETFROM:-0600
TZOFFSETTO:-0500
TZNAME:CDT
DTSTART:20240310T080000
END:DAYLIGHT
BEGIN:STANDARD
TZOFFSETFROM:-0500
TZOFFSETTO:-0600
TZNAME:CST
DTSTART:20241103T070000
END:STANDARD
BEGIN:DAYLIGHT
TZOFFSETFROM:-0600
TZOFFSETTO:-0500
TZNAME:CDT
DTSTART:20250309T080000
END:DAYLIGHT
BEGIN:STANDARD
TZOFFSETFROM:-0500
TZOFFSETTO:-0600
TZNAME:CST
DTSTART:20251102T070000
END:STANDARD
BEGIN:DAYLIGHT
TZOFFSETFROM:-0600
TZOFFSETTO:-0500
TZNAME:CDT
DTSTART:20260308T080000
END:DAYLIGHT
BEGIN:STANDARD
TZOFFSETFROM:-0500
TZOFFSETTO:-0600
TZNAME:CST
DTSTART:20261101T070000
END:STANDARD
END:VTIMEZONE
BEGIN:VEVENT
DTSTART;VALUE=DATE:20251205
DTEND;VALUE=DATE:20251229
DTSTAMP:20260425T085409
CREATED:20251120T015710Z
LAST-MODIFIED:20251120T015710Z
UID:79678-1764892800-1766966399@thekerrvillelife.com
SUMMARY:Merry Magic at Jellystone Park™ Weekends at Yogi Bear’s Jellystone Park Camp-Resort: Guadalupe River
DESCRIPTION:Holiday cheer fills the season during Merry Magic Weekends at Yogi Bear’s Jellystone Park™ from December 5 through December 28\, 2025. Families can enjoy a festive lineup of activities\, including a special visit from Santa\, giving children the chance to share their holiday wishes with St. Nick. \nGuests are invited to take part in the Site Decorating Contest by transforming their campsite into a winter wonderland for a chance to win a sparkling prize. The Golf Cart Decorating Contest adds even more fun\, as participants parade through the park to spread holiday spirit. A cheerful Holiday Party rounds out the festivities with games and seasonal activities for all ages. \nMerry Magic events take place throughout the day on weekends\, from 12 am to 11:55 pm. \nYogi Bear’s Jellystone Park Camp-Resort: Guadalupe River is located in Kerrville\, Texas.
URL:https://thekerrvillelife.com/event/merry-magic-at-jellystone-park-weekends-at-yogi-bears-jellystone-park-camp-resort-guadalupe-river/
LOCATION:Yogi Bear’s Jellystone Park Guadalupe River\, 2605 Junction Highway\, Kerrville\, TX\, 78028\, United States
CATEGORIES:Holiday,Kids & Family
ATTACH;FMTTYPE=image/jpeg:https://thekerrvillelife.com/wp-content/uploads/2025/11/merry-magic-at-jellystone-park-weekends-at-yogi-bears-jellystone-park-camp-resort-guadalupe-river.jpg
END:VEVENT
BEGIN:VEVENT
DTSTART;TZID=America/Chicago:20251223T100000
DTEND;TZID=America/Chicago:20251223T160000
DTSTAMP:20260425T085409
CREATED:20251119T235006Z
LAST-MODIFIED:20251119T235006Z
UID:79417-1766484000-1766505600@thekerrvillelife.com
SUMMARY:The New American West by Brush and by Bronze at The Museum of Western Art
DESCRIPTION:The Museum of Western Art presents The New American West by Brush and by Bronze\, an inspiring exhibition featuring the works of painter Kathleen Frank and sculptor Mark Yale Harris. Together\, these two acclaimed artists offer a contemporary interpretation of the American West\, blending vivid landscapes and dynamic forms that celebrate its enduring spirit. The exhibition includes 14 paintings by Frank and eight sculptures by Harris\, creating a compelling dialogue between brush and bronze. \nThe show runs from November 18\, 2025\, through January 10\, 2026\, with gallery hours Tuesday through Saturday from 10 am to 4 pm. \nThe Museum of Western Art is located at 1550 Bandera Highway\, Kerrville\, TX 78028.
URL:https://thekerrvillelife.com/event/the-new-american-west-by-brush-and-by-bronze-at-the-museum-of-western-art/2025-12-23/
LOCATION:Museum of Western Art\, 1550 Bandera Highway\, Kerrville\, TX\, 78028\, United States
CATEGORIES:Arts & Culture
ATTACH;FMTTYPE=image/jpeg:https://thekerrvillelife.com/wp-content/uploads/2025/11/the-new-american-west-by-brush-and-by-bronze-at-the-museum-of-western-art.jpg
END:VEVENT
BEGIN:VEVENT
DTSTART;TZID=America/Chicago:20251223T100000
DTEND;TZID=America/Chicago:20251223T160000
DTSTAMP:20260425T085409
CREATED:20251119T235542Z
LAST-MODIFIED:20251119T235542Z
UID:79458-1766484000-1766505600@thekerrvillelife.com
SUMMARY:Silver Saddles and the Silver Screen: The Golden Age of Hollywood at The Museum of Western Art
DESCRIPTION:Step back in time to Hollywood’s golden era with Silver Saddles and the Silver Screen: The Golden Age of Hollywood\, a special exhibition at The Museum of Western Art. Presented in cooperation with Morin Fine Art in Fredericksburg\, this dazzling display features a collection of one-of-a-kind Edward H. Bohlin silver saddles—masterpieces of craftsmanship that once graced the stars of Western cinema—alongside original movie posters celebrating classic Hollywood. \nThe exhibition runs from November 18\, 2025\, through January 10\, 2026\, with gallery hours Tuesday through Saturday from 10 am to 4 pm. \nThe Museum of Western Art is located at 1550 Bandera Highway\, Kerrville\, TX 78028.
URL:https://thekerrvillelife.com/event/silver-saddles-and-the-silver-screen-the-golden-age-of-hollywood-at-the-museum-of-western-art/2025-12-23/
LOCATION:Museum of Western Art\, 1550 Bandera Highway\, Kerrville\, TX\, 78028\, United States
CATEGORIES:Arts & Culture
ATTACH;FMTTYPE=image/jpeg:https://thekerrvillelife.com/wp-content/uploads/2025/11/silver-saddles-and-the-silver-screen-the-golden-age-of-hollywood-at-the-museum-of-western-art.jpg
END:VEVENT
BEGIN:VEVENT
DTSTART;TZID=America/Chicago:20251223T180000
DTEND;TZID=America/Chicago:20251223T210000
DTSTAMP:20260425T085409
CREATED:20251111T232856Z
LAST-MODIFIED:20251111T232856Z
UID:79236-1766512800-1766523600@thekerrvillelife.com
SUMMARY:Tuesdays with Shane Stumpf at Gravity Check Saloon
DESCRIPTION:Country music fans can kick up their heels for an evening of boot-scootin’ fun as Shane Stumpf & The Heartbreak Outlaws take the stage at Gravity Check Saloon. Guests can look forward to a lively mix of classic and contemporary country favorites guaranteed to keep dancers two-stepping all night long. \nPerformances will take place from 6 pm to 9 pm on select Tuesdays\, including November 18 and 25\, December 2\, 9\, 16\, 23\, and 30\, 2025; January 6\, 13\, 20\, and 27\, 2026; February 3\, 10\, 17\, and 24\, 2026; March 3\, 10\, 17\, 24\, and 31\, 2026; and April 7\, 2026. The grill will be open until 11 pm\, and the bar will be serving drinks throughout the night. \nGravity Check Saloon is located at 315 Farm-to-Market Road 473\, Kerrville\, TX 78028.
URL:https://thekerrvillelife.com/event/tuesdays-with-shane-stumpf-at-gravity-check-saloon/2025-12-23/
LOCATION:Gravity Check Saloon and Arena\, 3979 Bandera Highway (173)\, Kerrville\, TX\, 78028\, United States
CATEGORIES:Music
ATTACH;FMTTYPE=image/jpeg:https://thekerrvillelife.com/wp-content/uploads/2025/11/tuesdays-with-shane-stumpf-at-gravity-check-saloon.jpg
END:VEVENT
BEGIN:VEVENT
DTSTART;TZID=America/Chicago:20251223T183000
DTEND;TZID=America/Chicago:20251223T210000
DTSTAMP:20260425T085409
CREATED:20250821T123443Z
LAST-MODIFIED:20250821T123443Z
UID:78572-1766514600-1766523600@thekerrvillelife.com
SUMMARY:Best Pool Tournament in Town at Howdy’s Bar & Chill
DESCRIPTION:Howdy’s Bar & Chill in Kerrville hosts the Best Pool Tournament in Town twice a week\, welcoming players of all ages to compete in a fun and friendly setting. The tournament offers a lively atmosphere for seasoned players and casual competitors alike. \nGames are held every Sunday from 4:30 pm to 10 pm and every Tuesday from 7:30 pm to 10 pm at Howdy’s Bar & Chill\, 101 Rowland\, Kerrville\, Texas 78028. All ages are welcome to participate.
URL:https://thekerrvillelife.com/event/best-pool-tournament-in-town-at-howdys-bar-chill/2025-12-23/
LOCATION:Howdy’s Bar & Chill\, 101 Rowland\, Kerrville\, TX\, 78028\, United States
CATEGORIES:Sports
ATTACH;FMTTYPE=image/jpeg:https://thekerrvillelife.com/wp-content/uploads/2025/08/best-pool-tournament-in-town-at-howdys-bar-and-chill.jpg
END:VEVENT
BEGIN:VEVENT
DTSTART;TZID=America/Chicago:20251224T100000
DTEND;TZID=America/Chicago:20251224T160000
DTSTAMP:20260425T085409
CREATED:20251119T235006Z
LAST-MODIFIED:20251119T235006Z
UID:79418-1766570400-1766592000@thekerrvillelife.com
SUMMARY:The New American West by Brush and by Bronze at The Museum of Western Art
DESCRIPTION:The Museum of Western Art presents The New American West by Brush and by Bronze\, an inspiring exhibition featuring the works of painter Kathleen Frank and sculptor Mark Yale Harris. Together\, these two acclaimed artists offer a contemporary interpretation of the American West\, blending vivid landscapes and dynamic forms that celebrate its enduring spirit. The exhibition includes 14 paintings by Frank and eight sculptures by Harris\, creating a compelling dialogue between brush and bronze. \nThe show runs from November 18\, 2025\, through January 10\, 2026\, with gallery hours Tuesday through Saturday from 10 am to 4 pm. \nThe Museum of Western Art is located at 1550 Bandera Highway\, Kerrville\, TX 78028.
URL:https://thekerrvillelife.com/event/the-new-american-west-by-brush-and-by-bronze-at-the-museum-of-western-art/2025-12-24/
LOCATION:Museum of Western Art\, 1550 Bandera Highway\, Kerrville\, TX\, 78028\, United States
CATEGORIES:Arts & Culture
ATTACH;FMTTYPE=image/jpeg:https://thekerrvillelife.com/wp-content/uploads/2025/11/the-new-american-west-by-brush-and-by-bronze-at-the-museum-of-western-art.jpg
END:VEVENT
BEGIN:VEVENT
DTSTART;TZID=America/Chicago:20251224T100000
DTEND;TZID=America/Chicago:20251224T160000
DTSTAMP:20260425T085409
CREATED:20251119T235542Z
LAST-MODIFIED:20251119T235542Z
UID:79459-1766570400-1766592000@thekerrvillelife.com
SUMMARY:Silver Saddles and the Silver Screen: The Golden Age of Hollywood at The Museum of Western Art
DESCRIPTION:Step back in time to Hollywood’s golden era with Silver Saddles and the Silver Screen: The Golden Age of Hollywood\, a special exhibition at The Museum of Western Art. Presented in cooperation with Morin Fine Art in Fredericksburg\, this dazzling display features a collection of one-of-a-kind Edward H. Bohlin silver saddles—masterpieces of craftsmanship that once graced the stars of Western cinema—alongside original movie posters celebrating classic Hollywood. \nThe exhibition runs from November 18\, 2025\, through January 10\, 2026\, with gallery hours Tuesday through Saturday from 10 am to 4 pm. \nThe Museum of Western Art is located at 1550 Bandera Highway\, Kerrville\, TX 78028.
URL:https://thekerrvillelife.com/event/silver-saddles-and-the-silver-screen-the-golden-age-of-hollywood-at-the-museum-of-western-art/2025-12-24/
LOCATION:Museum of Western Art\, 1550 Bandera Highway\, Kerrville\, TX\, 78028\, United States
CATEGORIES:Arts & Culture
ATTACH;FMTTYPE=image/jpeg:https://thekerrvillelife.com/wp-content/uploads/2025/11/silver-saddles-and-the-silver-screen-the-golden-age-of-hollywood-at-the-museum-of-western-art.jpg
END:VEVENT
BEGIN:VEVENT
DTSTART;TZID=America/Chicago:20251224T170000
DTEND;TZID=America/Chicago:20251224T210000
DTSTAMP:20260425T085409
CREATED:20250910T034807Z
LAST-MODIFIED:20251120T000312Z
UID:78835-1766595600-1766610000@thekerrvillelife.com
SUMMARY:Karaoke Wednesday Nights at Gravity Check Saloon and Arena
DESCRIPTION:Gravity Check Saloon and Arena in Kerrville hosts Karaoke Wednesday Nights every week\, offering an easy midweek hangout with dinner\, drinks\, and plenty of time on the mic. Friends\, families\, and groups can settle in for an evening of favorite songs and a lively\, welcoming atmosphere. \nThe series runs every Wednesday through December 31\, 2025\, from 6 pm to 10 pm at Gravity Check Saloon and Arena\, 3979 Bandera Highway (173)\, Kerrville\, Texas 78028. Everyone is welcome to take the stage and sing along.
URL:https://thekerrvillelife.com/event/karaoke-wednesday-nights-at-gravity-check-saloon-and-arena/2025-12-24/
LOCATION:Gravity Check Saloon and Arena\, 3979 Bandera Highway (173)\, Kerrville\, TX\, 78028\, United States
CATEGORIES:Music
ATTACH;FMTTYPE=image/jpeg:https://thekerrvillelife.com/wp-content/uploads/2025/09/karaoke-wednesday-nights-at-gravity-check-saloon-and-arena.jpg
END:VEVENT
BEGIN:VEVENT
DTSTART;TZID=America/Chicago:20251225T100000
DTEND;TZID=America/Chicago:20251225T140000
DTSTAMP:20260425T085409
CREATED:20251120T001424Z
LAST-MODIFIED:20251120T001424Z
UID:79537-1766656800-1766671200@thekerrvillelife.com
SUMMARY:Schreiner Mansion Tours at Schreiner Mansion
DESCRIPTION:Step into Kerrville’s past with guided tours of the historic Schreiner Mansion\, built in 1879 and listed on the National Register of Historic Places. Located in downtown Kerrville overlooking Peterson Plaza\, the Mansion offers a close look at period architecture and the legacy of one of the city’s founding families. \nTours are offered on Thursdays from 10 am to 2 pm\, beginning on the half-hour\, with the last tour starting at 1:30 pm. Admission is $10 for adults\, $5 for students\, and $5 for military with ID. Group tours of 10 or more are $8 per person with reservations. \nThe Schreiner Mansion is in Kerrville\, Texas. For more information\, call Stacy Page at (830) 895-5222. Visitors can view a photo gallery and experience a virtual tour on the Schreiner Mansion’s Facebook page\, and learn more about the site’s history online. \nAdditional information: The Mansion is available for special event rentals for $25\,000\, which includes access to the Events at Water Street space in the historic Schreiner Building. Two hours of complimentary photography are included with any event. To schedule an appointment to discuss your event or for further details\, call (830) 895-5222.
URL:https://thekerrvillelife.com/event/schreiner-mansion-tours-at-schreiner-mansion/2025-12-25/
LOCATION:Schreiner Mansion\, 222 Earl Garrett St\, Kerrville\, TX\, 78028\, United States
CATEGORIES:General,Kids & Family
ATTACH;FMTTYPE=image/jpeg:https://thekerrvillelife.com/wp-content/uploads/2025/11/schreiner-mansion-tours-at-schreiner-mansion.jpg
END:VEVENT
BEGIN:VEVENT
DTSTART;TZID=America/Chicago:20251225T100000
DTEND;TZID=America/Chicago:20251225T160000
DTSTAMP:20260425T085409
CREATED:20251119T235006Z
LAST-MODIFIED:20251119T235006Z
UID:79419-1766656800-1766678400@thekerrvillelife.com
SUMMARY:The New American West by Brush and by Bronze at The Museum of Western Art
DESCRIPTION:The Museum of Western Art presents The New American West by Brush and by Bronze\, an inspiring exhibition featuring the works of painter Kathleen Frank and sculptor Mark Yale Harris. Together\, these two acclaimed artists offer a contemporary interpretation of the American West\, blending vivid landscapes and dynamic forms that celebrate its enduring spirit. The exhibition includes 14 paintings by Frank and eight sculptures by Harris\, creating a compelling dialogue between brush and bronze. \nThe show runs from November 18\, 2025\, through January 10\, 2026\, with gallery hours Tuesday through Saturday from 10 am to 4 pm. \nThe Museum of Western Art is located at 1550 Bandera Highway\, Kerrville\, TX 78028.
URL:https://thekerrvillelife.com/event/the-new-american-west-by-brush-and-by-bronze-at-the-museum-of-western-art/2025-12-25/
LOCATION:Museum of Western Art\, 1550 Bandera Highway\, Kerrville\, TX\, 78028\, United States
CATEGORIES:Arts & Culture
ATTACH;FMTTYPE=image/jpeg:https://thekerrvillelife.com/wp-content/uploads/2025/11/the-new-american-west-by-brush-and-by-bronze-at-the-museum-of-western-art.jpg
END:VEVENT
BEGIN:VEVENT
DTSTART;TZID=America/Chicago:20251225T100000
DTEND;TZID=America/Chicago:20251225T160000
DTSTAMP:20260425T085409
CREATED:20251119T235542Z
LAST-MODIFIED:20251119T235542Z
UID:79460-1766656800-1766678400@thekerrvillelife.com
SUMMARY:Silver Saddles and the Silver Screen: The Golden Age of Hollywood at The Museum of Western Art
DESCRIPTION:Step back in time to Hollywood’s golden era with Silver Saddles and the Silver Screen: The Golden Age of Hollywood\, a special exhibition at The Museum of Western Art. Presented in cooperation with Morin Fine Art in Fredericksburg\, this dazzling display features a collection of one-of-a-kind Edward H. Bohlin silver saddles—masterpieces of craftsmanship that once graced the stars of Western cinema—alongside original movie posters celebrating classic Hollywood. \nThe exhibition runs from November 18\, 2025\, through January 10\, 2026\, with gallery hours Tuesday through Saturday from 10 am to 4 pm. \nThe Museum of Western Art is located at 1550 Bandera Highway\, Kerrville\, TX 78028.
URL:https://thekerrvillelife.com/event/silver-saddles-and-the-silver-screen-the-golden-age-of-hollywood-at-the-museum-of-western-art/2025-12-25/
LOCATION:Museum of Western Art\, 1550 Bandera Highway\, Kerrville\, TX\, 78028\, United States
CATEGORIES:Arts & Culture
ATTACH;FMTTYPE=image/jpeg:https://thekerrvillelife.com/wp-content/uploads/2025/11/silver-saddles-and-the-silver-screen-the-golden-age-of-hollywood-at-the-museum-of-western-art.jpg
END:VEVENT
BEGIN:VEVENT
DTSTART;TZID=America/Chicago:20251225T170000
DTEND;TZID=America/Chicago:20251225T200000
DTSTAMP:20260425T085409
CREATED:20250821T094324Z
LAST-MODIFIED:20251120T003236Z
UID:78465-1766682000-1766692800@thekerrvillelife.com
SUMMARY:Country Nights Open Mic at Gravity Check Saloon and Arena
DESCRIPTION:Country music fans can enjoy an easygoing evening of live local talent during Country Nights Open Mic at Gravity Check Saloon. Listeners can relax to a mix of classic and contemporary country\, while aspiring performers are welcome to bring an instrument and take a turn on stage. \nThe open mic runs every Thursday from 6 pm to 10 pm\, with the grill serving until 9 pm. \nGravity Check Saloon is located in Kerrville\, Texas.
URL:https://thekerrvillelife.com/event/country-nights-open-mic-at-gravity-check-saloon-and-arena/2025-12-25/
LOCATION:Gravity Check Saloon and Arena\, 3979 Bandera Highway (173)\, Kerrville\, TX\, 78028\, United States
CATEGORIES:Music
ATTACH;FMTTYPE=image/jpeg:https://thekerrvillelife.com/wp-content/uploads/2025/08/country-nights-open-mic-at-gravity-check-saloon-and-arena.jpg
END:VEVENT
BEGIN:VEVENT
DTSTART;TZID=America/Chicago:20251226T100000
DTEND;TZID=America/Chicago:20251226T160000
DTSTAMP:20260425T085409
CREATED:20251119T235006Z
LAST-MODIFIED:20251119T235006Z
UID:79420-1766743200-1766764800@thekerrvillelife.com
SUMMARY:The New American West by Brush and by Bronze at The Museum of Western Art
DESCRIPTION:The Museum of Western Art presents The New American West by Brush and by Bronze\, an inspiring exhibition featuring the works of painter Kathleen Frank and sculptor Mark Yale Harris. Together\, these two acclaimed artists offer a contemporary interpretation of the American West\, blending vivid landscapes and dynamic forms that celebrate its enduring spirit. The exhibition includes 14 paintings by Frank and eight sculptures by Harris\, creating a compelling dialogue between brush and bronze. \nThe show runs from November 18\, 2025\, through January 10\, 2026\, with gallery hours Tuesday through Saturday from 10 am to 4 pm. \nThe Museum of Western Art is located at 1550 Bandera Highway\, Kerrville\, TX 78028.
URL:https://thekerrvillelife.com/event/the-new-american-west-by-brush-and-by-bronze-at-the-museum-of-western-art/2025-12-26/
LOCATION:Museum of Western Art\, 1550 Bandera Highway\, Kerrville\, TX\, 78028\, United States
CATEGORIES:Arts & Culture
ATTACH;FMTTYPE=image/jpeg:https://thekerrvillelife.com/wp-content/uploads/2025/11/the-new-american-west-by-brush-and-by-bronze-at-the-museum-of-western-art.jpg
END:VEVENT
BEGIN:VEVENT
DTSTART;TZID=America/Chicago:20251226T100000
DTEND;TZID=America/Chicago:20251226T160000
DTSTAMP:20260425T085409
CREATED:20251119T235542Z
LAST-MODIFIED:20251119T235542Z
UID:79461-1766743200-1766764800@thekerrvillelife.com
SUMMARY:Silver Saddles and the Silver Screen: The Golden Age of Hollywood at The Museum of Western Art
DESCRIPTION:Step back in time to Hollywood’s golden era with Silver Saddles and the Silver Screen: The Golden Age of Hollywood\, a special exhibition at The Museum of Western Art. Presented in cooperation with Morin Fine Art in Fredericksburg\, this dazzling display features a collection of one-of-a-kind Edward H. Bohlin silver saddles—masterpieces of craftsmanship that once graced the stars of Western cinema—alongside original movie posters celebrating classic Hollywood. \nThe exhibition runs from November 18\, 2025\, through January 10\, 2026\, with gallery hours Tuesday through Saturday from 10 am to 4 pm. \nThe Museum of Western Art is located at 1550 Bandera Highway\, Kerrville\, TX 78028.
URL:https://thekerrvillelife.com/event/silver-saddles-and-the-silver-screen-the-golden-age-of-hollywood-at-the-museum-of-western-art/2025-12-26/
LOCATION:Museum of Western Art\, 1550 Bandera Highway\, Kerrville\, TX\, 78028\, United States
CATEGORIES:Arts & Culture
ATTACH;FMTTYPE=image/jpeg:https://thekerrvillelife.com/wp-content/uploads/2025/11/silver-saddles-and-the-silver-screen-the-golden-age-of-hollywood-at-the-museum-of-western-art.jpg
END:VEVENT
BEGIN:VEVENT
DTSTART;TZID=America/Chicago:20251227T090000
DTEND;TZID=America/Chicago:20251227T150000
DTSTAMP:20260425T085409
CREATED:20250822T021747Z
LAST-MODIFIED:20250822T021747Z
UID:78951-1766826000-1766847600@thekerrvillelife.com
SUMMARY:Family Free Day at the Museum of Western Art
DESCRIPTION:The Museum of Western Art in Kerrville invites Kerr County residents to enjoy Family Free Day on the last Saturday of each month. Admission is free\, giving families the chance to explore art and artifacts that celebrate and preserve Western heritage. \nGuests can also view a special exhibition running through October 24\, featuring 130 works of art from 52 distinguished contemporary artists\, with pieces available for purchase. \nFamily Free Day takes place from 10 am to 4 pm at the Museum of Western Art\, 1550 Bandera Highway\, Kerrville\, Texas 78028. \nFor more information\, visit museumofwesternart.com or call (830) 896-2553.
URL:https://thekerrvillelife.com/event/family-free-day-at-the-museum-of-western-art/2025-12-27/
LOCATION:Museum of Western Art\, 1550 Bandera Highway\, Kerrville\, TX\, 78028\, United States
CATEGORIES:Kids & Family
ATTACH;FMTTYPE=image/jpeg:https://thekerrvillelife.com/wp-content/uploads/2025/08/family-free-day-at-the-museum-of-western-art.jpg
END:VEVENT
BEGIN:VEVENT
DTSTART;TZID=America/Chicago:20251227T100000
DTEND;TZID=America/Chicago:20251227T160000
DTSTAMP:20260425T085409
CREATED:20251119T235006Z
LAST-MODIFIED:20251119T235006Z
UID:79421-1766829600-1766851200@thekerrvillelife.com
SUMMARY:The New American West by Brush and by Bronze at The Museum of Western Art
DESCRIPTION:The Museum of Western Art presents The New American West by Brush and by Bronze\, an inspiring exhibition featuring the works of painter Kathleen Frank and sculptor Mark Yale Harris. Together\, these two acclaimed artists offer a contemporary interpretation of the American West\, blending vivid landscapes and dynamic forms that celebrate its enduring spirit. The exhibition includes 14 paintings by Frank and eight sculptures by Harris\, creating a compelling dialogue between brush and bronze. \nThe show runs from November 18\, 2025\, through January 10\, 2026\, with gallery hours Tuesday through Saturday from 10 am to 4 pm. \nThe Museum of Western Art is located at 1550 Bandera Highway\, Kerrville\, TX 78028.
URL:https://thekerrvillelife.com/event/the-new-american-west-by-brush-and-by-bronze-at-the-museum-of-western-art/2025-12-27/
LOCATION:Museum of Western Art\, 1550 Bandera Highway\, Kerrville\, TX\, 78028\, United States
CATEGORIES:Arts & Culture
ATTACH;FMTTYPE=image/jpeg:https://thekerrvillelife.com/wp-content/uploads/2025/11/the-new-american-west-by-brush-and-by-bronze-at-the-museum-of-western-art.jpg
END:VEVENT
BEGIN:VEVENT
DTSTART;TZID=America/Chicago:20251227T100000
DTEND;TZID=America/Chicago:20251227T160000
DTSTAMP:20260425T085409
CREATED:20251119T235542Z
LAST-MODIFIED:20251119T235542Z
UID:79462-1766829600-1766851200@thekerrvillelife.com
SUMMARY:Silver Saddles and the Silver Screen: The Golden Age of Hollywood at The Museum of Western Art
DESCRIPTION:Step back in time to Hollywood’s golden era with Silver Saddles and the Silver Screen: The Golden Age of Hollywood\, a special exhibition at The Museum of Western Art. Presented in cooperation with Morin Fine Art in Fredericksburg\, this dazzling display features a collection of one-of-a-kind Edward H. Bohlin silver saddles—masterpieces of craftsmanship that once graced the stars of Western cinema—alongside original movie posters celebrating classic Hollywood. \nThe exhibition runs from November 18\, 2025\, through January 10\, 2026\, with gallery hours Tuesday through Saturday from 10 am to 4 pm. \nThe Museum of Western Art is located at 1550 Bandera Highway\, Kerrville\, TX 78028.
URL:https://thekerrvillelife.com/event/silver-saddles-and-the-silver-screen-the-golden-age-of-hollywood-at-the-museum-of-western-art/2025-12-27/
LOCATION:Museum of Western Art\, 1550 Bandera Highway\, Kerrville\, TX\, 78028\, United States
CATEGORIES:Arts & Culture
ATTACH;FMTTYPE=image/jpeg:https://thekerrvillelife.com/wp-content/uploads/2025/11/silver-saddles-and-the-silver-screen-the-golden-age-of-hollywood-at-the-museum-of-western-art.jpg
END:VEVENT
BEGIN:VEVENT
DTSTART;TZID=America/Chicago:20251228T153000
DTEND;TZID=America/Chicago:20251228T210000
DTSTAMP:20260425T085409
CREATED:20250821T123443Z
LAST-MODIFIED:20250821T123443Z
UID:78573-1766935800-1766955600@thekerrvillelife.com
SUMMARY:Best Pool Tournament in Town at Howdy’s Bar & Chill
DESCRIPTION:Howdy’s Bar & Chill in Kerrville hosts the Best Pool Tournament in Town twice a week\, welcoming players of all ages to compete in a fun and friendly setting. The tournament offers a lively atmosphere for seasoned players and casual competitors alike. \nGames are held every Sunday from 4:30 pm to 10 pm and every Tuesday from 7:30 pm to 10 pm at Howdy’s Bar & Chill\, 101 Rowland\, Kerrville\, Texas 78028. All ages are welcome to participate.
URL:https://thekerrvillelife.com/event/best-pool-tournament-in-town-at-howdys-bar-chill/2025-12-28/
LOCATION:Howdy’s Bar & Chill\, 101 Rowland\, Kerrville\, TX\, 78028\, United States
CATEGORIES:Sports
ATTACH;FMTTYPE=image/jpeg:https://thekerrvillelife.com/wp-content/uploads/2025/08/best-pool-tournament-in-town-at-howdys-bar-and-chill.jpg
END:VEVENT
END:VCALENDAR