BEGIN:VCALENDAR
VERSION:2.0
PRODID:-//The Kerrville Life - ECPv6.15.20//NONSGML v1.0//EN
CALSCALE:GREGORIAN
METHOD:PUBLISH
X-ORIGINAL-URL:https://thekerrvillelife.com
X-WR-CALDESC:Events for The Kerrville Life
REFRESH-INTERVAL;VALUE=DURATION:PT1H
X-Robots-Tag:noindex
X-PUBLISHED-TTL:PT1H
BEGIN:VTIMEZONE
TZID:America/Chicago
BEGIN:DAYLIGHT
TZOFFSETFROM:-0600
TZOFFSETTO:-0500
TZNAME:CDT
DTSTART:20240310T080000
END:DAYLIGHT
BEGIN:STANDARD
TZOFFSETFROM:-0500
TZOFFSETTO:-0600
TZNAME:CST
DTSTART:20241103T070000
END:STANDARD
BEGIN:DAYLIGHT
TZOFFSETFROM:-0600
TZOFFSETTO:-0500
TZNAME:CDT
DTSTART:20250309T080000
END:DAYLIGHT
BEGIN:STANDARD
TZOFFSETFROM:-0500
TZOFFSETTO:-0600
TZNAME:CST
DTSTART:20251102T070000
END:STANDARD
BEGIN:DAYLIGHT
TZOFFSETFROM:-0600
TZOFFSETTO:-0500
TZNAME:CDT
DTSTART:20260308T080000
END:DAYLIGHT
BEGIN:STANDARD
TZOFFSETFROM:-0500
TZOFFSETTO:-0600
TZNAME:CST
DTSTART:20261101T070000
END:STANDARD
END:VTIMEZONE
BEGIN:VEVENT
DTSTART;TZID=America/Chicago:20251127T110000
DTEND;TZID=America/Chicago:20251127T130000
DTSTAMP:20260423T200651
CREATED:20251112T022551Z
LAST-MODIFIED:20251112T022551Z
UID:79317-1764241200-1764248400@thekerrvillelife.com
SUMMARY:Community Thanksgiving Meal at the Kerrville Ray & Joan Kroc Corps Community Center
DESCRIPTION:The Kerrville community is invited to come together for a warm and welcoming Thanksgiving celebration hosted by The Salvation Army at the Kerrville Ray & Joan Kroc Corps Community Center. This annual tradition offers a free\, traditional Thanksgiving meal with all the trimmings\, ensuring that no one spends the holiday alone. Families\, individuals\, seniors\, and travelers are all welcome to enjoy a hearty meal in the spirit of gratitude and fellowship. \nThe event will take place on Thursday\, November 27\, 2025\, from 11 am to 1 pm. Guests may choose to dine in\, pick up takeout\, or request home delivery for those who are homebound. \nThe Kerrville Ray & Joan Kroc Corps Community Center is located at 201 Holdsworth Drive\, Kerrville\, TX 78028. Admission is free. For more information or to arrange a meal delivery\, contact The Salvation Army at (830) 315-5762 or visit kerrvillekroc.org.
URL:https://thekerrvillelife.com/event/community-thanksgiving-meal-at-the-kerrville-ray-joan-kroc-corps-community-center/
LOCATION:The Kerrville Ray & Joan Kroc Corps Community Center\, 201 Holdsworth Drive\, Kerrville\, TX\, 78028\, United States
CATEGORIES:Food & Drink
ATTACH;FMTTYPE=image/jpeg:https://thekerrvillelife.com/wp-content/uploads/2025/11/community-thanksgiving-meal-at-the-kerrville-ray-and-joan-kroc-corps-community-center.jpg
END:VEVENT
BEGIN:VEVENT
DTSTART;TZID=America/Chicago:20251126T073000
DTEND;TZID=America/Chicago:20251126T100000
DTSTAMP:20260423T200651
CREATED:20251112T020328Z
LAST-MODIFIED:20251112T020328Z
UID:79311-1764142200-1764151200@thekerrvillelife.com
SUMMARY:Comanche Trace Turkey Trot at Comanche Trace Taphouse
DESCRIPTION:Runners and walkers can kick off the holiday with the Comanche Trace Turkey Trot 5K\, a festive morning run that welcomes participants and volunteers alike. The race begins at 7:30 am on Wednesday\, November 26\, 2025\, with activities continuing until 10 am\, offering a lively way to celebrate the season and enjoy the neighborhood’s scenic views. \nThe event will be held at Comanche Trace Taphouse\, 2801 Comanche Trace Drive\, Kerrville\, TX 78028. Registration is available online at https://www.athleteguild.com/event/kerrville-tx/2025-comanche-trace-turkey-trot-5k. \nFor more information\, contact Jennifer Blanton at (830) 895-8505.
URL:https://thekerrvillelife.com/event/comanche-trace-turkey-trot-at-comanche-trace-taphouse/
LOCATION:Comanche Trace Taphouse\, 2801 Comanche Trace Drive\, Kerrville\, TX\, 78028\, United States
CATEGORIES:Outdoors
ATTACH;FMTTYPE=image/jpeg:https://thekerrvillelife.com/wp-content/uploads/2025/11/comanche-trace-turkey-trot-at-comanche-trace-taphouse.jpg
END:VEVENT
BEGIN:VEVENT
DTSTART;TZID=America/Chicago:20251125T140000
DTEND;TZID=America/Chicago:20251125T150000
DTSTAMP:20260423T200651
CREATED:20251112T015737Z
LAST-MODIFIED:20251112T015737Z
UID:79309-1764079200-1764082800@thekerrvillelife.com
SUMMARY:Thanksgiving Craft at Butt-Holdsworth Memorial Library
DESCRIPTION:Children can get creative this holiday season during the Thanksgiving Craft program at the Butt-Holdsworth Memorial Library. Participants will have the opportunity to make a festive turkey using provided supplies\, adding a personal touch to their Thanksgiving celebrations. The activity encourages imagination and hands-on fun in a welcoming environment. \nThe craft session will take place in the first-floor Meeting Room from 2 pm to 3 pm on Tuesday\, November 25\, 2025. The program is designed for children ages 4–12 and their accompanying adults. Parents or caregivers must remain with their children during the event\, as drop-offs are not permitted. \nThe Butt-Holdsworth Memorial Library is located at 505 Water Street\, Kerrville\, TX 78028. For more information\, call (830) 257-8422.
URL:https://thekerrvillelife.com/event/thanksgiving-craft-at-butt-holdsworth-memorial-library/
LOCATION:Butt-Holdsworth Memorial Library\, 505 Water Street\, Kerrville\, TX\, 78028\, United States
CATEGORIES:Arts & Culture
ATTACH;FMTTYPE=image/jpeg:https://thekerrvillelife.com/wp-content/uploads/2025/11/thanksgiving-craft-at-butt-holdsworth-memorial-library.jpg
END:VEVENT
END:VCALENDAR