BEGIN:VCALENDAR
VERSION:2.0
PRODID:-//The Kerrville Life - ECPv6.15.20//NONSGML v1.0//EN
CALSCALE:GREGORIAN
METHOD:PUBLISH
X-WR-CALNAME:The Kerrville Life
X-ORIGINAL-URL:https://thekerrvillelife.com
X-WR-CALDESC:Events for The Kerrville Life
REFRESH-INTERVAL;VALUE=DURATION:PT1H
X-Robots-Tag:noindex
X-PUBLISHED-TTL:PT1H
BEGIN:VTIMEZONE
TZID:America/Chicago
BEGIN:DAYLIGHT
TZOFFSETFROM:-0600
TZOFFSETTO:-0500
TZNAME:CDT
DTSTART:20250309T080000
END:DAYLIGHT
BEGIN:STANDARD
TZOFFSETFROM:-0500
TZOFFSETTO:-0600
TZNAME:CST
DTSTART:20251102T070000
END:STANDARD
BEGIN:DAYLIGHT
TZOFFSETFROM:-0600
TZOFFSETTO:-0500
TZNAME:CDT
DTSTART:20260308T080000
END:DAYLIGHT
BEGIN:STANDARD
TZOFFSETFROM:-0500
TZOFFSETTO:-0600
TZNAME:CST
DTSTART:20261101T070000
END:STANDARD
BEGIN:DAYLIGHT
TZOFFSETFROM:-0600
TZOFFSETTO:-0500
TZNAME:CDT
DTSTART:20270314T080000
END:DAYLIGHT
BEGIN:STANDARD
TZOFFSETFROM:-0500
TZOFFSETTO:-0600
TZNAME:CST
DTSTART:20271107T070000
END:STANDARD
END:VTIMEZONE
BEGIN:VEVENT
DTSTART;TZID=America/Chicago:20260414T170000
DTEND;TZID=America/Chicago:20260414T233000
DTSTAMP:20260423T130821
CREATED:20260406T052529Z
LAST-MODIFIED:20260406T052843Z
UID:81098-1776186000-1776209400@thekerrvillelife.com
SUMMARY:Latin Night Every Tuesday at Divine's Sports Bar
DESCRIPTION:Latin Night takes place every Tuesday from 5 pm to 12 am at Divine’s Sports Bar in Kerrville\, bringing a lively mix of Tejano and Cumbia music to the dance floor each week. \nGuests can enjoy a festive atmosphere with music perfect for dancing\, along with drink specials including $3 Mexican Candy shots and $4 frozen margaritas. The event offers a fun and social midweek outing for those looking to enjoy Latin music and connect with others. \nLotería nights are also hosted periodically\, with special drink offers for players. Guests are encouraged to follow the venue for announcements\, as seating for Lotería events is limited and fills quickly. \nDivine’s Sports Bar is located in Kerrville\, TX. For more information\, contact the venue directly.
URL:https://thekerrvillelife.com/event/latin-night-every-tuesday-at-divines-sports-bar/2026-04-14/
LOCATION:Divine’s Sports Bar\, 225 Earl Garrett Street East\, Kerrville\, TX\, 78028\, United States
CATEGORIES:Music
ATTACH;FMTTYPE=image/jpeg:https://thekerrvillelife.com/wp-content/uploads/2026/04/latin-night-every-tuesday-at-divines-sports-bar.jpg
END:VEVENT
BEGIN:VEVENT
DTSTART;TZID=America/Chicago:20260415T170000
DTEND;TZID=America/Chicago:20260415T233000
DTSTAMP:20260423T130821
CREATED:20260406T033936Z
LAST-MODIFIED:20260406T052751Z
UID:81058-1776272400-1776295800@thekerrvillelife.com
SUMMARY:Country Night Every Wednesday at Divine's Sports Bar
DESCRIPTION:Country Night takes place every Wednesday from 5 pm to 12 am at Divine’s Sports Bar in Kerrville. This weekly event brings a lively country atmosphere with music\, dancing\, and drink specials. \nGuests can enjoy country classics and line dancing favorites throughout the night\, whether arriving with a partner or finding one on the dance floor. Drink specials include $5 call liquors\, featuring popular options like Jameson\, Deep Eddy’s\, Malibu\, Jack Daniel’s\, and more\, with bartenders available to help guide selections. \nThe event offers a fun and casual midweek outing for those looking to dance\, socialize\, and enjoy country music in a welcoming bar setting. \nDivine’s Sports Bar is located in Kerrville\, TX. For more information\, contact the venue directly.
URL:https://thekerrvillelife.com/event/country-night-every-wednesday-at-divines-sports-bar/2026-04-15/
LOCATION:Divine’s Sports Bar\, 225 Earl Garrett Street East\, Kerrville\, TX\, 78028\, United States
CATEGORIES:Music
ATTACH;FMTTYPE=image/jpeg:https://thekerrvillelife.com/wp-content/uploads/2026/04/country-night-every-wednesday-at-divines-sports-bar.jpg
END:VEVENT
BEGIN:VEVENT
DTSTART;TZID=America/Chicago:20260415T180000
DTEND;TZID=America/Chicago:20260415T220000
DTSTAMP:20260423T130821
CREATED:20251120T000728Z
LAST-MODIFIED:20251120T000728Z
UID:79492-1776276000-1776290400@thekerrvillelife.com
SUMMARY:Wednesday Karaoke Night at Gravity Check Saloon & Arena
DESCRIPTION:Singers of all levels can take the stage for a fun midweek night of music during Wednesday Karaoke Night at Gravity Check Saloon & Arena. Guests can belt out country classics\, rock anthems\, and pop favorites while enjoying a lively\, welcoming atmosphere with friends. \nKaraoke begins at 6 pm every Wednesday. The full bar is open until midnight\, and the kitchen serves until 9 pm\, making it easy to fuel up before or after your song. \nGravity Check Saloon & Arena is located at 3979 Bandera Highway\, Pipe Creek\, TX. For more information\, call 830-634-3075 or visit www.gravitychecksaloonandarena.com.
URL:https://thekerrvillelife.com/event/wednesday-karaoke-night-at-gravity-check-saloon-arena/2026-04-15/
LOCATION:Gravity Check Saloon and Arena\, 3979 Bandera Highway (173)\, Kerrville\, TX\, 78028\, United States
CATEGORIES:Music
ATTACH;FMTTYPE=image/jpeg:https://thekerrvillelife.com/wp-content/uploads/2025/09/karaoke-wednesday-nights-at-gravity-check-saloon-and-arena.jpg
END:VEVENT
BEGIN:VEVENT
DTSTART;TZID=America/Chicago:20260416T170000
DTEND;TZID=America/Chicago:20260416T200000
DTSTAMP:20260423T130821
CREATED:20250821T094324Z
LAST-MODIFIED:20251120T003246Z
UID:79624-1776358800-1776369600@thekerrvillelife.com
SUMMARY:Country Nights Open Mic at Gravity Check Saloon and Arena
DESCRIPTION:Country music fans can enjoy an easygoing evening of live local talent during Country Nights Open Mic at Gravity Check Saloon. Listeners can relax to a mix of classic and contemporary country\, while aspiring performers are welcome to bring an instrument and take a turn on stage. \nThe open mic runs every Thursday from 6 pm to 10 pm\, with the grill serving until 9 pm. \nGravity Check Saloon is located in Kerrville\, Texas.
URL:https://thekerrvillelife.com/event/country-nights-open-mic-at-gravity-check-saloon-and-arena/2026-04-16/
LOCATION:Gravity Check Saloon and Arena\, 3979 Bandera Highway (173)\, Kerrville\, TX\, 78028\, United States
CATEGORIES:Music
ATTACH;FMTTYPE=image/jpeg:https://thekerrvillelife.com/wp-content/uploads/2025/08/country-nights-open-mic-at-gravity-check-saloon-and-arena.jpg
END:VEVENT
BEGIN:VEVENT
DTSTART;TZID=America/Chicago:20260416T170000
DTEND;TZID=America/Chicago:20260416T233000
DTSTAMP:20260423T130821
CREATED:20260406T060013Z
LAST-MODIFIED:20260406T060013Z
UID:81128-1776358800-1776382200@thekerrvillelife.com
SUMMARY:Divine’s College Night – Every Thursday at Divines Sports Bar
DESCRIPTION:Divine’s College Night takes place every Thursday from 5 pm to 12 am at Divines Sports Bar in Kerrville. This weekly event offers a lively atmosphere with drink specials and a welcoming environment for students and the community. \nThe evening is designed as a casual night out featuring music\, socializing\, and rotating specials\, making it a popular spot to gather with friends. While geared toward college students\, all guests are welcome to enjoy the energy and fun. \nDivines Sports Bar is located in Kerrville\, TX. For more information\, contact the venue directly.
URL:https://thekerrvillelife.com/event/divines-college-night-every-thursday-at-divines-sports-bar/2026-04-16/
LOCATION:Divine’s Sports Bar\, 225 Earl Garrett Street East\, Kerrville\, TX\, 78028\, United States
CATEGORIES:Music
END:VEVENT
BEGIN:VEVENT
DTSTART;TZID=America/Chicago:20260417T200000
DTEND;TZID=America/Chicago:20260417T230000
DTSTAMP:20260423T130821
CREATED:20260406T055741Z
LAST-MODIFIED:20260406T055741Z
UID:81124-1776456000-1776466800@thekerrvillelife.com
SUMMARY:Trey Gonzalez at Schreiner University
DESCRIPTION:Trey Gonzalez makes his debut performance at Schreiner University on April 17\, 2026 at 8 pm. This special event introduces audiences to his country sound in a campus setting. \nKnown for his heartfelt style and growing presence in the Texas music scene\, Trey Gonzalez delivers a performance that blends traditional country influences with a modern edge. The show offers an opportunity for students and the community to experience live music in an engaging and energetic atmosphere. \nSchreiner University is located at 2100 Memorial Blvd.\, Kerrville\, TX 78028. For more information\, contact the university directly.
URL:https://thekerrvillelife.com/event/trey-gonzalez-at-schreiner-university/
LOCATION:Schreiner University\, 2100 Memorial Boulevard\, Kerrville\, TX\, 78028\, United States
CATEGORIES:Music
ATTACH;FMTTYPE=image/jpeg:https://thekerrvillelife.com/wp-content/uploads/2026/04/trey-gonzales-at-schreiner-university.jpg
END:VEVENT
BEGIN:VEVENT
DTSTART;TZID=America/Chicago:20260418T130000
DTEND;TZID=America/Chicago:20260418T160000
DTSTAMP:20260423T130821
CREATED:20260323T025148Z
LAST-MODIFIED:20260323T025148Z
UID:80910-1776517200-1776528000@thekerrvillelife.com
SUMMARY:Jacob Augustin Duo at Singing Water Vineyards
DESCRIPTION:A live performance by Jacob Augustin Duo takes place on Saturday\, April 18\, 2026 from 1 pm to 4 pm at Singing Water Vineyards. This all-ages event offers an afternoon of upbeat live music in a relaxed Hill Country setting. \nKnown for their energetic rockabilly style\, the Jacob Augustin Duo delivers a lively mix of rockin’ favorites that keep audiences tapping their toes and enjoying the atmosphere. Their high-energy performance pairs perfectly with the vineyard’s laid-back outdoor environment. \nAdmission is free\, and no tickets are required. Singing Water Vineyards is located in Comfort\, TX. For more information\, contact the venue directly.
URL:https://thekerrvillelife.com/event/jacob-augustin-duo-at-singing-water-vineyards/
LOCATION:Singing Water Vineyards\, 316 Mill Dam Rd\, Comfort\, TX\, 78013\, United States
CATEGORIES:Music
ATTACH;FMTTYPE=image/jpeg:https://thekerrvillelife.com/wp-content/uploads/2026/03/jacob-augustine-duo-live-at-singing-water-vineyards.jpg
END:VEVENT
BEGIN:VEVENT
DTSTART;TZID=America/Chicago:20260418T180000
DTEND;TZID=America/Chicago:20260418T203000
DTSTAMP:20260423T130821
CREATED:20260323T024424Z
LAST-MODIFIED:20260323T024424Z
UID:80908-1776535200-1776544200@thekerrvillelife.com
SUMMARY:The Fab 5 Returns! A Beatles Tribute at Singing Water Vineyards
DESCRIPTION:A tribute to The Beatles comes to Singing Water Vineyards on Saturday\, April 18\, 2026 from 6 pm to 8:30 pm. Performed by The Fab 5\, this outdoor concert recreates the excitement of the 1960s British Invasion with a lively\, immersive performance. \nFormed in 1990\, The Fab 5 are known for their attention to detail\, using vintage instruments\, period-correct amps\, and authentic costumes to capture the sound and style of The Beatles. Their show features classic hits along with music from other ‘60s favorites such as The Rolling Stones\, The Kinks\, The Monkees\, and Herman’s Hermits\, creating a dynamic and nostalgic concert experience. \nThe winery will be open for regular guests from 12 pm to 5 pm\, with concert entry beginning at 5 pm. A ticket is required to remain on the property after 5 pm\, and the show runs from 6:30 pm to 8:30 pm. Seating is outdoors\, and guests are encouraged to bring their own camping chairs unless they have reserved tables. Food and wine will be available for purchase\, and outside food and beverages are not permitted. The event will take place rain or shine. \nTickets are $15 for Singing Water Wine Club members and $20 for non-members. \nSinging Water Vineyards is located in Comfort\, TX. For more information or tickets\, contact the venue directly.
URL:https://thekerrvillelife.com/event/the-fab-5-returns-a-beatles-tribute-at-singing-water-vineyards/
LOCATION:Singing Water Vineyards\, 316 Mill Dam Rd\, Comfort\, TX\, 78013\, United States
CATEGORIES:Music
END:VEVENT
BEGIN:VEVENT
DTSTART;TZID=America/Chicago:20260418T190000
DTEND;TZID=America/Chicago:20260418T210000
DTSTAMP:20260423T130821
CREATED:20260406T060212Z
LAST-MODIFIED:20260406T060212Z
UID:81131-1776538800-1776546000@thekerrvillelife.com
SUMMARY:Acquired Taste at Trailhead Beer Garden
DESCRIPTION:Acquired Taste performs live on April 18\, 2026 from 7 pm to 9 pm at Trailhead Beer Garden on the Schreiner University campus in Kerrville. This evening show offers a relaxed outdoor setting with live music\, local brews\, and food truck fare. \nKnown for their mellow yet energetic sound\, Acquired Taste returns for their third appearance on the Trailhead stage\, bringing a mix of engaging tunes that create an easygoing and enjoyable atmosphere for guests. \nThe event is family- and pet-friendly\, with no admission fee. Guests can unwind after the day with drinks\, food\, and live music in a casual Hill Country setting. \nTrailhead Beer Garden is located in Kerrville\, TX. For more information\, contact the venue directly.
URL:https://thekerrvillelife.com/event/acquired-taste-at-trailhead-beer-garden/
LOCATION:Trailhead Beer Garden\, 2100 Memorial Boulevard\, Building #11\, Kerrville\, TX\, 78028\, United States
CATEGORIES:Music
END:VEVENT
BEGIN:VEVENT
DTSTART;TZID=America/Chicago:20260419T130000
DTEND;TZID=America/Chicago:20260419T160000
DTSTAMP:20260423T130821
CREATED:20260323T025423Z
LAST-MODIFIED:20260323T025423Z
UID:80912-1776603600-1776614400@thekerrvillelife.com
SUMMARY:Trey Gonzalez at Singing Water Vineyards
DESCRIPTION:A live performance by Trey Gonzalez takes place on Sunday\, April 19\, 2026 from 1 pm to 4 pm at Singing Water Vineyards. This all-ages event offers an afternoon of country music in a relaxed Hill Country setting. \nTrey Gonzalez brings a blend of classic country style and heartfelt performance\, delivering songs that reflect both his roots and growing presence as a young artist. With a laid-back stage presence and strong musical drive\, his set creates an engaging atmosphere for guests enjoying the vineyard. \nAdmission is free\, and no tickets are required. Singing Water Vineyards is located in Comfort\, TX. For more information\, contact the venue directly.
URL:https://thekerrvillelife.com/event/trey-gonzalez-at-singing-water-vineyards/
LOCATION:Singing Water Vineyards\, 316 Mill Dam Rd\, Comfort\, TX\, 78013\, United States
CATEGORIES:Music
ATTACH;FMTTYPE=image/jpeg:https://thekerrvillelife.com/wp-content/uploads/2026/03/trey-gonzalez-live-at-singing-water-vineyards.jpg
END:VEVENT
BEGIN:VEVENT
DTSTART;TZID=America/Chicago:20260419T150000
DTEND;TZID=America/Chicago:20260419T180000
DTSTAMP:20260423T130821
CREATED:20260406T052219Z
LAST-MODIFIED:20260406T052219Z
UID:81094-1776610800-1776621600@thekerrvillelife.com
SUMMARY:The Limestoners at Tailchasers Patio + Pub
DESCRIPTION:The Limestoners perform live on April 19\, 2026 from 3 pm to 6 pm at Tailchasers Patio + Pub in Kerrville. This Sunday afternoon show offers a laid-back way to enjoy live music in an outdoor\, pet-friendly setting. \nKnown for their fun and engaging style\, the duo delivers an upbeat performance that pairs well with the relaxed “Sunday Funday” atmosphere. Guests can enjoy good food\, drinks\, and live entertainment while spending time with friends and family. \nTailchasers Patio + Pub is located at 516 Jefferson Street\, Kerrville\, TX 78028. For more information\, contact the venue directly.
URL:https://thekerrvillelife.com/event/the-limestoners-at-tailchasers-patio-pub/
LOCATION:Tailchasers Patio + Pub\, 516 Jefferson Street\, Kerrville\, TX\, 78028\, United States
CATEGORIES:Music
ATTACH;FMTTYPE=image/jpeg:https://thekerrvillelife.com/wp-content/uploads/2026/04/the-limestoners-at-tailchasers-patio-pub.jpg
END:VEVENT
BEGIN:VEVENT
DTSTART;TZID=America/Chicago:20260419T180000
DTEND;TZID=America/Chicago:20260419T210000
DTSTAMP:20260423T130821
CREATED:20260406T033325Z
LAST-MODIFIED:20260406T033325Z
UID:81052-1776621600-1776632400@thekerrvillelife.com
SUMMARY:Old Weird America at Camp Believe It
DESCRIPTION:Old Weird America takes place on April 19\, 2026 at 6 pm at Camp Believe It in Kerrville. This event offers an evening gathering in a unique local setting\, inviting attendees to experience a creative and community-focused atmosphere. \nGuests can expect a distinctive event centered around music\, culture\, and connection\, reflecting the spirit suggested by its title. The venue provides an intimate space for attendees to come together and enjoy the experience. \nCamp Believe It is located at 105 Wendy Dr.\, Kerrville\, TX 78028. For more information\, contact event organizers directly.
URL:https://thekerrvillelife.com/event/old-weird-america-at-camp-believe-it/
LOCATION:Camp Believe It\, 105 Wendy Dr.\, Kerrville\, TX\, 78028\, United States
CATEGORIES:Music
ATTACH;FMTTYPE=image/jpeg:https://thekerrvillelife.com/wp-content/uploads/2026/04/old-weird-america-at-camp-believe-it.jpg
END:VEVENT
END:VCALENDAR