BEGIN:VCALENDAR
VERSION:2.0
PRODID:-//The Kerrville Life - ECPv6.15.20//NONSGML v1.0//EN
CALSCALE:GREGORIAN
METHOD:PUBLISH
X-ORIGINAL-URL:https://thekerrvillelife.com
X-WR-CALDESC:Events for The Kerrville Life
REFRESH-INTERVAL;VALUE=DURATION:PT1H
X-Robots-Tag:noindex
X-PUBLISHED-TTL:PT1H
BEGIN:VTIMEZONE
TZID:America/Chicago
BEGIN:DAYLIGHT
TZOFFSETFROM:-0600
TZOFFSETTO:-0500
TZNAME:CDT
DTSTART:20250309T080000
END:DAYLIGHT
BEGIN:STANDARD
TZOFFSETFROM:-0500
TZOFFSETTO:-0600
TZNAME:CST
DTSTART:20251102T070000
END:STANDARD
BEGIN:DAYLIGHT
TZOFFSETFROM:-0600
TZOFFSETTO:-0500
TZNAME:CDT
DTSTART:20260308T080000
END:DAYLIGHT
BEGIN:STANDARD
TZOFFSETFROM:-0500
TZOFFSETTO:-0600
TZNAME:CST
DTSTART:20261101T070000
END:STANDARD
BEGIN:DAYLIGHT
TZOFFSETFROM:-0600
TZOFFSETTO:-0500
TZNAME:CDT
DTSTART:20270314T080000
END:DAYLIGHT
BEGIN:STANDARD
TZOFFSETFROM:-0500
TZOFFSETTO:-0600
TZNAME:CST
DTSTART:20271107T070000
END:STANDARD
END:VTIMEZONE
BEGIN:VEVENT
DTSTART;TZID=America/Chicago:20260317T180000
DTEND;TZID=America/Chicago:20260317T210000
DTSTAMP:20260423T183540
CREATED:20251111T232856Z
LAST-MODIFIED:20251111T232856Z
UID:79248-1773770400-1773781200@thekerrvillelife.com
SUMMARY:Tuesdays with Shane Stumpf at Gravity Check Saloon
DESCRIPTION:Country music fans can kick up their heels for an evening of boot-scootin’ fun as Shane Stumpf & The Heartbreak Outlaws take the stage at Gravity Check Saloon. Guests can look forward to a lively mix of classic and contemporary country favorites guaranteed to keep dancers two-stepping all night long. \nPerformances will take place from 6 pm to 9 pm on select Tuesdays\, including November 18 and 25\, December 2\, 9\, 16\, 23\, and 30\, 2025; January 6\, 13\, 20\, and 27\, 2026; February 3\, 10\, 17\, and 24\, 2026; March 3\, 10\, 17\, 24\, and 31\, 2026; and April 7\, 2026. The grill will be open until 11 pm\, and the bar will be serving drinks throughout the night. \nGravity Check Saloon is located at 315 Farm-to-Market Road 473\, Kerrville\, TX 78028.
URL:https://thekerrvillelife.com/event/tuesdays-with-shane-stumpf-at-gravity-check-saloon/2026-03-17/
LOCATION:Gravity Check Saloon and Arena\, 3979 Bandera Highway (173)\, Kerrville\, TX\, 78028\, United States
CATEGORIES:Music
ATTACH;FMTTYPE=image/jpeg:https://thekerrvillelife.com/wp-content/uploads/2025/11/tuesdays-with-shane-stumpf-at-gravity-check-saloon.jpg
END:VEVENT
BEGIN:VEVENT
DTSTART;TZID=America/Chicago:20260318T180000
DTEND;TZID=America/Chicago:20260318T220000
DTSTAMP:20260423T183540
CREATED:20251120T000728Z
LAST-MODIFIED:20251120T000728Z
UID:79488-1773856800-1773871200@thekerrvillelife.com
SUMMARY:Wednesday Karaoke Night at Gravity Check Saloon & Arena
DESCRIPTION:Singers of all levels can take the stage for a fun midweek night of music during Wednesday Karaoke Night at Gravity Check Saloon & Arena. Guests can belt out country classics\, rock anthems\, and pop favorites while enjoying a lively\, welcoming atmosphere with friends. \nKaraoke begins at 6 pm every Wednesday. The full bar is open until midnight\, and the kitchen serves until 9 pm\, making it easy to fuel up before or after your song. \nGravity Check Saloon & Arena is located at 3979 Bandera Highway\, Pipe Creek\, TX. For more information\, call 830-634-3075 or visit www.gravitychecksaloonandarena.com.
URL:https://thekerrvillelife.com/event/wednesday-karaoke-night-at-gravity-check-saloon-arena/2026-03-18/
LOCATION:Gravity Check Saloon and Arena\, 3979 Bandera Highway (173)\, Kerrville\, TX\, 78028\, United States
CATEGORIES:Music
ATTACH;FMTTYPE=image/jpeg:https://thekerrvillelife.com/wp-content/uploads/2025/09/karaoke-wednesday-nights-at-gravity-check-saloon-and-arena.jpg
END:VEVENT
BEGIN:VEVENT
DTSTART;TZID=America/Chicago:20260319T170000
DTEND;TZID=America/Chicago:20260319T200000
DTSTAMP:20260423T183540
CREATED:20250821T094324Z
LAST-MODIFIED:20251120T003243Z
UID:79620-1773939600-1773950400@thekerrvillelife.com
SUMMARY:Country Nights Open Mic at Gravity Check Saloon and Arena
DESCRIPTION:Country music fans can enjoy an easygoing evening of live local talent during Country Nights Open Mic at Gravity Check Saloon. Listeners can relax to a mix of classic and contemporary country\, while aspiring performers are welcome to bring an instrument and take a turn on stage. \nThe open mic runs every Thursday from 6 pm to 10 pm\, with the grill serving until 9 pm. \nGravity Check Saloon is located in Kerrville\, Texas.
URL:https://thekerrvillelife.com/event/country-nights-open-mic-at-gravity-check-saloon-and-arena/2026-03-19/
LOCATION:Gravity Check Saloon and Arena\, 3979 Bandera Highway (173)\, Kerrville\, TX\, 78028\, United States
CATEGORIES:Music
ATTACH;FMTTYPE=image/jpeg:https://thekerrvillelife.com/wp-content/uploads/2025/08/country-nights-open-mic-at-gravity-check-saloon-and-arena.jpg
END:VEVENT
BEGIN:VEVENT
DTSTART;TZID=America/Chicago:20260320T180000
DTEND;TZID=America/Chicago:20260320T220000
DTSTAMP:20260423T183540
CREATED:20260226T020138Z
LAST-MODIFIED:20260226T020138Z
UID:80729-1774029600-1774044000@thekerrvillelife.com
SUMMARY:Laura Anglade at Arcadia Live
DESCRIPTION:An intimate evening of jazz takes center stage when Laura Anglade performs with the Ben Rosenblum Trio on March 20\, 2026 from 6 pm to 10 pm as part of Arcadia Live’s “In The Round Series.” These special performances place the artists in the center of the theatre\, creating a unique\, up-close concert experience that surrounds the audience with music. \nThe Centennial Club opens at 5 pm\, followed by doors and bar service at 6 pm. Laura Anglade takes the stage at 7 pm. Known for her rich tone and expressive storytelling\, Anglade evokes the great traditional vocal stylists of the 20th century while delivering a sound that is distinctly her own. She will be accompanied by New York City jazz pianist and accordionist Ben Rosenblum and his trio\, whose artistry has earned national praise for its depth and musical sensitivity. \nTickets are available through Arcadia Live for this special In The Round performance.
URL:https://thekerrvillelife.com/event/laura-anglade-at-arcadia-live/
LOCATION:Arcadia Live Theatre\, 717 Water Street\, Kerrville\, TX\, 78028\, United States
CATEGORIES:Music
ATTACH;FMTTYPE=image/jpeg:https://thekerrvillelife.com/wp-content/uploads/2026/02/laura-anglade-at-arcadia-live.jpg
END:VEVENT
END:VCALENDAR