BEGIN:VCALENDAR
VERSION:2.0
PRODID:-//The Kerrville Life - ECPv6.15.20//NONSGML v1.0//EN
CALSCALE:GREGORIAN
METHOD:PUBLISH
X-WR-CALNAME:The Kerrville Life
X-ORIGINAL-URL:https://thekerrvillelife.com
X-WR-CALDESC:Events for The Kerrville Life
REFRESH-INTERVAL;VALUE=DURATION:PT1H
X-Robots-Tag:noindex
X-PUBLISHED-TTL:PT1H
BEGIN:VTIMEZONE
TZID:America/Chicago
BEGIN:DAYLIGHT
TZOFFSETFROM:-0600
TZOFFSETTO:-0500
TZNAME:CDT
DTSTART:20250309T080000
END:DAYLIGHT
BEGIN:STANDARD
TZOFFSETFROM:-0500
TZOFFSETTO:-0600
TZNAME:CST
DTSTART:20251102T070000
END:STANDARD
BEGIN:DAYLIGHT
TZOFFSETFROM:-0600
TZOFFSETTO:-0500
TZNAME:CDT
DTSTART:20260308T080000
END:DAYLIGHT
BEGIN:STANDARD
TZOFFSETFROM:-0500
TZOFFSETTO:-0600
TZNAME:CST
DTSTART:20261101T070000
END:STANDARD
BEGIN:DAYLIGHT
TZOFFSETFROM:-0600
TZOFFSETTO:-0500
TZNAME:CDT
DTSTART:20270314T080000
END:DAYLIGHT
BEGIN:STANDARD
TZOFFSETFROM:-0500
TZOFFSETTO:-0600
TZNAME:CST
DTSTART:20271107T070000
END:STANDARD
END:VTIMEZONE
BEGIN:VEVENT
DTSTART;TZID=America/Chicago:20260424T180000
DTEND;TZID=America/Chicago:20260424T200000
DTSTAMP:20260423T053725
CREATED:20260406T053647Z
LAST-MODIFIED:20260406T053647Z
UID:81116-1777053600-1777060800@thekerrvillelife.com
SUMMARY:Susan Herndon Live at Pint & Plow Brewing Company
DESCRIPTION:A live performance by Susan Herndon takes place on April 24\, 2026 from 6 pm to 8 pm at Pint & Plow Brewing Company in Kerrville. This evening show features a blend of original music and covers in a relaxed brewery setting. \nSusan Herndon brings a soulful Americana sound shaped by influences from folk\, jazz\, and country-rock. A multi-instrumentalist who plays guitar\, piano\, and upright bass\, she has toured extensively across the U.S. and Europe and has released 12 albums of original music. Her performances highlight storytelling and musical versatility\, often accompanied by selections from her band\, the Bella Counsel. \nGuests can enjoy an evening of live music alongside craft beverages in a casual and welcoming atmosphere. \nPint & Plow Brewing Company is located at 332 Clay St.\, Kerrville\, TX 78028. For more information\, contact the venue directly.
URL:https://thekerrvillelife.com/event/susan-herndon-live-at-pint-plow-brewing-company/
LOCATION:Pint & Plow Brewing Company\, 332 Clay Street\, Kerrville\, TX\, 78028\, United States
CATEGORIES:Music
END:VEVENT
BEGIN:VEVENT
DTSTART;TZID=America/Chicago:20260424T190000
DTEND;TZID=America/Chicago:20260424T220000
DTSTAMP:20260423T053725
CREATED:20260305T033457Z
LAST-MODIFIED:20260305T033457Z
UID:80850-1777057200-1777068000@thekerrvillelife.com
SUMMARY:Kin Faux at Arcadia Live
DESCRIPTION:Texas Red Dirt country takes the stage when Kin Faux performs live at Arcadia Live on April 24\, 2026 from 7 pm to 10 pm. The Centennial Club opens at 6 pm\, followed by doors and bar service at 7 pm. An opening act begins at 7:30 pm\, and Kin Faux takes the stage at 8:30 pm. \nBased in San Antonio\, Kin Faux has built a reputation as a dynamic nationally touring band known for high-energy performances and strong vocal harmonies. Drawing inspiration from artists such as Charlie Daniels\, Alabama\, and Restless Heart\, the group blends traditional country roots with the modern spirit of the Texas Red Dirt sound. Their performances feature the fiddle playing of Rico Gonzalez\, the guitar work of Jakey Black\, and a powerful rhythm section that drives the band’s energetic live shows. \nAs they continue touring and reaching new audiences\, Kin Faux is gaining recognition as one of the rising acts in the Texas country music scene. \nAll ticket sales are final\, except in the case of artist or venue cancellation or postponement. Arcadia Live cannot provide refunds.
URL:https://thekerrvillelife.com/event/kin-faux-at-arcadia-live/
LOCATION:Arcadia Live Theatre\, 717 Water Street\, Kerrville\, TX\, 78028\, United States
CATEGORIES:Music
ATTACH;FMTTYPE=image/jpeg:https://thekerrvillelife.com/wp-content/uploads/2026/03/kin-faux-at-arcadia-live.jpg
END:VEVENT
END:VCALENDAR