BEGIN:VCALENDAR
VERSION:2.0
PRODID:-//The Kerrville Life - ECPv6.15.20//NONSGML v1.0//EN
CALSCALE:GREGORIAN
METHOD:PUBLISH
X-ORIGINAL-URL:https://thekerrvillelife.com
X-WR-CALDESC:Events for The Kerrville Life
REFRESH-INTERVAL;VALUE=DURATION:PT1H
X-Robots-Tag:noindex
X-PUBLISHED-TTL:PT1H
BEGIN:VTIMEZONE
TZID:America/Chicago
BEGIN:DAYLIGHT
TZOFFSETFROM:-0600
TZOFFSETTO:-0500
TZNAME:CDT
DTSTART:20250309T080000
END:DAYLIGHT
BEGIN:STANDARD
TZOFFSETFROM:-0500
TZOFFSETTO:-0600
TZNAME:CST
DTSTART:20251102T070000
END:STANDARD
BEGIN:DAYLIGHT
TZOFFSETFROM:-0600
TZOFFSETTO:-0500
TZNAME:CDT
DTSTART:20260308T080000
END:DAYLIGHT
BEGIN:STANDARD
TZOFFSETFROM:-0500
TZOFFSETTO:-0600
TZNAME:CST
DTSTART:20261101T070000
END:STANDARD
BEGIN:DAYLIGHT
TZOFFSETFROM:-0600
TZOFFSETTO:-0500
TZNAME:CDT
DTSTART:20270314T080000
END:DAYLIGHT
BEGIN:STANDARD
TZOFFSETFROM:-0500
TZOFFSETTO:-0600
TZNAME:CST
DTSTART:20271107T070000
END:STANDARD
END:VTIMEZONE
BEGIN:VEVENT
DTSTART;TZID=America/Chicago:20260419T130000
DTEND;TZID=America/Chicago:20260419T160000
DTSTAMP:20260423T120703
CREATED:20260323T025423Z
LAST-MODIFIED:20260323T025423Z
UID:80912-1776603600-1776614400@thekerrvillelife.com
SUMMARY:Trey Gonzalez at Singing Water Vineyards
DESCRIPTION:A live performance by Trey Gonzalez takes place on Sunday\, April 19\, 2026 from 1 pm to 4 pm at Singing Water Vineyards. This all-ages event offers an afternoon of country music in a relaxed Hill Country setting. \nTrey Gonzalez brings a blend of classic country style and heartfelt performance\, delivering songs that reflect both his roots and growing presence as a young artist. With a laid-back stage presence and strong musical drive\, his set creates an engaging atmosphere for guests enjoying the vineyard. \nAdmission is free\, and no tickets are required. Singing Water Vineyards is located in Comfort\, TX. For more information\, contact the venue directly.
URL:https://thekerrvillelife.com/event/trey-gonzalez-at-singing-water-vineyards/
LOCATION:Singing Water Vineyards\, 316 Mill Dam Rd\, Comfort\, TX\, 78013\, United States
CATEGORIES:Music
ATTACH;FMTTYPE=image/jpeg:https://thekerrvillelife.com/wp-content/uploads/2026/03/trey-gonzalez-live-at-singing-water-vineyards.jpg
END:VEVENT
BEGIN:VEVENT
DTSTART;TZID=America/Chicago:20260419T150000
DTEND;TZID=America/Chicago:20260419T180000
DTSTAMP:20260423T120703
CREATED:20260406T052219Z
LAST-MODIFIED:20260406T052219Z
UID:81094-1776610800-1776621600@thekerrvillelife.com
SUMMARY:The Limestoners at Tailchasers Patio + Pub
DESCRIPTION:The Limestoners perform live on April 19\, 2026 from 3 pm to 6 pm at Tailchasers Patio + Pub in Kerrville. This Sunday afternoon show offers a laid-back way to enjoy live music in an outdoor\, pet-friendly setting. \nKnown for their fun and engaging style\, the duo delivers an upbeat performance that pairs well with the relaxed “Sunday Funday” atmosphere. Guests can enjoy good food\, drinks\, and live entertainment while spending time with friends and family. \nTailchasers Patio + Pub is located at 516 Jefferson Street\, Kerrville\, TX 78028. For more information\, contact the venue directly.
URL:https://thekerrvillelife.com/event/the-limestoners-at-tailchasers-patio-pub/
LOCATION:Tailchasers Patio + Pub\, 516 Jefferson Street\, Kerrville\, TX\, 78028\, United States
CATEGORIES:Music
ATTACH;FMTTYPE=image/jpeg:https://thekerrvillelife.com/wp-content/uploads/2026/04/the-limestoners-at-tailchasers-patio-pub.jpg
END:VEVENT
BEGIN:VEVENT
DTSTART;TZID=America/Chicago:20260419T180000
DTEND;TZID=America/Chicago:20260419T210000
DTSTAMP:20260423T120703
CREATED:20260406T033325Z
LAST-MODIFIED:20260406T033325Z
UID:81052-1776621600-1776632400@thekerrvillelife.com
SUMMARY:Old Weird America at Camp Believe It
DESCRIPTION:Old Weird America takes place on April 19\, 2026 at 6 pm at Camp Believe It in Kerrville. This event offers an evening gathering in a unique local setting\, inviting attendees to experience a creative and community-focused atmosphere. \nGuests can expect a distinctive event centered around music\, culture\, and connection\, reflecting the spirit suggested by its title. The venue provides an intimate space for attendees to come together and enjoy the experience. \nCamp Believe It is located at 105 Wendy Dr.\, Kerrville\, TX 78028. For more information\, contact event organizers directly.
URL:https://thekerrvillelife.com/event/old-weird-america-at-camp-believe-it/
LOCATION:Camp Believe It\, 105 Wendy Dr.\, Kerrville\, TX\, 78028\, United States
CATEGORIES:Music
ATTACH;FMTTYPE=image/jpeg:https://thekerrvillelife.com/wp-content/uploads/2026/04/old-weird-america-at-camp-believe-it.jpg
END:VEVENT
END:VCALENDAR