BEGIN:VCALENDAR
VERSION:2.0
PRODID:-//The Kerrville Life - ECPv6.15.20//NONSGML v1.0//EN
CALSCALE:GREGORIAN
METHOD:PUBLISH
X-WR-CALNAME:The Kerrville Life
X-ORIGINAL-URL:https://thekerrvillelife.com
X-WR-CALDESC:Events for The Kerrville Life
REFRESH-INTERVAL;VALUE=DURATION:PT1H
X-Robots-Tag:noindex
X-PUBLISHED-TTL:PT1H
BEGIN:VTIMEZONE
TZID:America/Chicago
BEGIN:DAYLIGHT
TZOFFSETFROM:-0600
TZOFFSETTO:-0500
TZNAME:CDT
DTSTART:20250309T080000
END:DAYLIGHT
BEGIN:STANDARD
TZOFFSETFROM:-0500
TZOFFSETTO:-0600
TZNAME:CST
DTSTART:20251102T070000
END:STANDARD
BEGIN:DAYLIGHT
TZOFFSETFROM:-0600
TZOFFSETTO:-0500
TZNAME:CDT
DTSTART:20260308T080000
END:DAYLIGHT
BEGIN:STANDARD
TZOFFSETFROM:-0500
TZOFFSETTO:-0600
TZNAME:CST
DTSTART:20261101T070000
END:STANDARD
BEGIN:DAYLIGHT
TZOFFSETFROM:-0600
TZOFFSETTO:-0500
TZNAME:CDT
DTSTART:20270314T080000
END:DAYLIGHT
BEGIN:STANDARD
TZOFFSETFROM:-0500
TZOFFSETTO:-0600
TZNAME:CST
DTSTART:20271107T070000
END:STANDARD
END:VTIMEZONE
BEGIN:VEVENT
DTSTART;TZID=America/Chicago:20260417T200000
DTEND;TZID=America/Chicago:20260417T230000
DTSTAMP:20260423T041640
CREATED:20260406T055741Z
LAST-MODIFIED:20260406T055741Z
UID:81124-1776456000-1776466800@thekerrvillelife.com
SUMMARY:Trey Gonzalez at Schreiner University
DESCRIPTION:Trey Gonzalez makes his debut performance at Schreiner University on April 17\, 2026 at 8 pm. This special event introduces audiences to his country sound in a campus setting. \nKnown for his heartfelt style and growing presence in the Texas music scene\, Trey Gonzalez delivers a performance that blends traditional country influences with a modern edge. The show offers an opportunity for students and the community to experience live music in an engaging and energetic atmosphere. \nSchreiner University is located at 2100 Memorial Blvd.\, Kerrville\, TX 78028. For more information\, contact the university directly.
URL:https://thekerrvillelife.com/event/trey-gonzalez-at-schreiner-university/
LOCATION:Schreiner University\, 2100 Memorial Boulevard\, Kerrville\, TX\, 78028\, United States
CATEGORIES:Music
ATTACH;FMTTYPE=image/jpeg:https://thekerrvillelife.com/wp-content/uploads/2026/04/trey-gonzales-at-schreiner-university.jpg
END:VEVENT
END:VCALENDAR