BEGIN:VCALENDAR
VERSION:2.0
PRODID:-//The Kerrville Life - ECPv6.15.20//NONSGML v1.0//EN
CALSCALE:GREGORIAN
METHOD:PUBLISH
X-ORIGINAL-URL:https://thekerrvillelife.com
X-WR-CALDESC:Events for The Kerrville Life
REFRESH-INTERVAL;VALUE=DURATION:PT1H
X-Robots-Tag:noindex
X-PUBLISHED-TTL:PT1H
BEGIN:VTIMEZONE
TZID:America/Chicago
BEGIN:DAYLIGHT
TZOFFSETFROM:-0600
TZOFFSETTO:-0500
TZNAME:CDT
DTSTART:20250309T080000
END:DAYLIGHT
BEGIN:STANDARD
TZOFFSETFROM:-0500
TZOFFSETTO:-0600
TZNAME:CST
DTSTART:20251102T070000
END:STANDARD
BEGIN:DAYLIGHT
TZOFFSETFROM:-0600
TZOFFSETTO:-0500
TZNAME:CDT
DTSTART:20260308T080000
END:DAYLIGHT
BEGIN:STANDARD
TZOFFSETFROM:-0500
TZOFFSETTO:-0600
TZNAME:CST
DTSTART:20261101T070000
END:STANDARD
BEGIN:DAYLIGHT
TZOFFSETFROM:-0600
TZOFFSETTO:-0500
TZNAME:CDT
DTSTART:20270314T080000
END:DAYLIGHT
BEGIN:STANDARD
TZOFFSETFROM:-0500
TZOFFSETTO:-0600
TZNAME:CST
DTSTART:20271107T070000
END:STANDARD
END:VTIMEZONE
BEGIN:VEVENT
DTSTART;TZID=America/Chicago:20260305T170000
DTEND;TZID=America/Chicago:20260305T200000
DTSTAMP:20260423T165650
CREATED:20250821T094324Z
LAST-MODIFIED:20251120T003242Z
UID:79618-1772730000-1772740800@thekerrvillelife.com
SUMMARY:Country Nights Open Mic at Gravity Check Saloon and Arena
DESCRIPTION:Country music fans can enjoy an easygoing evening of live local talent during Country Nights Open Mic at Gravity Check Saloon. Listeners can relax to a mix of classic and contemporary country\, while aspiring performers are welcome to bring an instrument and take a turn on stage. \nThe open mic runs every Thursday from 6 pm to 10 pm\, with the grill serving until 9 pm. \nGravity Check Saloon is located in Kerrville\, Texas.
URL:https://thekerrvillelife.com/event/country-nights-open-mic-at-gravity-check-saloon-and-arena/2026-03-05/
LOCATION:Gravity Check Saloon and Arena\, 3979 Bandera Highway (173)\, Kerrville\, TX\, 78028\, United States
CATEGORIES:Music
ATTACH;FMTTYPE=image/jpeg:https://thekerrvillelife.com/wp-content/uploads/2025/08/country-nights-open-mic-at-gravity-check-saloon-and-arena.jpg
END:VEVENT
END:VCALENDAR