BEGIN:VCALENDAR
VERSION:2.0
PRODID:-//The Kerrville Life - ECPv6.15.20//NONSGML v1.0//EN
CALSCALE:GREGORIAN
METHOD:PUBLISH
X-WR-CALNAME:The Kerrville Life
X-ORIGINAL-URL:https://thekerrvillelife.com
X-WR-CALDESC:Events for The Kerrville Life
REFRESH-INTERVAL;VALUE=DURATION:PT1H
X-Robots-Tag:noindex
X-PUBLISHED-TTL:PT1H
BEGIN:VTIMEZONE
TZID:America/Chicago
BEGIN:DAYLIGHT
TZOFFSETFROM:-0600
TZOFFSETTO:-0500
TZNAME:CDT
DTSTART:20250309T080000
END:DAYLIGHT
BEGIN:STANDARD
TZOFFSETFROM:-0500
TZOFFSETTO:-0600
TZNAME:CST
DTSTART:20251102T070000
END:STANDARD
BEGIN:DAYLIGHT
TZOFFSETFROM:-0600
TZOFFSETTO:-0500
TZNAME:CDT
DTSTART:20260308T080000
END:DAYLIGHT
BEGIN:STANDARD
TZOFFSETFROM:-0500
TZOFFSETTO:-0600
TZNAME:CST
DTSTART:20261101T070000
END:STANDARD
BEGIN:DAYLIGHT
TZOFFSETFROM:-0600
TZOFFSETTO:-0500
TZNAME:CDT
DTSTART:20270314T080000
END:DAYLIGHT
BEGIN:STANDARD
TZOFFSETFROM:-0500
TZOFFSETTO:-0600
TZNAME:CST
DTSTART:20271107T070000
END:STANDARD
END:VTIMEZONE
BEGIN:VEVENT
DTSTART;TZID=America/Chicago:20260101T170000
DTEND;TZID=America/Chicago:20260101T200000
DTSTAMP:20260423T233628
CREATED:20250821T094324Z
LAST-MODIFIED:20251120T003237Z
UID:79609-1767286800-1767297600@thekerrvillelife.com
SUMMARY:Country Nights Open Mic at Gravity Check Saloon and Arena
DESCRIPTION:Country music fans can enjoy an easygoing evening of live local talent during Country Nights Open Mic at Gravity Check Saloon. Listeners can relax to a mix of classic and contemporary country\, while aspiring performers are welcome to bring an instrument and take a turn on stage. \nThe open mic runs every Thursday from 6 pm to 10 pm\, with the grill serving until 9 pm. \nGravity Check Saloon is located in Kerrville\, Texas.
URL:https://thekerrvillelife.com/event/country-nights-open-mic-at-gravity-check-saloon-and-arena/2026-01-01/
LOCATION:Gravity Check Saloon and Arena\, 3979 Bandera Highway (173)\, Kerrville\, TX\, 78028\, United States
CATEGORIES:Music
ATTACH;FMTTYPE=image/jpeg:https://thekerrvillelife.com/wp-content/uploads/2025/08/country-nights-open-mic-at-gravity-check-saloon-and-arena.jpg
END:VEVENT
BEGIN:VEVENT
DTSTART;TZID=America/Chicago:20260103T190000
DTEND;TZID=America/Chicago:20260103T220000
DTSTAMP:20260423T233628
CREATED:20251216T000007Z
LAST-MODIFIED:20251216T000007Z
UID:79806-1767466800-1767477600@thekerrvillelife.com
SUMMARY:Symphony of the Hills: A Time to Dance: All That Jazz at Cailloux Theater
DESCRIPTION:Symphony of the Hills presents an evening celebrating jazz as a uniquely American art form and its lasting influence on music and dance around the world. From New Orleans roots to Broadway favorites\, big band sounds\, and Western Swing\, this concert highlights the energy\, style\, and cultural impact of jazz through a lively and varied program. \nThe performance takes place on Saturday\, January 3\, 2026\, at 7 pm at the Cailloux Theater\, located at 910 Main Street in Kerrville\, Texas. The program features vocal solos\, dancers\, and a pianist performing George Gershwin’s Variations on I Got Rhythm\, alongside selections including Chicago\, West Side Story\, Avalon\, You’ll Never Walk Alone from Carousel\, Joplin Ragtime\, Love Medley\, Sophisticated Ladies highlights\, I’ve Got You Under My Skin\, Saxanova\, You Must Believe in Spring from Le Demoiselles de Rochefort\, and A Chorus Line. Dancers from the Tivy Golden Girls add a visual element to this jazz-inspired evening. \nAdditional details regarding tickets and seating are available through Symphony of the Hills and the Cailloux Theater.
URL:https://thekerrvillelife.com/event/symphony-of-the-hills-a-time-to-dance-all-that-jazz-at-cailloux-theater/
LOCATION:Cailloux Theater\, 910 Main Street\, Kerrville\, TX\, 78028\, United States
CATEGORIES:Music
ATTACH;FMTTYPE=image/jpeg:https://thekerrvillelife.com/wp-content/uploads/2025/12/symphony-of-the-hills-a-time-to-dance-at-cailloux-theater.jpg
END:VEVENT
BEGIN:VEVENT
DTSTART;TZID=America/Chicago:20260106T180000
DTEND;TZID=America/Chicago:20260106T210000
DTSTAMP:20260423T233628
CREATED:20251111T232856Z
LAST-MODIFIED:20251111T232856Z
UID:79238-1767722400-1767733200@thekerrvillelife.com
SUMMARY:Tuesdays with Shane Stumpf at Gravity Check Saloon
DESCRIPTION:Country music fans can kick up their heels for an evening of boot-scootin’ fun as Shane Stumpf & The Heartbreak Outlaws take the stage at Gravity Check Saloon. Guests can look forward to a lively mix of classic and contemporary country favorites guaranteed to keep dancers two-stepping all night long. \nPerformances will take place from 6 pm to 9 pm on select Tuesdays\, including November 18 and 25\, December 2\, 9\, 16\, 23\, and 30\, 2025; January 6\, 13\, 20\, and 27\, 2026; February 3\, 10\, 17\, and 24\, 2026; March 3\, 10\, 17\, 24\, and 31\, 2026; and April 7\, 2026. The grill will be open until 11 pm\, and the bar will be serving drinks throughout the night. \nGravity Check Saloon is located at 315 Farm-to-Market Road 473\, Kerrville\, TX 78028.
URL:https://thekerrvillelife.com/event/tuesdays-with-shane-stumpf-at-gravity-check-saloon/2026-01-06/
LOCATION:Gravity Check Saloon and Arena\, 3979 Bandera Highway (173)\, Kerrville\, TX\, 78028\, United States
CATEGORIES:Music
ATTACH;FMTTYPE=image/jpeg:https://thekerrvillelife.com/wp-content/uploads/2025/11/tuesdays-with-shane-stumpf-at-gravity-check-saloon.jpg
END:VEVENT
BEGIN:VEVENT
DTSTART;TZID=America/Chicago:20260107T180000
DTEND;TZID=America/Chicago:20260107T220000
DTSTAMP:20260423T233628
CREATED:20251120T000728Z
LAST-MODIFIED:20251120T000728Z
UID:79476-1767808800-1767823200@thekerrvillelife.com
SUMMARY:Wednesday Karaoke Night at Gravity Check Saloon & Arena
DESCRIPTION:Singers of all levels can take the stage for a fun midweek night of music during Wednesday Karaoke Night at Gravity Check Saloon & Arena. Guests can belt out country classics\, rock anthems\, and pop favorites while enjoying a lively\, welcoming atmosphere with friends. \nKaraoke begins at 6 pm every Wednesday. The full bar is open until midnight\, and the kitchen serves until 9 pm\, making it easy to fuel up before or after your song. \nGravity Check Saloon & Arena is located at 3979 Bandera Highway\, Pipe Creek\, TX. For more information\, call 830-634-3075 or visit www.gravitychecksaloonandarena.com.
URL:https://thekerrvillelife.com/event/wednesday-karaoke-night-at-gravity-check-saloon-arena/2026-01-07/
LOCATION:Gravity Check Saloon and Arena\, 3979 Bandera Highway (173)\, Kerrville\, TX\, 78028\, United States
CATEGORIES:Music
ATTACH;FMTTYPE=image/jpeg:https://thekerrvillelife.com/wp-content/uploads/2025/09/karaoke-wednesday-nights-at-gravity-check-saloon-and-arena.jpg
END:VEVENT
BEGIN:VEVENT
DTSTART;TZID=America/Chicago:20260108T170000
DTEND;TZID=America/Chicago:20260108T200000
DTSTAMP:20260423T233628
CREATED:20250821T094324Z
LAST-MODIFIED:20251120T003237Z
UID:79610-1767891600-1767902400@thekerrvillelife.com
SUMMARY:Country Nights Open Mic at Gravity Check Saloon and Arena
DESCRIPTION:Country music fans can enjoy an easygoing evening of live local talent during Country Nights Open Mic at Gravity Check Saloon. Listeners can relax to a mix of classic and contemporary country\, while aspiring performers are welcome to bring an instrument and take a turn on stage. \nThe open mic runs every Thursday from 6 pm to 10 pm\, with the grill serving until 9 pm. \nGravity Check Saloon is located in Kerrville\, Texas.
URL:https://thekerrvillelife.com/event/country-nights-open-mic-at-gravity-check-saloon-and-arena/2026-01-08/
LOCATION:Gravity Check Saloon and Arena\, 3979 Bandera Highway (173)\, Kerrville\, TX\, 78028\, United States
CATEGORIES:Music
ATTACH;FMTTYPE=image/jpeg:https://thekerrvillelife.com/wp-content/uploads/2025/08/country-nights-open-mic-at-gravity-check-saloon-and-arena.jpg
END:VEVENT
BEGIN:VEVENT
DTSTART;TZID=America/Chicago:20260113T180000
DTEND;TZID=America/Chicago:20260113T210000
DTSTAMP:20260423T233628
CREATED:20251111T232856Z
LAST-MODIFIED:20251111T232856Z
UID:79239-1768327200-1768338000@thekerrvillelife.com
SUMMARY:Tuesdays with Shane Stumpf at Gravity Check Saloon
DESCRIPTION:Country music fans can kick up their heels for an evening of boot-scootin’ fun as Shane Stumpf & The Heartbreak Outlaws take the stage at Gravity Check Saloon. Guests can look forward to a lively mix of classic and contemporary country favorites guaranteed to keep dancers two-stepping all night long. \nPerformances will take place from 6 pm to 9 pm on select Tuesdays\, including November 18 and 25\, December 2\, 9\, 16\, 23\, and 30\, 2025; January 6\, 13\, 20\, and 27\, 2026; February 3\, 10\, 17\, and 24\, 2026; March 3\, 10\, 17\, 24\, and 31\, 2026; and April 7\, 2026. The grill will be open until 11 pm\, and the bar will be serving drinks throughout the night. \nGravity Check Saloon is located at 315 Farm-to-Market Road 473\, Kerrville\, TX 78028.
URL:https://thekerrvillelife.com/event/tuesdays-with-shane-stumpf-at-gravity-check-saloon/2026-01-13/
LOCATION:Gravity Check Saloon and Arena\, 3979 Bandera Highway (173)\, Kerrville\, TX\, 78028\, United States
CATEGORIES:Music
ATTACH;FMTTYPE=image/jpeg:https://thekerrvillelife.com/wp-content/uploads/2025/11/tuesdays-with-shane-stumpf-at-gravity-check-saloon.jpg
END:VEVENT
BEGIN:VEVENT
DTSTART;TZID=America/Chicago:20260114T180000
DTEND;TZID=America/Chicago:20260114T220000
DTSTAMP:20260423T233628
CREATED:20251120T000728Z
LAST-MODIFIED:20251120T000728Z
UID:79479-1768413600-1768428000@thekerrvillelife.com
SUMMARY:Wednesday Karaoke Night at Gravity Check Saloon & Arena
DESCRIPTION:Singers of all levels can take the stage for a fun midweek night of music during Wednesday Karaoke Night at Gravity Check Saloon & Arena. Guests can belt out country classics\, rock anthems\, and pop favorites while enjoying a lively\, welcoming atmosphere with friends. \nKaraoke begins at 6 pm every Wednesday. The full bar is open until midnight\, and the kitchen serves until 9 pm\, making it easy to fuel up before or after your song. \nGravity Check Saloon & Arena is located at 3979 Bandera Highway\, Pipe Creek\, TX. For more information\, call 830-634-3075 or visit www.gravitychecksaloonandarena.com.
URL:https://thekerrvillelife.com/event/wednesday-karaoke-night-at-gravity-check-saloon-arena/2026-01-14/
LOCATION:Gravity Check Saloon and Arena\, 3979 Bandera Highway (173)\, Kerrville\, TX\, 78028\, United States
CATEGORIES:Music
ATTACH;FMTTYPE=image/jpeg:https://thekerrvillelife.com/wp-content/uploads/2025/09/karaoke-wednesday-nights-at-gravity-check-saloon-and-arena.jpg
END:VEVENT
BEGIN:VEVENT
DTSTART;TZID=America/Chicago:20260115T170000
DTEND;TZID=America/Chicago:20260115T200000
DTSTAMP:20260423T233628
CREATED:20250821T094324Z
LAST-MODIFIED:20251120T003239Z
UID:79611-1768496400-1768507200@thekerrvillelife.com
SUMMARY:Country Nights Open Mic at Gravity Check Saloon and Arena
DESCRIPTION:Country music fans can enjoy an easygoing evening of live local talent during Country Nights Open Mic at Gravity Check Saloon. Listeners can relax to a mix of classic and contemporary country\, while aspiring performers are welcome to bring an instrument and take a turn on stage. \nThe open mic runs every Thursday from 6 pm to 10 pm\, with the grill serving until 9 pm. \nGravity Check Saloon is located in Kerrville\, Texas.
URL:https://thekerrvillelife.com/event/country-nights-open-mic-at-gravity-check-saloon-and-arena/2026-01-15/
LOCATION:Gravity Check Saloon and Arena\, 3979 Bandera Highway (173)\, Kerrville\, TX\, 78028\, United States
CATEGORIES:Music
ATTACH;FMTTYPE=image/jpeg:https://thekerrvillelife.com/wp-content/uploads/2025/08/country-nights-open-mic-at-gravity-check-saloon-and-arena.jpg
END:VEVENT
BEGIN:VEVENT
DTSTART;TZID=America/Chicago:20260120T180000
DTEND;TZID=America/Chicago:20260120T210000
DTSTAMP:20260423T233628
CREATED:20251111T232856Z
LAST-MODIFIED:20251111T232856Z
UID:79240-1768932000-1768942800@thekerrvillelife.com
SUMMARY:Tuesdays with Shane Stumpf at Gravity Check Saloon
DESCRIPTION:Country music fans can kick up their heels for an evening of boot-scootin’ fun as Shane Stumpf & The Heartbreak Outlaws take the stage at Gravity Check Saloon. Guests can look forward to a lively mix of classic and contemporary country favorites guaranteed to keep dancers two-stepping all night long. \nPerformances will take place from 6 pm to 9 pm on select Tuesdays\, including November 18 and 25\, December 2\, 9\, 16\, 23\, and 30\, 2025; January 6\, 13\, 20\, and 27\, 2026; February 3\, 10\, 17\, and 24\, 2026; March 3\, 10\, 17\, 24\, and 31\, 2026; and April 7\, 2026. The grill will be open until 11 pm\, and the bar will be serving drinks throughout the night. \nGravity Check Saloon is located at 315 Farm-to-Market Road 473\, Kerrville\, TX 78028.
URL:https://thekerrvillelife.com/event/tuesdays-with-shane-stumpf-at-gravity-check-saloon/2026-01-20/
LOCATION:Gravity Check Saloon and Arena\, 3979 Bandera Highway (173)\, Kerrville\, TX\, 78028\, United States
CATEGORIES:Music
ATTACH;FMTTYPE=image/jpeg:https://thekerrvillelife.com/wp-content/uploads/2025/11/tuesdays-with-shane-stumpf-at-gravity-check-saloon.jpg
END:VEVENT
BEGIN:VEVENT
DTSTART;TZID=America/Chicago:20260121T180000
DTEND;TZID=America/Chicago:20260121T220000
DTSTAMP:20260423T233628
CREATED:20251120T000728Z
LAST-MODIFIED:20251120T000728Z
UID:79480-1769018400-1769032800@thekerrvillelife.com
SUMMARY:Wednesday Karaoke Night at Gravity Check Saloon & Arena
DESCRIPTION:Singers of all levels can take the stage for a fun midweek night of music during Wednesday Karaoke Night at Gravity Check Saloon & Arena. Guests can belt out country classics\, rock anthems\, and pop favorites while enjoying a lively\, welcoming atmosphere with friends. \nKaraoke begins at 6 pm every Wednesday. The full bar is open until midnight\, and the kitchen serves until 9 pm\, making it easy to fuel up before or after your song. \nGravity Check Saloon & Arena is located at 3979 Bandera Highway\, Pipe Creek\, TX. For more information\, call 830-634-3075 or visit www.gravitychecksaloonandarena.com.
URL:https://thekerrvillelife.com/event/wednesday-karaoke-night-at-gravity-check-saloon-arena/2026-01-21/
LOCATION:Gravity Check Saloon and Arena\, 3979 Bandera Highway (173)\, Kerrville\, TX\, 78028\, United States
CATEGORIES:Music
ATTACH;FMTTYPE=image/jpeg:https://thekerrvillelife.com/wp-content/uploads/2025/09/karaoke-wednesday-nights-at-gravity-check-saloon-and-arena.jpg
END:VEVENT
BEGIN:VEVENT
DTSTART;TZID=America/Chicago:20260122T170000
DTEND;TZID=America/Chicago:20260122T200000
DTSTAMP:20260423T233628
CREATED:20250821T094324Z
LAST-MODIFIED:20251120T003239Z
UID:79612-1769101200-1769112000@thekerrvillelife.com
SUMMARY:Country Nights Open Mic at Gravity Check Saloon and Arena
DESCRIPTION:Country music fans can enjoy an easygoing evening of live local talent during Country Nights Open Mic at Gravity Check Saloon. Listeners can relax to a mix of classic and contemporary country\, while aspiring performers are welcome to bring an instrument and take a turn on stage. \nThe open mic runs every Thursday from 6 pm to 10 pm\, with the grill serving until 9 pm. \nGravity Check Saloon is located in Kerrville\, Texas.
URL:https://thekerrvillelife.com/event/country-nights-open-mic-at-gravity-check-saloon-and-arena/2026-01-22/
LOCATION:Gravity Check Saloon and Arena\, 3979 Bandera Highway (173)\, Kerrville\, TX\, 78028\, United States
CATEGORIES:Music
ATTACH;FMTTYPE=image/jpeg:https://thekerrvillelife.com/wp-content/uploads/2025/08/country-nights-open-mic-at-gravity-check-saloon-and-arena.jpg
END:VEVENT
BEGIN:VEVENT
DTSTART;TZID=America/Chicago:20260123T180000
DTEND;TZID=America/Chicago:20260123T200000
DTSTAMP:20260423T233628
CREATED:20260109T033235Z
LAST-MODIFIED:20260109T033235Z
UID:79991-1769191200-1769198400@thekerrvillelife.com
SUMMARY:Broadway Leading Ladies at Cailloux Theater
DESCRIPTION:Broadway Leading Ladies presents an evening of theatrical performance celebrating the power\, talent\, and storytelling of iconic female voices from the Broadway stage. Set in the historic Cailloux Theater\, the program offers an engaging night of live entertainment highlighting memorable moments from musical theater. \nThe performance takes place on Friday\, January 23\, 2026\, from 6 pm to 8 pm at the Cailloux Theater\, located in Kerrville\, Texas. Audiences can expect a thoughtfully crafted experience designed to entertain and inspire in one of the Hill Country’s premier performing arts venues. \nAdditional details regarding tickets\, seating\, and event information are available through the Cailloux Theater.
URL:https://thekerrvillelife.com/event/broadway-leading-ladies-at-cailloux-theater/
LOCATION:Cailloux Theater\, 910 Main Street\, Kerrville\, TX\, 78028\, United States
CATEGORIES:Music
ATTACH;FMTTYPE=image/jpeg:https://thekerrvillelife.com/wp-content/uploads/2026/01/broadway-leading-ladies-at-cailloux-theater.jpg
END:VEVENT
BEGIN:VEVENT
DTSTART;TZID=America/Chicago:20260123T200000
DTEND;TZID=America/Chicago:20260123T230000
DTSTAMP:20260423T233628
CREATED:20260109T032240Z
LAST-MODIFIED:20260109T032240Z
UID:79987-1769198400-1769209200@thekerrvillelife.com
SUMMARY:ZZ Tex: ZZ Top Tribute Show at Arcadia Live Theatre
DESCRIPTION:ZZ Tex brings the music of ZZ Top to the stage with a high-energy tribute that captures the sound\, style\, and spirit of the legendary Texas rock band. Based in Dallas\, the group recreates the raw blues-rock feel of ZZ Top’s most iconic concerts\, blending well-known hits with deeper cuts that longtime fans will recognize. \nThe performance takes place on Friday\, January 23\, 2026\, at Arcadia Live Theatre\, located at 717 Water Street in Kerrville\, Texas. Doors and the bar open at 7 pm\, with ZZ Tex taking the stage at 8 pm. Ticket information and availability are handled through Arcadia Live\, and all ticket sales are final with no refunds. \nFor additional details\, contact Arcadia Live Theatre at (830) 315-5483.
URL:https://thekerrvillelife.com/event/zz-tex-zz-top-tribute-show-at-arcadia-live-theatre/
LOCATION:Arcadia Live Theatre\, 717 Water Street\, Kerrville\, TX\, 78028\, United States
CATEGORIES:Music
ATTACH;FMTTYPE=image/jpeg:https://thekerrvillelife.com/wp-content/uploads/2026/01/zz-tex-zz-top-tribute-show-at-arcadia-live-theatre.jpg
END:VEVENT
BEGIN:VEVENT
DTSTART;TZID=America/Chicago:20260127T180000
DTEND;TZID=America/Chicago:20260127T210000
DTSTAMP:20260423T233628
CREATED:20251111T232856Z
LAST-MODIFIED:20251111T232856Z
UID:79241-1769536800-1769547600@thekerrvillelife.com
SUMMARY:Tuesdays with Shane Stumpf at Gravity Check Saloon
DESCRIPTION:Country music fans can kick up their heels for an evening of boot-scootin’ fun as Shane Stumpf & The Heartbreak Outlaws take the stage at Gravity Check Saloon. Guests can look forward to a lively mix of classic and contemporary country favorites guaranteed to keep dancers two-stepping all night long. \nPerformances will take place from 6 pm to 9 pm on select Tuesdays\, including November 18 and 25\, December 2\, 9\, 16\, 23\, and 30\, 2025; January 6\, 13\, 20\, and 27\, 2026; February 3\, 10\, 17\, and 24\, 2026; March 3\, 10\, 17\, 24\, and 31\, 2026; and April 7\, 2026. The grill will be open until 11 pm\, and the bar will be serving drinks throughout the night. \nGravity Check Saloon is located at 315 Farm-to-Market Road 473\, Kerrville\, TX 78028.
URL:https://thekerrvillelife.com/event/tuesdays-with-shane-stumpf-at-gravity-check-saloon/2026-01-27/
LOCATION:Gravity Check Saloon and Arena\, 3979 Bandera Highway (173)\, Kerrville\, TX\, 78028\, United States
CATEGORIES:Music
ATTACH;FMTTYPE=image/jpeg:https://thekerrvillelife.com/wp-content/uploads/2025/11/tuesdays-with-shane-stumpf-at-gravity-check-saloon.jpg
END:VEVENT
BEGIN:VEVENT
DTSTART;TZID=America/Chicago:20260128T180000
DTEND;TZID=America/Chicago:20260128T220000
DTSTAMP:20260423T233628
CREATED:20251120T000728Z
LAST-MODIFIED:20251120T000728Z
UID:79481-1769623200-1769637600@thekerrvillelife.com
SUMMARY:Wednesday Karaoke Night at Gravity Check Saloon & Arena
DESCRIPTION:Singers of all levels can take the stage for a fun midweek night of music during Wednesday Karaoke Night at Gravity Check Saloon & Arena. Guests can belt out country classics\, rock anthems\, and pop favorites while enjoying a lively\, welcoming atmosphere with friends. \nKaraoke begins at 6 pm every Wednesday. The full bar is open until midnight\, and the kitchen serves until 9 pm\, making it easy to fuel up before or after your song. \nGravity Check Saloon & Arena is located at 3979 Bandera Highway\, Pipe Creek\, TX. For more information\, call 830-634-3075 or visit www.gravitychecksaloonandarena.com.
URL:https://thekerrvillelife.com/event/wednesday-karaoke-night-at-gravity-check-saloon-arena/2026-01-28/
LOCATION:Gravity Check Saloon and Arena\, 3979 Bandera Highway (173)\, Kerrville\, TX\, 78028\, United States
CATEGORIES:Music
ATTACH;FMTTYPE=image/jpeg:https://thekerrvillelife.com/wp-content/uploads/2025/09/karaoke-wednesday-nights-at-gravity-check-saloon-and-arena.jpg
END:VEVENT
BEGIN:VEVENT
DTSTART;TZID=America/Chicago:20260129T170000
DTEND;TZID=America/Chicago:20260129T200000
DTSTAMP:20260423T233628
CREATED:20250821T094324Z
LAST-MODIFIED:20251120T003240Z
UID:79613-1769706000-1769716800@thekerrvillelife.com
SUMMARY:Country Nights Open Mic at Gravity Check Saloon and Arena
DESCRIPTION:Country music fans can enjoy an easygoing evening of live local talent during Country Nights Open Mic at Gravity Check Saloon. Listeners can relax to a mix of classic and contemporary country\, while aspiring performers are welcome to bring an instrument and take a turn on stage. \nThe open mic runs every Thursday from 6 pm to 10 pm\, with the grill serving until 9 pm. \nGravity Check Saloon is located in Kerrville\, Texas.
URL:https://thekerrvillelife.com/event/country-nights-open-mic-at-gravity-check-saloon-and-arena/2026-01-29/
LOCATION:Gravity Check Saloon and Arena\, 3979 Bandera Highway (173)\, Kerrville\, TX\, 78028\, United States
CATEGORIES:Music
ATTACH;FMTTYPE=image/jpeg:https://thekerrvillelife.com/wp-content/uploads/2025/08/country-nights-open-mic-at-gravity-check-saloon-and-arena.jpg
END:VEVENT
BEGIN:VEVENT
DTSTART;TZID=America/Chicago:20260131T193000
DTEND;TZID=America/Chicago:20260131T223000
DTSTAMP:20260423T233628
CREATED:20260123T005518Z
LAST-MODIFIED:20260123T005518Z
UID:80026-1769887800-1769898600@thekerrvillelife.com
SUMMARY:The New Buddy Holly Band: Rock & Roll Rewind at Cailloux Theater
DESCRIPTION:The New Buddy Holly Band brings classic rock and roll back to the stage with Rock & Roll Rewind\, an evening dedicated to the music and spirit of Buddy Holly and the early days of rock. The performance features high-energy renditions of timeless songs that capture the feel-good sound and style of a defining era in American music. \nThe concert takes place on Saturday\, January 31\, 2026\, at 7:30 pm at the Cailloux Theater in Kerrville\, Texas. Tickets are available in advance and may be purchased online at https://caillouxperformingarts.my.salesforce-sites.com/ticket/#/events/a0STV000002thj72AA. \nAdditional information about the performance and seating can be found through the Cailloux Theater box office.
URL:https://thekerrvillelife.com/event/the-new-buddy-holly-band-rock-roll-rewind-at-cailloux-theater/
LOCATION:Cailloux Theater\, 910 Main Street\, Kerrville\, TX\, 78028\, United States
CATEGORIES:Music
ATTACH;FMTTYPE=image/jpeg:https://thekerrvillelife.com/wp-content/uploads/2026/01/the-new-buddy-holly-band-rock-and-roll-rewind-at-cailloux-theater.jpg
END:VEVENT
END:VCALENDAR