BEGIN:VCALENDAR
VERSION:2.0
PRODID:-//The Kerrville Life - ECPv6.15.20//NONSGML v1.0//EN
CALSCALE:GREGORIAN
METHOD:PUBLISH
X-WR-CALNAME:The Kerrville Life
X-ORIGINAL-URL:https://thekerrvillelife.com
X-WR-CALDESC:Events for The Kerrville Life
REFRESH-INTERVAL;VALUE=DURATION:PT1H
X-Robots-Tag:noindex
X-PUBLISHED-TTL:PT1H
BEGIN:VTIMEZONE
TZID:America/Chicago
BEGIN:DAYLIGHT
TZOFFSETFROM:-0600
TZOFFSETTO:-0500
TZNAME:CDT
DTSTART:20240310T080000
END:DAYLIGHT
BEGIN:STANDARD
TZOFFSETFROM:-0500
TZOFFSETTO:-0600
TZNAME:CST
DTSTART:20241103T070000
END:STANDARD
BEGIN:DAYLIGHT
TZOFFSETFROM:-0600
TZOFFSETTO:-0500
TZNAME:CDT
DTSTART:20250309T080000
END:DAYLIGHT
BEGIN:STANDARD
TZOFFSETFROM:-0500
TZOFFSETTO:-0600
TZNAME:CST
DTSTART:20251102T070000
END:STANDARD
BEGIN:DAYLIGHT
TZOFFSETFROM:-0600
TZOFFSETTO:-0500
TZNAME:CDT
DTSTART:20260308T080000
END:DAYLIGHT
BEGIN:STANDARD
TZOFFSETFROM:-0500
TZOFFSETTO:-0600
TZNAME:CST
DTSTART:20261101T070000
END:STANDARD
END:VTIMEZONE
BEGIN:VEVENT
DTSTART;TZID=America/Chicago:20251202T100000
DTEND;TZID=America/Chicago:20251202T160000
DTSTAMP:20260424T230314
CREATED:20251119T233742Z
LAST-MODIFIED:20251119T233742Z
UID:79348-1764669600-1764691200@thekerrvillelife.com
SUMMARY:ArtMart – Christmas Gift Showcase at Hill Country Arts Foundation
DESCRIPTION:The Hill Country Arts Foundation invites visitors to browse the annual ArtMart – Christmas Gift Showcase\, a festive holiday shopping event featuring hand-made crafts and artwork created by talented local artists. Shoppers can find unique\, one-of-a-kind gifts perfect for the holiday season while supporting area artisans. \nThe showcase runs from November 18 through December 13\, 2025\, open Tuesday through Saturday from 10 am to 4 pm (closed Sundays and Mondays). \nThe Hill Country Arts Foundation is located at 120 Point Theatre Road\, Ingram\, TX.
URL:https://thekerrvillelife.com/event/artmart-christmas-gift-showcase-at-hill-country-arts-foundation/2025-12-02/
LOCATION:Hill Country Arts Foundation\, 120 Point Theatre Road\, Ingram\, TX\, 78025\, United States
CATEGORIES:Holiday,Shopping
ATTACH;FMTTYPE=image/jpeg:https://thekerrvillelife.com/wp-content/uploads/2025/11/artmart-christmas-gift-showcase-at-hill-country-arts-foundation.jpg
END:VEVENT
BEGIN:VEVENT
DTSTART;TZID=America/Chicago:20251203T100000
DTEND;TZID=America/Chicago:20251203T160000
DTSTAMP:20260424T230314
CREATED:20251119T233742Z
LAST-MODIFIED:20251119T233742Z
UID:79349-1764756000-1764777600@thekerrvillelife.com
SUMMARY:ArtMart – Christmas Gift Showcase at Hill Country Arts Foundation
DESCRIPTION:The Hill Country Arts Foundation invites visitors to browse the annual ArtMart – Christmas Gift Showcase\, a festive holiday shopping event featuring hand-made crafts and artwork created by talented local artists. Shoppers can find unique\, one-of-a-kind gifts perfect for the holiday season while supporting area artisans. \nThe showcase runs from November 18 through December 13\, 2025\, open Tuesday through Saturday from 10 am to 4 pm (closed Sundays and Mondays). \nThe Hill Country Arts Foundation is located at 120 Point Theatre Road\, Ingram\, TX.
URL:https://thekerrvillelife.com/event/artmart-christmas-gift-showcase-at-hill-country-arts-foundation/2025-12-03/
LOCATION:Hill Country Arts Foundation\, 120 Point Theatre Road\, Ingram\, TX\, 78025\, United States
CATEGORIES:Holiday,Shopping
ATTACH;FMTTYPE=image/jpeg:https://thekerrvillelife.com/wp-content/uploads/2025/11/artmart-christmas-gift-showcase-at-hill-country-arts-foundation.jpg
END:VEVENT
BEGIN:VEVENT
DTSTART;TZID=America/Chicago:20251204T090000
DTEND;TZID=America/Chicago:20251204T103000
DTSTAMP:20260424T230314
CREATED:20251120T014037Z
LAST-MODIFIED:20251120T014037Z
UID:79670-1764838800-1764844200@thekerrvillelife.com
SUMMARY:RWKC Coffee & Conversations – Holiday Edition at Los Jimadores Mexican Grill and Bar
DESCRIPTION:The Republican Women of Kerr County will host a special Holiday Edition of Coffee & Conversations\, offering a relaxed setting for community members to meet and speak with Republican candidates representing Kerr County residents. Attendees can learn more about upcoming campaigns\, ask questions\, and explore opportunities to get involved. This gathering takes the place of the regular November and December sessions due to the holiday season. \nThe event will take place on Thursday\, December 4\, 2025\, from 9 am to 10:30 am at Los Jimadores Mexican Grill and Bar. Guests are encouraged to register online at rwkctx.org to assist with the expected headcount. Breakfast will be available for purchase. \nLos Jimadores Mexican Grill and Bar is located at 1550 Junction Highway\, Kerrville\, TX 78028.
URL:https://thekerrvillelife.com/event/rwkc-coffee-conversations-holiday-edition-at-los-jimadores-mexican-grill-and-bar/
LOCATION:Los Jimadores Mexican Grill and Bar\, 1550 Junction Highway\, Kerrville\, TX\, 78028\, United States
CATEGORIES:Food & Drink,Holiday
ATTACH;FMTTYPE=image/jpeg:https://thekerrvillelife.com/wp-content/uploads/2025/11/rwkc-coffee-and-conversations-holiday-edition-at-los-jimadores-mexican-grill-and-bar.jpg
END:VEVENT
BEGIN:VEVENT
DTSTART;TZID=America/Chicago:20251204T100000
DTEND;TZID=America/Chicago:20251204T160000
DTSTAMP:20260424T230314
CREATED:20251119T233742Z
LAST-MODIFIED:20251119T233742Z
UID:79350-1764842400-1764864000@thekerrvillelife.com
SUMMARY:ArtMart – Christmas Gift Showcase at Hill Country Arts Foundation
DESCRIPTION:The Hill Country Arts Foundation invites visitors to browse the annual ArtMart – Christmas Gift Showcase\, a festive holiday shopping event featuring hand-made crafts and artwork created by talented local artists. Shoppers can find unique\, one-of-a-kind gifts perfect for the holiday season while supporting area artisans. \nThe showcase runs from November 18 through December 13\, 2025\, open Tuesday through Saturday from 10 am to 4 pm (closed Sundays and Mondays). \nThe Hill Country Arts Foundation is located at 120 Point Theatre Road\, Ingram\, TX.
URL:https://thekerrvillelife.com/event/artmart-christmas-gift-showcase-at-hill-country-arts-foundation/2025-12-04/
LOCATION:Hill Country Arts Foundation\, 120 Point Theatre Road\, Ingram\, TX\, 78025\, United States
CATEGORIES:Holiday,Shopping
ATTACH;FMTTYPE=image/jpeg:https://thekerrvillelife.com/wp-content/uploads/2025/11/artmart-christmas-gift-showcase-at-hill-country-arts-foundation.jpg
END:VEVENT
BEGIN:VEVENT
DTSTART;VALUE=DATE:20251205
DTEND;VALUE=DATE:20251229
DTSTAMP:20260424T230314
CREATED:20251120T015710Z
LAST-MODIFIED:20251120T015710Z
UID:79678-1764892800-1766966399@thekerrvillelife.com
SUMMARY:Merry Magic at Jellystone Park™ Weekends at Yogi Bear’s Jellystone Park Camp-Resort: Guadalupe River
DESCRIPTION:Holiday cheer fills the season during Merry Magic Weekends at Yogi Bear’s Jellystone Park™ from December 5 through December 28\, 2025. Families can enjoy a festive lineup of activities\, including a special visit from Santa\, giving children the chance to share their holiday wishes with St. Nick. \nGuests are invited to take part in the Site Decorating Contest by transforming their campsite into a winter wonderland for a chance to win a sparkling prize. The Golf Cart Decorating Contest adds even more fun\, as participants parade through the park to spread holiday spirit. A cheerful Holiday Party rounds out the festivities with games and seasonal activities for all ages. \nMerry Magic events take place throughout the day on weekends\, from 12 am to 11:55 pm. \nYogi Bear’s Jellystone Park Camp-Resort: Guadalupe River is located in Kerrville\, Texas.
URL:https://thekerrvillelife.com/event/merry-magic-at-jellystone-park-weekends-at-yogi-bears-jellystone-park-camp-resort-guadalupe-river/
LOCATION:Yogi Bear’s Jellystone Park Guadalupe River\, 2605 Junction Highway\, Kerrville\, TX\, 78028\, United States
CATEGORIES:Holiday,Kids & Family
ATTACH;FMTTYPE=image/jpeg:https://thekerrvillelife.com/wp-content/uploads/2025/11/merry-magic-at-jellystone-park-weekends-at-yogi-bears-jellystone-park-camp-resort-guadalupe-river.jpg
END:VEVENT
BEGIN:VEVENT
DTSTART;TZID=America/Chicago:20251205T100000
DTEND;TZID=America/Chicago:20251205T160000
DTSTAMP:20260424T230314
CREATED:20251119T233742Z
LAST-MODIFIED:20251119T233742Z
UID:79351-1764928800-1764950400@thekerrvillelife.com
SUMMARY:ArtMart – Christmas Gift Showcase at Hill Country Arts Foundation
DESCRIPTION:The Hill Country Arts Foundation invites visitors to browse the annual ArtMart – Christmas Gift Showcase\, a festive holiday shopping event featuring hand-made crafts and artwork created by talented local artists. Shoppers can find unique\, one-of-a-kind gifts perfect for the holiday season while supporting area artisans. \nThe showcase runs from November 18 through December 13\, 2025\, open Tuesday through Saturday from 10 am to 4 pm (closed Sundays and Mondays). \nThe Hill Country Arts Foundation is located at 120 Point Theatre Road\, Ingram\, TX.
URL:https://thekerrvillelife.com/event/artmart-christmas-gift-showcase-at-hill-country-arts-foundation/2025-12-05/
LOCATION:Hill Country Arts Foundation\, 120 Point Theatre Road\, Ingram\, TX\, 78025\, United States
CATEGORIES:Holiday,Shopping
ATTACH;FMTTYPE=image/jpeg:https://thekerrvillelife.com/wp-content/uploads/2025/11/artmart-christmas-gift-showcase-at-hill-country-arts-foundation.jpg
END:VEVENT
BEGIN:VEVENT
DTSTART;TZID=America/Chicago:20251206T100000
DTEND;TZID=America/Chicago:20251206T160000
DTSTAMP:20260424T230314
CREATED:20251119T233742Z
LAST-MODIFIED:20251119T233742Z
UID:79352-1765015200-1765036800@thekerrvillelife.com
SUMMARY:ArtMart – Christmas Gift Showcase at Hill Country Arts Foundation
DESCRIPTION:The Hill Country Arts Foundation invites visitors to browse the annual ArtMart – Christmas Gift Showcase\, a festive holiday shopping event featuring hand-made crafts and artwork created by talented local artists. Shoppers can find unique\, one-of-a-kind gifts perfect for the holiday season while supporting area artisans. \nThe showcase runs from November 18 through December 13\, 2025\, open Tuesday through Saturday from 10 am to 4 pm (closed Sundays and Mondays). \nThe Hill Country Arts Foundation is located at 120 Point Theatre Road\, Ingram\, TX.
URL:https://thekerrvillelife.com/event/artmart-christmas-gift-showcase-at-hill-country-arts-foundation/2025-12-06/
LOCATION:Hill Country Arts Foundation\, 120 Point Theatre Road\, Ingram\, TX\, 78025\, United States
CATEGORIES:Holiday,Shopping
ATTACH;FMTTYPE=image/jpeg:https://thekerrvillelife.com/wp-content/uploads/2025/11/artmart-christmas-gift-showcase-at-hill-country-arts-foundation.jpg
END:VEVENT
BEGIN:VEVENT
DTSTART;TZID=America/Chicago:20251206T150000
DTEND;TZID=America/Chicago:20251206T190000
DTSTAMP:20260424T230314
CREATED:20251120T020817Z
LAST-MODIFIED:20251120T020817Z
UID:79682-1765033200-1765047600@thekerrvillelife.com
SUMMARY:Running Home for the Holidays 5K at Louise Hays Park
DESCRIPTION:Families and festive runners can celebrate the season during the Running Home for the Holidays 5K at Louise Hays Park. Participants are encouraged to dress as Santa\, elves\, Whoville characters\, or any favorite Christmas figure for a fun and spirited event. This untimed race welcomes all ages and all paces—run\, jog\, or walk the course while enjoying the holiday atmosphere. \nEach registration includes a medal and entry into a raffle for great prizes. Extra raffle tickets are available for $5 when purchased during registration. The first 50 participants to register are guaranteed an event t-shirt. Raffle winners will be announced at the event. Pre-registration is encouraged\, and those who register by November 6\, 2025\, will receive a guaranteed t-shirt. \nThe race will take place on Saturday\, December 6\, 2025\, at 3 pm. Registration closes December 3\, 2025. The fee is $15 per participant\, and the event is open to all ages. \nThe 5K begins at Louise Hays Park\, 202 Thompson Drive\, Kerrville\, TX. For more information\, email recreation@kerrvilletx.gov. To register\, call (830) 257-7300 or visit the online registration link.
URL:https://thekerrvillelife.com/event/running-home-for-the-holidays-5k-at-louise-hays-park/
LOCATION:Louise Hays Park\, 202 Thompson Dr\, Kerrville\, TX\, 78028\, United States
CATEGORIES:Health & Wellness,Holiday,Outdoors
ATTACH;FMTTYPE=image/jpeg:https://thekerrvillelife.com/wp-content/uploads/2025/11/running-home-for-the-holidays-5k-at-louise-hays-park.jpg
END:VEVENT
BEGIN:VEVENT
DTSTART;TZID=America/Chicago:20251207T160000
DTEND;TZID=America/Chicago:20251207T170000
DTSTAMP:20260424T230314
CREATED:20251120T021404Z
LAST-MODIFIED:20251120T021404Z
UID:79684-1765123200-1765126800@thekerrvillelife.com
SUMMARY:Ornaments of Hope Workshop at St. Peter’s Church (Tucker Hall)
DESCRIPTION:Families are invited to take part in the Ornaments of Hope Workshop\, a heartwarming holiday event organized by the Guadalupe River Center to celebrate creativity\, community\, and the spirit of renewal along the Guadalupe River. During this special gathering\, children will craft a festive ornament made from Hill Country flood-reclaimed cypress wood—transformed into a meaningful keepsake that symbolizes hope\, resilience\, and love for the river. \nThe ornament-making session will be guided by Hunt artist Callie Stelter\, who will lead children step-by-step in creating their Christmas keepsake. The workshop also includes a kid-friendly educational segment about cypress trees\, highlighting their importance to the river ecosystem and their powerful symbolism. A story circle will feature a guest reader sharing a heartwarming tale about trees\, inspiring young participants to see the connection between nature\, creativity\, and hope. Additional Christmas crafts will add extra fun and festive cheer. \nThe event will take place on Sunday\, December 7\, 2025\, from 4 pm to 5 pm at St. Peter’s Church in Tucker Hall. The workshop is free\, thanks to the support of the Guadalupe River Center\, UGRA\, and Redemption Mill. \nRSVP is required for space and supplies. To reserve a spot\, visit https://givebutter.com/KerrXmas.
URL:https://thekerrvillelife.com/event/ornaments-of-hope-workshop-at-st-peters-church-tucker-hall/
LOCATION:St. Peter’s Episcopal Church and School\, 320 Saint Peter St\, Kerrville\, TX\, 78028\, United States
CATEGORIES:Arts & Culture,Holiday
ATTACH;FMTTYPE=image/jpeg:https://thekerrvillelife.com/wp-content/uploads/2025/11/ornaments-of-hope-workshop-at-st-peters-church.jpg
END:VEVENT
END:VCALENDAR