BEGIN:VCALENDAR
VERSION:2.0
PRODID:-//The Kerrville Life - ECPv6.15.20//NONSGML v1.0//EN
CALSCALE:GREGORIAN
METHOD:PUBLISH
X-ORIGINAL-URL:https://thekerrvillelife.com
X-WR-CALDESC:Events for The Kerrville Life
REFRESH-INTERVAL;VALUE=DURATION:PT1H
X-Robots-Tag:noindex
X-PUBLISHED-TTL:PT1H
BEGIN:VTIMEZONE
TZID:America/Chicago
BEGIN:DAYLIGHT
TZOFFSETFROM:-0600
TZOFFSETTO:-0500
TZNAME:CDT
DTSTART:20240310T080000
END:DAYLIGHT
BEGIN:STANDARD
TZOFFSETFROM:-0500
TZOFFSETTO:-0600
TZNAME:CST
DTSTART:20241103T070000
END:STANDARD
BEGIN:DAYLIGHT
TZOFFSETFROM:-0600
TZOFFSETTO:-0500
TZNAME:CDT
DTSTART:20250309T080000
END:DAYLIGHT
BEGIN:STANDARD
TZOFFSETFROM:-0500
TZOFFSETTO:-0600
TZNAME:CST
DTSTART:20251102T070000
END:STANDARD
BEGIN:DAYLIGHT
TZOFFSETFROM:-0600
TZOFFSETTO:-0500
TZNAME:CDT
DTSTART:20260308T080000
END:DAYLIGHT
BEGIN:STANDARD
TZOFFSETFROM:-0500
TZOFFSETTO:-0600
TZNAME:CST
DTSTART:20261101T070000
END:STANDARD
END:VTIMEZONE
BEGIN:VEVENT
DTSTART;VALUE=DATE:20251205
DTEND;VALUE=DATE:20251229
DTSTAMP:20260424T213030
CREATED:20251120T015710Z
LAST-MODIFIED:20251120T015710Z
UID:79678-1764892800-1766966399@thekerrvillelife.com
SUMMARY:Merry Magic at Jellystone Park™ Weekends at Yogi Bear’s Jellystone Park Camp-Resort: Guadalupe River
DESCRIPTION:Holiday cheer fills the season during Merry Magic Weekends at Yogi Bear’s Jellystone Park™ from December 5 through December 28\, 2025. Families can enjoy a festive lineup of activities\, including a special visit from Santa\, giving children the chance to share their holiday wishes with St. Nick. \nGuests are invited to take part in the Site Decorating Contest by transforming their campsite into a winter wonderland for a chance to win a sparkling prize. The Golf Cart Decorating Contest adds even more fun\, as participants parade through the park to spread holiday spirit. A cheerful Holiday Party rounds out the festivities with games and seasonal activities for all ages. \nMerry Magic events take place throughout the day on weekends\, from 12 am to 11:55 pm. \nYogi Bear’s Jellystone Park Camp-Resort: Guadalupe River is located in Kerrville\, Texas.
URL:https://thekerrvillelife.com/event/merry-magic-at-jellystone-park-weekends-at-yogi-bears-jellystone-park-camp-resort-guadalupe-river/
LOCATION:Yogi Bear’s Jellystone Park Guadalupe River\, 2605 Junction Highway\, Kerrville\, TX\, 78028\, United States
CATEGORIES:Holiday,Kids & Family
ATTACH;FMTTYPE=image/jpeg:https://thekerrvillelife.com/wp-content/uploads/2025/11/merry-magic-at-jellystone-park-weekends-at-yogi-bears-jellystone-park-camp-resort-guadalupe-river.jpg
END:VEVENT
BEGIN:VEVENT
DTSTART;TZID=America/Chicago:20251213T100000
DTEND;TZID=America/Chicago:20251213T160000
DTSTAMP:20260424T213030
CREATED:20251119T233742Z
LAST-MODIFIED:20251119T233742Z
UID:79357-1765620000-1765641600@thekerrvillelife.com
SUMMARY:ArtMart – Christmas Gift Showcase at Hill Country Arts Foundation
DESCRIPTION:The Hill Country Arts Foundation invites visitors to browse the annual ArtMart – Christmas Gift Showcase\, a festive holiday shopping event featuring hand-made crafts and artwork created by talented local artists. Shoppers can find unique\, one-of-a-kind gifts perfect for the holiday season while supporting area artisans. \nThe showcase runs from November 18 through December 13\, 2025\, open Tuesday through Saturday from 10 am to 4 pm (closed Sundays and Mondays). \nThe Hill Country Arts Foundation is located at 120 Point Theatre Road\, Ingram\, TX.
URL:https://thekerrvillelife.com/event/artmart-christmas-gift-showcase-at-hill-country-arts-foundation/2025-12-13/
LOCATION:Hill Country Arts Foundation\, 120 Point Theatre Road\, Ingram\, TX\, 78025\, United States
CATEGORIES:Holiday,Shopping
ATTACH;FMTTYPE=image/jpeg:https://thekerrvillelife.com/wp-content/uploads/2025/11/artmart-christmas-gift-showcase-at-hill-country-arts-foundation.jpg
END:VEVENT
BEGIN:VEVENT
DTSTART;TZID=America/Chicago:20251213T190000
DTEND;TZID=America/Chicago:20251213T220000
DTSTAMP:20260424T213030
CREATED:20251120T025917Z
LAST-MODIFIED:20251120T025917Z
UID:79698-1765652400-1765663200@thekerrvillelife.com
SUMMARY:Martin Burniston’s Christmas Singalong at Arcadia Live Theatre
DESCRIPTION:Arcadia Live Theatre will welcome back Martin Burniston’s beloved Christmas Singalong\, a festive tradition that has delighted audiences for years. Known for his long-running sold-out performances in Houston\, Burniston brings his joyous holiday event to Kerrville for the third consecutive year. Guests can look forward to an evening of cheer\, community singing\, and holiday spirit. \nDoors open at 6:30 pm on Saturday\, December 13\, 2025\, with hors d’oeuvres available before the singalong begins at 7 pm. Guests may purchase a themed table and dress as one of the “12 Days of Christmas”—these must be reserved directly through the Box Office at (830) 315-5483. \nArcadia members may attend for free (excluding 12 Days of Christmas table purchases) and may bring one guest. To RSVP\, members should contact Lauren Thompson at development@thearcadialive.org and will receive a complimentary beer or wine. General admission tickets are first come\, first served for seating. \nPre-sale begins October 1\, 2025\, at 11 am CST\, and general ticket sales open October 3\, 2025\, at 11 am CST. Tickets are available at https://www.showpass.com/xmas-sing/. \nArcadia Live Theatre is located at 717 Water Street\, Kerrville\, TX 78028.
URL:https://thekerrvillelife.com/event/martin-burnistons-christmas-singalong-at-arcadia-live-theatre/
LOCATION:Arcadia Live Theatre\, 717 Water Street\, Kerrville\, TX\, 78028\, United States
CATEGORIES:Holiday,Music
ATTACH;FMTTYPE=image/jpeg:https://thekerrvillelife.com/wp-content/uploads/2025/11/martin-burnistons-christmas-singalong-at-arcadia-live-theatre.jpg
END:VEVENT
BEGIN:VEVENT
DTSTART;TZID=America/Chicago:20251220T080000
DTEND;TZID=America/Chicago:20251220T110000
DTSTAMP:20260424T213030
CREATED:20251209T024438Z
LAST-MODIFIED:20251209T024438Z
UID:79743-1766217600-1766228400@thekerrvillelife.com
SUMMARY:Winter Wonderland at Blue Oak Trading Company
DESCRIPTION:Families can enjoy a festive morning of holiday fun during Winter Wonderland\, a community fundraiser that supports keeping the Kerr Kids play space free. Guests can take pictures with Santa\, step into a snow globe experience\, visit the elf workshop\, enjoy faux snow\, cuddle Highland cows\, and browse last-minute shopping. Breakfast will be available for purchase\, along with hot cocoa and other seasonal treats. \nWinter Wonderland takes place on Saturday\, December 20\, 2025\, from 8 am to 11 am at Blue Oak Trading Company\, 1834 Junction Highway\, Kerrville\, TX 78028. Admission is $5 per person\, and children ages 3 and under are free. RSVP is requested at https://www.kerrkids.com/event-details/winter-wonderland-2. \nAdditional information: Those who would like to support the fundraiser but cannot attend can donate at kerrkids.com/donate or sponsor an activity at https://www.kerrkids.com/support.
URL:https://thekerrvillelife.com/event/winter-wonderland-at-blue-oak-trading-company/
LOCATION:Blue Oak Trading Company\, 1834 Junction Highway\, Kerrville\, TX\, 78028\, United States
CATEGORIES:Holiday,Kids & Family
ATTACH;FMTTYPE=image/jpeg:https://thekerrvillelife.com/wp-content/uploads/2025/12/winter-wonderland-at-blue-oak-trading-company.jpg
END:VEVENT
BEGIN:VEVENT
DTSTART;TZID=America/Chicago:20251220T180000
DTEND;TZID=America/Chicago:20251220T200000
DTSTAMP:20260424T213030
CREATED:20251209T025407Z
LAST-MODIFIED:20251209T025407Z
UID:79745-1766253600-1766260800@thekerrvillelife.com
SUMMARY:How The Grinch Stole Christmas: Movie Night on the Lawn at The Ridge Marketplace
DESCRIPTION:The Ridge Marketplace will host a festive outdoor movie night featuring the holiday favorite How the Grinch Stole Christmas. Guests can settle in under the stars with blankets and lawn chairs for a cozy evening of seasonal fun\, with concessions open for drinks\, popcorn\, and candy available for purchase. \nThe movie night will take place on Saturday\, December 20\, 2025\, from 6 pm to 8 pm\, with the event beginning at 5:45 pm. Admission is free and the event is family friendly. \nThe Ridge Marketplace is located at 13439 S Ranch Road 783\, Kerrville\, TX.
URL:https://thekerrvillelife.com/event/how-the-grinch-stole-christmas-movie-night-on-the-lawn-at-the-ridge-marketplace/
LOCATION:The Ridge Marketplace\, 13439 S Ranch Road 783\, Kerrville\, TX\, 78028\, United States
CATEGORIES:Holiday
ATTACH;FMTTYPE=image/jpeg:https://thekerrvillelife.com/wp-content/uploads/2025/12/how-the-grinch-stole-christmas-movie-night-on-the-lawn-at-the-ridge-marketplace.jpg
END:VEVENT
BEGIN:VEVENT
DTSTART;TZID=America/Chicago:20251231T200000
DTEND;TZID=America/Chicago:20251231T233000
DTSTAMP:20260424T213030
CREATED:20251215T234311Z
LAST-MODIFIED:20251215T234311Z
UID:79800-1767211200-1767223800@thekerrvillelife.com
SUMMARY:New Year’s Eve Mystery Dinner & Dance at Hillspire Academy of Dance
DESCRIPTION:A Texas-themed mystery unfolds on New Year’s Eve during an interactive dinner and dance set inside Hillspire Hall. This immersive evening blends live music\, dancing\, and a multi-course dinner with a storyline centered around the disappearance of the legendary Lone Star Diamond just before midnight\, turning guests into active participants in a lively heist investigation. \nThe event takes place on Tuesday\, December 31\, from 8 pm to midnight\, with a New Year’s countdown included\, at Hillspire Academy of Dance\, located at 1523 Water Street in Kerrville\, Texas. Tickets are $120 per person and include dinner\, an open bar\, live music\, interactive mystery elements\, and dancing throughout the night. Dinner is served in multiple courses\, with new clues revealed as the evening progresses\, and a prize is awarded to the guests who successfully solve the mystery. \nA Western Glam dress code is encouraged\, featuring Texas-inspired style with a polished\, festive flair. Space is limited for this intimate Hill Country event. Additional details and ticket purchases are available at https://www.hillspiredance.com/event-details/new-years-eve-mystery-dinner-dance.
URL:https://thekerrvillelife.com/event/new-years-eve-mystery-dinner-dance-at-hillspire-academy-of-dance/
LOCATION:Hillspire Academy of Dance\, 1523 Water Street East\, Kerrville\, TX\, 78028\, United States
CATEGORIES:Holiday
ATTACH;FMTTYPE=image/jpeg:https://thekerrvillelife.com/wp-content/uploads/2025/12/new-years-eve-mystery-dinner-and-dance-at-hillspire-academy-of-dance.jpg
END:VEVENT
END:VCALENDAR