BEGIN:VCALENDAR
VERSION:2.0
PRODID:-//The Kerrville Life - ECPv6.15.20//NONSGML v1.0//EN
CALSCALE:GREGORIAN
METHOD:PUBLISH
X-WR-CALNAME:The Kerrville Life
X-ORIGINAL-URL:https://thekerrvillelife.com
X-WR-CALDESC:Events for The Kerrville Life
REFRESH-INTERVAL;VALUE=DURATION:PT1H
X-Robots-Tag:noindex
X-PUBLISHED-TTL:PT1H
BEGIN:VTIMEZONE
TZID:America/Chicago
BEGIN:DAYLIGHT
TZOFFSETFROM:-0600
TZOFFSETTO:-0500
TZNAME:CDT
DTSTART:20240310T080000
END:DAYLIGHT
BEGIN:STANDARD
TZOFFSETFROM:-0500
TZOFFSETTO:-0600
TZNAME:CST
DTSTART:20241103T070000
END:STANDARD
BEGIN:DAYLIGHT
TZOFFSETFROM:-0600
TZOFFSETTO:-0500
TZNAME:CDT
DTSTART:20250309T080000
END:DAYLIGHT
BEGIN:STANDARD
TZOFFSETFROM:-0500
TZOFFSETTO:-0600
TZNAME:CST
DTSTART:20251102T070000
END:STANDARD
BEGIN:DAYLIGHT
TZOFFSETFROM:-0600
TZOFFSETTO:-0500
TZNAME:CDT
DTSTART:20260308T080000
END:DAYLIGHT
BEGIN:STANDARD
TZOFFSETFROM:-0500
TZOFFSETTO:-0600
TZNAME:CST
DTSTART:20261101T070000
END:STANDARD
END:VTIMEZONE
BEGIN:VEVENT
DTSTART;VALUE=DATE:20251205
DTEND;VALUE=DATE:20251229
DTSTAMP:20260424T214046
CREATED:20251120T015710Z
LAST-MODIFIED:20251120T015710Z
UID:79678-1764892800-1766966399@thekerrvillelife.com
SUMMARY:Merry Magic at Jellystone Park™ Weekends at Yogi Bear’s Jellystone Park Camp-Resort: Guadalupe River
DESCRIPTION:Holiday cheer fills the season during Merry Magic Weekends at Yogi Bear’s Jellystone Park™ from December 5 through December 28\, 2025. Families can enjoy a festive lineup of activities\, including a special visit from Santa\, giving children the chance to share their holiday wishes with St. Nick. \nGuests are invited to take part in the Site Decorating Contest by transforming their campsite into a winter wonderland for a chance to win a sparkling prize. The Golf Cart Decorating Contest adds even more fun\, as participants parade through the park to spread holiday spirit. A cheerful Holiday Party rounds out the festivities with games and seasonal activities for all ages. \nMerry Magic events take place throughout the day on weekends\, from 12 am to 11:55 pm. \nYogi Bear’s Jellystone Park Camp-Resort: Guadalupe River is located in Kerrville\, Texas.
URL:https://thekerrvillelife.com/event/merry-magic-at-jellystone-park-weekends-at-yogi-bears-jellystone-park-camp-resort-guadalupe-river/
LOCATION:Yogi Bear’s Jellystone Park Guadalupe River\, 2605 Junction Highway\, Kerrville\, TX\, 78028\, United States
CATEGORIES:Holiday,Kids & Family
ATTACH;FMTTYPE=image/jpeg:https://thekerrvillelife.com/wp-content/uploads/2025/11/merry-magic-at-jellystone-park-weekends-at-yogi-bears-jellystone-park-camp-resort-guadalupe-river.jpg
END:VEVENT
BEGIN:VEVENT
DTSTART;TZID=America/Chicago:20251231T200000
DTEND;TZID=America/Chicago:20251231T233000
DTSTAMP:20260424T214046
CREATED:20251215T234311Z
LAST-MODIFIED:20251215T234311Z
UID:79800-1767211200-1767223800@thekerrvillelife.com
SUMMARY:New Year’s Eve Mystery Dinner & Dance at Hillspire Academy of Dance
DESCRIPTION:A Texas-themed mystery unfolds on New Year’s Eve during an interactive dinner and dance set inside Hillspire Hall. This immersive evening blends live music\, dancing\, and a multi-course dinner with a storyline centered around the disappearance of the legendary Lone Star Diamond just before midnight\, turning guests into active participants in a lively heist investigation. \nThe event takes place on Tuesday\, December 31\, from 8 pm to midnight\, with a New Year’s countdown included\, at Hillspire Academy of Dance\, located at 1523 Water Street in Kerrville\, Texas. Tickets are $120 per person and include dinner\, an open bar\, live music\, interactive mystery elements\, and dancing throughout the night. Dinner is served in multiple courses\, with new clues revealed as the evening progresses\, and a prize is awarded to the guests who successfully solve the mystery. \nA Western Glam dress code is encouraged\, featuring Texas-inspired style with a polished\, festive flair. Space is limited for this intimate Hill Country event. Additional details and ticket purchases are available at https://www.hillspiredance.com/event-details/new-years-eve-mystery-dinner-dance.
URL:https://thekerrvillelife.com/event/new-years-eve-mystery-dinner-dance-at-hillspire-academy-of-dance/
LOCATION:Hillspire Academy of Dance\, 1523 Water Street East\, Kerrville\, TX\, 78028\, United States
CATEGORIES:Holiday
ATTACH;FMTTYPE=image/jpeg:https://thekerrvillelife.com/wp-content/uploads/2025/12/new-years-eve-mystery-dinner-and-dance-at-hillspire-academy-of-dance.jpg
END:VEVENT
END:VCALENDAR