BEGIN:VCALENDAR
VERSION:2.0
PRODID:-//The Kerrville Life - ECPv6.15.20//NONSGML v1.0//EN
CALSCALE:GREGORIAN
METHOD:PUBLISH
X-WR-CALNAME:The Kerrville Life
X-ORIGINAL-URL:https://thekerrvillelife.com
X-WR-CALDESC:Events for The Kerrville Life
REFRESH-INTERVAL;VALUE=DURATION:PT1H
X-Robots-Tag:noindex
X-PUBLISHED-TTL:PT1H
BEGIN:VTIMEZONE
TZID:America/Chicago
BEGIN:DAYLIGHT
TZOFFSETFROM:-0600
TZOFFSETTO:-0500
TZNAME:CDT
DTSTART:20240310T080000
END:DAYLIGHT
BEGIN:STANDARD
TZOFFSETFROM:-0500
TZOFFSETTO:-0600
TZNAME:CST
DTSTART:20241103T070000
END:STANDARD
BEGIN:DAYLIGHT
TZOFFSETFROM:-0600
TZOFFSETTO:-0500
TZNAME:CDT
DTSTART:20250309T080000
END:DAYLIGHT
BEGIN:STANDARD
TZOFFSETFROM:-0500
TZOFFSETTO:-0600
TZNAME:CST
DTSTART:20251102T070000
END:STANDARD
BEGIN:DAYLIGHT
TZOFFSETFROM:-0600
TZOFFSETTO:-0500
TZNAME:CDT
DTSTART:20260308T080000
END:DAYLIGHT
BEGIN:STANDARD
TZOFFSETFROM:-0500
TZOFFSETTO:-0600
TZNAME:CST
DTSTART:20261101T070000
END:STANDARD
END:VTIMEZONE
BEGIN:VEVENT
DTSTART;TZID=America/Chicago:20251118T100000
DTEND;TZID=America/Chicago:20251118T160000
DTSTAMP:20260424T193500
CREATED:20251119T233742Z
LAST-MODIFIED:20251119T233742Z
UID:79336-1763460000-1763481600@thekerrvillelife.com
SUMMARY:ArtMart – Christmas Gift Showcase at Hill Country Arts Foundation
DESCRIPTION:The Hill Country Arts Foundation invites visitors to browse the annual ArtMart – Christmas Gift Showcase\, a festive holiday shopping event featuring hand-made crafts and artwork created by talented local artists. Shoppers can find unique\, one-of-a-kind gifts perfect for the holiday season while supporting area artisans. \nThe showcase runs from November 18 through December 13\, 2025\, open Tuesday through Saturday from 10 am to 4 pm (closed Sundays and Mondays). \nThe Hill Country Arts Foundation is located at 120 Point Theatre Road\, Ingram\, TX.
URL:https://thekerrvillelife.com/event/artmart-christmas-gift-showcase-at-hill-country-arts-foundation/2025-11-18/
LOCATION:Hill Country Arts Foundation\, 120 Point Theatre Road\, Ingram\, TX\, 78025\, United States
CATEGORIES:Holiday,Shopping
ATTACH;FMTTYPE=image/jpeg:https://thekerrvillelife.com/wp-content/uploads/2025/11/artmart-christmas-gift-showcase-at-hill-country-arts-foundation.jpg
END:VEVENT
BEGIN:VEVENT
DTSTART;TZID=America/Chicago:20251119T100000
DTEND;TZID=America/Chicago:20251119T160000
DTSTAMP:20260424T193500
CREATED:20251119T233742Z
LAST-MODIFIED:20251119T233742Z
UID:79339-1763546400-1763568000@thekerrvillelife.com
SUMMARY:ArtMart – Christmas Gift Showcase at Hill Country Arts Foundation
DESCRIPTION:The Hill Country Arts Foundation invites visitors to browse the annual ArtMart – Christmas Gift Showcase\, a festive holiday shopping event featuring hand-made crafts and artwork created by talented local artists. Shoppers can find unique\, one-of-a-kind gifts perfect for the holiday season while supporting area artisans. \nThe showcase runs from November 18 through December 13\, 2025\, open Tuesday through Saturday from 10 am to 4 pm (closed Sundays and Mondays). \nThe Hill Country Arts Foundation is located at 120 Point Theatre Road\, Ingram\, TX.
URL:https://thekerrvillelife.com/event/artmart-christmas-gift-showcase-at-hill-country-arts-foundation/2025-11-19/
LOCATION:Hill Country Arts Foundation\, 120 Point Theatre Road\, Ingram\, TX\, 78025\, United States
CATEGORIES:Holiday,Shopping
ATTACH;FMTTYPE=image/jpeg:https://thekerrvillelife.com/wp-content/uploads/2025/11/artmart-christmas-gift-showcase-at-hill-country-arts-foundation.jpg
END:VEVENT
BEGIN:VEVENT
DTSTART;TZID=America/Chicago:20251120T100000
DTEND;TZID=America/Chicago:20251120T160000
DTSTAMP:20260424T193500
CREATED:20251119T233742Z
LAST-MODIFIED:20251119T233742Z
UID:79340-1763632800-1763654400@thekerrvillelife.com
SUMMARY:ArtMart – Christmas Gift Showcase at Hill Country Arts Foundation
DESCRIPTION:The Hill Country Arts Foundation invites visitors to browse the annual ArtMart – Christmas Gift Showcase\, a festive holiday shopping event featuring hand-made crafts and artwork created by talented local artists. Shoppers can find unique\, one-of-a-kind gifts perfect for the holiday season while supporting area artisans. \nThe showcase runs from November 18 through December 13\, 2025\, open Tuesday through Saturday from 10 am to 4 pm (closed Sundays and Mondays). \nThe Hill Country Arts Foundation is located at 120 Point Theatre Road\, Ingram\, TX.
URL:https://thekerrvillelife.com/event/artmart-christmas-gift-showcase-at-hill-country-arts-foundation/2025-11-20/
LOCATION:Hill Country Arts Foundation\, 120 Point Theatre Road\, Ingram\, TX\, 78025\, United States
CATEGORIES:Holiday,Shopping
ATTACH;FMTTYPE=image/jpeg:https://thekerrvillelife.com/wp-content/uploads/2025/11/artmart-christmas-gift-showcase-at-hill-country-arts-foundation.jpg
END:VEVENT
BEGIN:VEVENT
DTSTART;TZID=America/Chicago:20251121T100000
DTEND;TZID=America/Chicago:20251121T160000
DTSTAMP:20260424T193500
CREATED:20251119T233742Z
LAST-MODIFIED:20251119T233742Z
UID:79341-1763719200-1763740800@thekerrvillelife.com
SUMMARY:ArtMart – Christmas Gift Showcase at Hill Country Arts Foundation
DESCRIPTION:The Hill Country Arts Foundation invites visitors to browse the annual ArtMart – Christmas Gift Showcase\, a festive holiday shopping event featuring hand-made crafts and artwork created by talented local artists. Shoppers can find unique\, one-of-a-kind gifts perfect for the holiday season while supporting area artisans. \nThe showcase runs from November 18 through December 13\, 2025\, open Tuesday through Saturday from 10 am to 4 pm (closed Sundays and Mondays). \nThe Hill Country Arts Foundation is located at 120 Point Theatre Road\, Ingram\, TX.
URL:https://thekerrvillelife.com/event/artmart-christmas-gift-showcase-at-hill-country-arts-foundation/2025-11-21/
LOCATION:Hill Country Arts Foundation\, 120 Point Theatre Road\, Ingram\, TX\, 78025\, United States
CATEGORIES:Holiday,Shopping
ATTACH;FMTTYPE=image/jpeg:https://thekerrvillelife.com/wp-content/uploads/2025/11/artmart-christmas-gift-showcase-at-hill-country-arts-foundation.jpg
END:VEVENT
BEGIN:VEVENT
DTSTART;TZID=America/Chicago:20251122T100000
DTEND;TZID=America/Chicago:20251122T160000
DTSTAMP:20260424T193500
CREATED:20251119T233742Z
LAST-MODIFIED:20251119T233742Z
UID:79342-1763805600-1763827200@thekerrvillelife.com
SUMMARY:ArtMart – Christmas Gift Showcase at Hill Country Arts Foundation
DESCRIPTION:The Hill Country Arts Foundation invites visitors to browse the annual ArtMart – Christmas Gift Showcase\, a festive holiday shopping event featuring hand-made crafts and artwork created by talented local artists. Shoppers can find unique\, one-of-a-kind gifts perfect for the holiday season while supporting area artisans. \nThe showcase runs from November 18 through December 13\, 2025\, open Tuesday through Saturday from 10 am to 4 pm (closed Sundays and Mondays). \nThe Hill Country Arts Foundation is located at 120 Point Theatre Road\, Ingram\, TX.
URL:https://thekerrvillelife.com/event/artmart-christmas-gift-showcase-at-hill-country-arts-foundation/2025-11-22/
LOCATION:Hill Country Arts Foundation\, 120 Point Theatre Road\, Ingram\, TX\, 78025\, United States
CATEGORIES:Holiday,Shopping
ATTACH;FMTTYPE=image/jpeg:https://thekerrvillelife.com/wp-content/uploads/2025/11/artmart-christmas-gift-showcase-at-hill-country-arts-foundation.jpg
END:VEVENT
BEGIN:VEVENT
DTSTART;TZID=America/Chicago:20251125T100000
DTEND;TZID=America/Chicago:20251125T160000
DTSTAMP:20260424T193500
CREATED:20251119T233742Z
LAST-MODIFIED:20251119T233742Z
UID:79343-1764064800-1764086400@thekerrvillelife.com
SUMMARY:ArtMart – Christmas Gift Showcase at Hill Country Arts Foundation
DESCRIPTION:The Hill Country Arts Foundation invites visitors to browse the annual ArtMart – Christmas Gift Showcase\, a festive holiday shopping event featuring hand-made crafts and artwork created by talented local artists. Shoppers can find unique\, one-of-a-kind gifts perfect for the holiday season while supporting area artisans. \nThe showcase runs from November 18 through December 13\, 2025\, open Tuesday through Saturday from 10 am to 4 pm (closed Sundays and Mondays). \nThe Hill Country Arts Foundation is located at 120 Point Theatre Road\, Ingram\, TX.
URL:https://thekerrvillelife.com/event/artmart-christmas-gift-showcase-at-hill-country-arts-foundation/2025-11-25/
LOCATION:Hill Country Arts Foundation\, 120 Point Theatre Road\, Ingram\, TX\, 78025\, United States
CATEGORIES:Holiday,Shopping
ATTACH;FMTTYPE=image/jpeg:https://thekerrvillelife.com/wp-content/uploads/2025/11/artmart-christmas-gift-showcase-at-hill-country-arts-foundation.jpg
END:VEVENT
BEGIN:VEVENT
DTSTART;TZID=America/Chicago:20251126T100000
DTEND;TZID=America/Chicago:20251126T160000
DTSTAMP:20260424T193500
CREATED:20251119T233742Z
LAST-MODIFIED:20251119T233742Z
UID:79344-1764151200-1764172800@thekerrvillelife.com
SUMMARY:ArtMart – Christmas Gift Showcase at Hill Country Arts Foundation
DESCRIPTION:The Hill Country Arts Foundation invites visitors to browse the annual ArtMart – Christmas Gift Showcase\, a festive holiday shopping event featuring hand-made crafts and artwork created by talented local artists. Shoppers can find unique\, one-of-a-kind gifts perfect for the holiday season while supporting area artisans. \nThe showcase runs from November 18 through December 13\, 2025\, open Tuesday through Saturday from 10 am to 4 pm (closed Sundays and Mondays). \nThe Hill Country Arts Foundation is located at 120 Point Theatre Road\, Ingram\, TX.
URL:https://thekerrvillelife.com/event/artmart-christmas-gift-showcase-at-hill-country-arts-foundation/2025-11-26/
LOCATION:Hill Country Arts Foundation\, 120 Point Theatre Road\, Ingram\, TX\, 78025\, United States
CATEGORIES:Holiday,Shopping
ATTACH;FMTTYPE=image/jpeg:https://thekerrvillelife.com/wp-content/uploads/2025/11/artmart-christmas-gift-showcase-at-hill-country-arts-foundation.jpg
END:VEVENT
BEGIN:VEVENT
DTSTART;TZID=America/Chicago:20251127T100000
DTEND;TZID=America/Chicago:20251127T160000
DTSTAMP:20260424T193500
CREATED:20251119T233742Z
LAST-MODIFIED:20251119T233742Z
UID:79345-1764237600-1764259200@thekerrvillelife.com
SUMMARY:ArtMart – Christmas Gift Showcase at Hill Country Arts Foundation
DESCRIPTION:The Hill Country Arts Foundation invites visitors to browse the annual ArtMart – Christmas Gift Showcase\, a festive holiday shopping event featuring hand-made crafts and artwork created by talented local artists. Shoppers can find unique\, one-of-a-kind gifts perfect for the holiday season while supporting area artisans. \nThe showcase runs from November 18 through December 13\, 2025\, open Tuesday through Saturday from 10 am to 4 pm (closed Sundays and Mondays). \nThe Hill Country Arts Foundation is located at 120 Point Theatre Road\, Ingram\, TX.
URL:https://thekerrvillelife.com/event/artmart-christmas-gift-showcase-at-hill-country-arts-foundation/2025-11-27/
LOCATION:Hill Country Arts Foundation\, 120 Point Theatre Road\, Ingram\, TX\, 78025\, United States
CATEGORIES:Holiday,Shopping
ATTACH;FMTTYPE=image/jpeg:https://thekerrvillelife.com/wp-content/uploads/2025/11/artmart-christmas-gift-showcase-at-hill-country-arts-foundation.jpg
END:VEVENT
BEGIN:VEVENT
DTSTART;TZID=America/Chicago:20251128T100000
DTEND;TZID=America/Chicago:20251128T160000
DTSTAMP:20260424T193500
CREATED:20251119T233742Z
LAST-MODIFIED:20251119T233742Z
UID:79346-1764324000-1764345600@thekerrvillelife.com
SUMMARY:ArtMart – Christmas Gift Showcase at Hill Country Arts Foundation
DESCRIPTION:The Hill Country Arts Foundation invites visitors to browse the annual ArtMart – Christmas Gift Showcase\, a festive holiday shopping event featuring hand-made crafts and artwork created by talented local artists. Shoppers can find unique\, one-of-a-kind gifts perfect for the holiday season while supporting area artisans. \nThe showcase runs from November 18 through December 13\, 2025\, open Tuesday through Saturday from 10 am to 4 pm (closed Sundays and Mondays). \nThe Hill Country Arts Foundation is located at 120 Point Theatre Road\, Ingram\, TX.
URL:https://thekerrvillelife.com/event/artmart-christmas-gift-showcase-at-hill-country-arts-foundation/2025-11-28/
LOCATION:Hill Country Arts Foundation\, 120 Point Theatre Road\, Ingram\, TX\, 78025\, United States
CATEGORIES:Holiday,Shopping
ATTACH;FMTTYPE=image/jpeg:https://thekerrvillelife.com/wp-content/uploads/2025/11/artmart-christmas-gift-showcase-at-hill-country-arts-foundation.jpg
END:VEVENT
BEGIN:VEVENT
DTSTART;TZID=America/Chicago:20251129T100000
DTEND;TZID=America/Chicago:20251129T160000
DTSTAMP:20260424T193500
CREATED:20251119T233742Z
LAST-MODIFIED:20251119T233742Z
UID:79347-1764410400-1764432000@thekerrvillelife.com
SUMMARY:ArtMart – Christmas Gift Showcase at Hill Country Arts Foundation
DESCRIPTION:The Hill Country Arts Foundation invites visitors to browse the annual ArtMart – Christmas Gift Showcase\, a festive holiday shopping event featuring hand-made crafts and artwork created by talented local artists. Shoppers can find unique\, one-of-a-kind gifts perfect for the holiday season while supporting area artisans. \nThe showcase runs from November 18 through December 13\, 2025\, open Tuesday through Saturday from 10 am to 4 pm (closed Sundays and Mondays). \nThe Hill Country Arts Foundation is located at 120 Point Theatre Road\, Ingram\, TX.
URL:https://thekerrvillelife.com/event/artmart-christmas-gift-showcase-at-hill-country-arts-foundation/2025-11-29/
LOCATION:Hill Country Arts Foundation\, 120 Point Theatre Road\, Ingram\, TX\, 78025\, United States
CATEGORIES:Holiday,Shopping
ATTACH;FMTTYPE=image/jpeg:https://thekerrvillelife.com/wp-content/uploads/2025/11/artmart-christmas-gift-showcase-at-hill-country-arts-foundation.jpg
END:VEVENT
END:VCALENDAR