BEGIN:VCALENDAR
VERSION:2.0
PRODID:-//The Kerrville Life - ECPv6.15.20//NONSGML v1.0//EN
CALSCALE:GREGORIAN
METHOD:PUBLISH
X-ORIGINAL-URL:https://thekerrvillelife.com
X-WR-CALDESC:Events for The Kerrville Life
REFRESH-INTERVAL;VALUE=DURATION:PT1H
X-Robots-Tag:noindex
X-PUBLISHED-TTL:PT1H
BEGIN:VTIMEZONE
TZID:America/Chicago
BEGIN:DAYLIGHT
TZOFFSETFROM:-0600
TZOFFSETTO:-0500
TZNAME:CDT
DTSTART:20250309T080000
END:DAYLIGHT
BEGIN:STANDARD
TZOFFSETFROM:-0500
TZOFFSETTO:-0600
TZNAME:CST
DTSTART:20251102T070000
END:STANDARD
BEGIN:DAYLIGHT
TZOFFSETFROM:-0600
TZOFFSETTO:-0500
TZNAME:CDT
DTSTART:20260308T080000
END:DAYLIGHT
BEGIN:STANDARD
TZOFFSETFROM:-0500
TZOFFSETTO:-0600
TZNAME:CST
DTSTART:20261101T070000
END:STANDARD
BEGIN:DAYLIGHT
TZOFFSETFROM:-0600
TZOFFSETTO:-0500
TZNAME:CDT
DTSTART:20270314T080000
END:DAYLIGHT
BEGIN:STANDARD
TZOFFSETFROM:-0500
TZOFFSETTO:-0600
TZNAME:CST
DTSTART:20271107T070000
END:STANDARD
END:VTIMEZONE
BEGIN:VEVENT
DTSTART;TZID=America/Chicago:20260310T163000
DTEND;TZID=America/Chicago:20260310T180000
DTSTAMP:20260424T012326
CREATED:20251216T013744Z
LAST-MODIFIED:20251216T013942Z
UID:79907-1773160200-1773165600@thekerrvillelife.com
SUMMARY:Boomers & Beyond at the Dietert Center
DESCRIPTION:Boomers & Beyond Alliance brings together business professionals and community members focused on supporting the aging population and their families through education and connection to local resources. The group works to strengthen the continuum of care in the Hill Country by sharing information\, encouraging collaboration\, and promoting awareness of services available in the Kerrville area. \nMeetings are held on the second Tuesday of each month from 4:30 pm to 6 pm at the Dietert Center\, located at 451 Guadalupe Street\, Suite 203\, in Kerrville\, Texas. The network includes both Chamber and non-Chamber members who directly serve the aging community and are committed to improving quality of life through education\, advocacy\, and community outreach.
URL:https://thekerrvillelife.com/event/boomers-beyond-at-the-dietert-center-2/2026-03-10/
LOCATION:Dietert Center\, 451 Guadalupe Street\, Suite 203\, Kerrville\, TX\, 78028\, United States
CATEGORIES:General
ATTACH;FMTTYPE=image/jpeg:https://thekerrvillelife.com/wp-content/uploads/2025/12/boomers-and-beyond-at-the-dietert-center.jpg
END:VEVENT
BEGIN:VEVENT
DTSTART;TZID=America/Chicago:20260311T110000
DTEND;TZID=America/Chicago:20260311T140000
DTSTAMP:20260424T012326
CREATED:20260305T011655Z
LAST-MODIFIED:20260305T011655Z
UID:80747-1773226800-1773237600@thekerrvillelife.com
SUMMARY:Friends of the Library Book Sale at Butt-Holdsworth Memorial Library
DESCRIPTION:The Friends of the Butt-Holdsworth Memorial Library host their ongoing Book Sale throughout 2026\, offering a wide selection of gently used books\, DVDs\, and CDs at very affordable prices. The bookstore operates every Wednesday from 11 am to 2 pm\, with additional sales held from 11 am to 2 pm on the second Saturday of each month. \nShoppers can browse thousands of titles across a variety of genres while supporting the programs and services of the library. The book sale is open to all ages and provides a great opportunity to discover new reads and media at bargain prices. \nThose interested in volunteering with the Friends of the Library can email fobhml@gmail.com or contact the library at 830-258-1274 for more information. \nThe Butt-Holdsworth Memorial Library is located at 505 Water St.\, Kerrville\, TX 78028. For additional details\, call (830) 257-8422.
URL:https://thekerrvillelife.com/event/friends-of-the-library-book-sale-at-butt-holdsworth-memorial-library-6/2026-03-11/
LOCATION:Butt-Holdsworth Memorial Library\, 505 Water Street\, Kerrville\, TX\, 78028\, United States
CATEGORIES:General
ATTACH;FMTTYPE=image/jpeg:https://thekerrvillelife.com/wp-content/uploads/2026/01/friends-of-the-library-book-sale-at-butt-holdsworth-memorial-library.jpg
END:VEVENT
BEGIN:VEVENT
DTSTART;TZID=America/Chicago:20260311T133000
DTEND;TZID=America/Chicago:20260311T143000
DTSTAMP:20260424T012326
CREATED:20260305T012040Z
LAST-MODIFIED:20260305T012040Z
UID:80790-1773235800-1773239400@thekerrvillelife.com
SUMMARY:Archeology Book Club at Butt-Holdsworth Memorial Library
DESCRIPTION:The Archeology Book Club meets on Wednesday\, March 11\, 2026 from 1:30 pm to 2:30 pm in the Second Floor Reading Area at the Butt-Holdsworth Memorial Library. Hosted in partnership with the Hill Country Archeological Society\, this discussion group explores books focused on archaeology and ancient civilizations. \nParticipants read and discuss a range of archaeology-themed nonfiction and fiction\, offering a chance to learn more about historical discoveries\, cultures of the past\, and the science behind uncovering them. The gathering encourages thoughtful conversation in a relaxed setting\, making it welcoming for both longtime enthusiasts and newcomers. \nThis program is open to adults ages 18 and older\, and new participants are always welcome. \nThe Butt-Holdsworth Memorial Library is located at 505 Water St.\, Kerrville\, TX 78028. For more information\, call (830) 257-8422.
URL:https://thekerrvillelife.com/event/archeology-book-club-at-butt-holdsworth-memorial-library/
LOCATION:Butt-Holdsworth Memorial Library\, 505 Water Street\, Kerrville\, TX\, 78028\, United States
CATEGORIES:General
ATTACH;FMTTYPE=image/jpeg:https://thekerrvillelife.com/wp-content/uploads/2026/03/archeology-book-club-at-butt-holdsworth-memorial-library.jpg
END:VEVENT
BEGIN:VEVENT
DTSTART;TZID=America/Chicago:20260312T100000
DTEND;TZID=America/Chicago:20260312T140000
DTSTAMP:20260424T012326
CREATED:20251120T001424Z
LAST-MODIFIED:20251120T001424Z
UID:79548-1773309600-1773324000@thekerrvillelife.com
SUMMARY:Schreiner Mansion Tours at Schreiner Mansion
DESCRIPTION:Step into Kerrville’s past with guided tours of the historic Schreiner Mansion\, built in 1879 and listed on the National Register of Historic Places. Located in downtown Kerrville overlooking Peterson Plaza\, the Mansion offers a close look at period architecture and the legacy of one of the city’s founding families. \nTours are offered on Thursdays from 10 am to 2 pm\, beginning on the half-hour\, with the last tour starting at 1:30 pm. Admission is $10 for adults\, $5 for students\, and $5 for military with ID. Group tours of 10 or more are $8 per person with reservations. \nThe Schreiner Mansion is in Kerrville\, Texas. For more information\, call Stacy Page at (830) 895-5222. Visitors can view a photo gallery and experience a virtual tour on the Schreiner Mansion’s Facebook page\, and learn more about the site’s history online. \nAdditional information: The Mansion is available for special event rentals for $25\,000\, which includes access to the Events at Water Street space in the historic Schreiner Building. Two hours of complimentary photography are included with any event. To schedule an appointment to discuss your event or for further details\, call (830) 895-5222.
URL:https://thekerrvillelife.com/event/schreiner-mansion-tours-at-schreiner-mansion/2026-03-12/
LOCATION:Schreiner Mansion\, 222 Earl Garrett St\, Kerrville\, TX\, 78028\, United States
CATEGORIES:General,Kids & Family
ATTACH;FMTTYPE=image/jpeg:https://thekerrvillelife.com/wp-content/uploads/2025/11/schreiner-mansion-tours-at-schreiner-mansion.jpg
END:VEVENT
BEGIN:VEVENT
DTSTART;TZID=America/Chicago:20260312T120000
DTEND;TZID=America/Chicago:20260312T130000
DTSTAMP:20260424T012326
CREATED:20260305T012415Z
LAST-MODIFIED:20260305T012415Z
UID:80796-1773316800-1773320400@thekerrvillelife.com
SUMMARY:Readers Mix Book Club at Butt-Holdsworth Memorial Library
DESCRIPTION:The Readers Mix Book Club meets on Thursday\, March 12\, 2026 from 12 pm to 1 pm in the first-floor Meeting Room at the Butt-Holdsworth Memorial Library. This monthly gathering invites adult readers to share insights and conversation about a selected title in a relaxed\, welcoming setting. \nThe March discussion will focus on Slow Horses by Mick Herron\, a spy novel that follows a group of disgraced intelligence agents relegated to a forgotten division of British intelligence. Participants can explore the novel’s characters\, themes\, and suspenseful storytelling while connecting with fellow readers. \nThis program is open to adults ages 18 and older. \nThe Butt-Holdsworth Memorial Library is located at 505 Water St.\, Kerrville\, TX 78028. For more information\, call (830) 257-8422.
URL:https://thekerrvillelife.com/event/readers-mix-book-club-at-butt-holdsworth-memorial-library-6/
LOCATION:Butt-Holdsworth Memorial Library\, 505 Water Street\, Kerrville\, TX\, 78028\, United States
CATEGORIES:General
ATTACH;FMTTYPE=image/jpeg:https://thekerrvillelife.com/wp-content/uploads/2026/01/readers-mix-book-club-at-butt-holdsworth-memorial-library.jpg
END:VEVENT
BEGIN:VEVENT
DTSTART;TZID=America/Chicago:20260313T150000
DTEND;TZID=America/Chicago:20260313T160000
DTSTAMP:20260424T012326
CREATED:20260305T012736Z
LAST-MODIFIED:20260305T012736Z
UID:80798-1773414000-1773417600@thekerrvillelife.com
SUMMARY:Tech Help Friday at Butt-Holdsworth Memorial Library
DESCRIPTION:Tech Help Friday offers a weekly opportunity to get assistance with everyday technology at the Butt-Holdsworth Memorial Library. The sessions take place on March 6\, 13\, 20\, and 27\, 2026 from 3 pm to 4 pm in the Second Floor Reading Area. \nParticipants can stop by the reference desk for guidance with topics such as downloading eBooks\, using the library catalog\, or learning how to access wireless printing. Library staff will be available to answer questions and provide basic technology support in a relaxed\, informal setting. \nThis program is open to adults ages 18 and older\, and no registration is required. \nThe Butt-Holdsworth Memorial Library is located at 505 Water St.\, Kerrville\, TX 78028. For more information\, call (830) 257-8422.
URL:https://thekerrvillelife.com/event/tech-help-friday-at-butt-holdsworth-memorial-library-4/2026-03-13/
LOCATION:Butt-Holdsworth Memorial Library\, 505 Water Street\, Kerrville\, TX\, 78028\, United States
CATEGORIES:General
ATTACH;FMTTYPE=image/jpeg:https://thekerrvillelife.com/wp-content/uploads/2026/01/tech-help-friday-at-butt-holdsworth-memorial-library.jpg
END:VEVENT
BEGIN:VEVENT
DTSTART;TZID=America/Chicago:20260314T103000
DTEND;TZID=America/Chicago:20260314T113000
DTSTAMP:20260424T012326
CREATED:20260305T013115Z
LAST-MODIFIED:20260305T013115Z
UID:80801-1773484200-1773487800@thekerrvillelife.com
SUMMARY:Gardening 101: Growing Vegetables at Butt-Holdsworth Memorial Library
DESCRIPTION:Gardening 101: Growing Vegetables takes place on Saturday\, March 14\, 2026 from 10:30 am to 11:30 am in the first-floor Meeting Room at the Butt-Holdsworth Memorial Library. This beginner-friendly program introduces the basics of starting and maintaining a vegetable garden at home. \nThe session will be led by Master Gardener Donna Bellis\, who will guide participants through the essentials of planning a garden\, selecting the right crops\, preparing soil\, and watering effectively. The program is designed to help new gardeners gain confidence while learning practical techniques for growing healthy plants. \nWhether working with a backyard garden bed or a few containers on a patio\, attendees will leave with helpful tips and inspiration for growing their own vegetables. \nThis program is open to adults ages 18 and older. \nThe Butt-Holdsworth Memorial Library is located at 505 Water St.\, Kerrville\, TX 78028. For more information\, call (830) 257-8422.
URL:https://thekerrvillelife.com/event/gardening-101-growing-vegetables-at-butt-holdsworth-memorial-library/
LOCATION:Butt-Holdsworth Memorial Library\, 505 Water Street\, Kerrville\, TX\, 78028\, United States
CATEGORIES:General
ATTACH;FMTTYPE=image/jpeg:https://thekerrvillelife.com/wp-content/uploads/2026/03/gardening-101-growing-vegetables-at-butt-holdsworth-memorial-library.jpg
END:VEVENT
BEGIN:VEVENT
DTSTART;TZID=America/Chicago:20260314T110000
DTEND;TZID=America/Chicago:20260314T140000
DTSTAMP:20260424T012326
CREATED:20260305T013613Z
LAST-MODIFIED:20260305T013613Z
UID:80803-1773486000-1773496800@thekerrvillelife.com
SUMMARY:Friends of the Library Book Sale at Butt-Holdsworth Memorial Library
DESCRIPTION:The Friends of the Butt-Holdsworth Memorial Library host their monthly Book Sale on Saturday\, March 14\, 2026 from 11 am to 2 pm at the library. This community sale features thousands of gently used books\, DVDs\, and CDs available at very low prices\, making it a great opportunity to discover new reading material and media while supporting the library. \nProceeds from the bookstore help fund library programs\, services\, and special projects throughout the year. The Friends of the Butt-Holdsworth Memorial Library operate the bookstore every Wednesday from 11 am to 2 pm and also from 11 am to 2 pm on the second Saturday of each month. \nThose interested in volunteering with the Friends of the Library can email fobhml@gmail.com or contact the library at 830-258-1274 for more information. \nThe Butt-Holdsworth Memorial Library is located at 505 Water St.\, Kerrville\, TX 78028. For additional details\, call (830) 257-8422.
URL:https://thekerrvillelife.com/event/friends-of-the-library-book-sale-at-butt-holdsworth-memorial-library-7/
LOCATION:Butt-Holdsworth Memorial Library\, 505 Water Street\, Kerrville\, TX\, 78028\, United States
CATEGORIES:General
ATTACH;FMTTYPE=image/jpeg:https://thekerrvillelife.com/wp-content/uploads/2026/01/friends-of-the-library-book-sale-at-butt-holdsworth-memorial-library.jpg
END:VEVENT
END:VCALENDAR