BEGIN:VCALENDAR
VERSION:2.0
PRODID:-//The Kerrville Life - ECPv6.15.20//NONSGML v1.0//EN
CALSCALE:GREGORIAN
METHOD:PUBLISH
X-ORIGINAL-URL:https://thekerrvillelife.com
X-WR-CALDESC:Events for The Kerrville Life
REFRESH-INTERVAL;VALUE=DURATION:PT1H
X-Robots-Tag:noindex
X-PUBLISHED-TTL:PT1H
BEGIN:VTIMEZONE
TZID:America/Chicago
BEGIN:DAYLIGHT
TZOFFSETFROM:-0600
TZOFFSETTO:-0500
TZNAME:CDT
DTSTART:20250309T080000
END:DAYLIGHT
BEGIN:STANDARD
TZOFFSETFROM:-0500
TZOFFSETTO:-0600
TZNAME:CST
DTSTART:20251102T070000
END:STANDARD
BEGIN:DAYLIGHT
TZOFFSETFROM:-0600
TZOFFSETTO:-0500
TZNAME:CDT
DTSTART:20260308T080000
END:DAYLIGHT
BEGIN:STANDARD
TZOFFSETFROM:-0500
TZOFFSETTO:-0600
TZNAME:CST
DTSTART:20261101T070000
END:STANDARD
BEGIN:DAYLIGHT
TZOFFSETFROM:-0600
TZOFFSETTO:-0500
TZNAME:CDT
DTSTART:20270314T080000
END:DAYLIGHT
BEGIN:STANDARD
TZOFFSETFROM:-0500
TZOFFSETTO:-0600
TZNAME:CST
DTSTART:20271107T070000
END:STANDARD
END:VTIMEZONE
BEGIN:VEVENT
DTSTART;TZID=America/Chicago:20260223T190000
DTEND;TZID=America/Chicago:20260223T200000
DTSTAMP:20260423T195104
CREATED:20260204T035414Z
LAST-MODIFIED:20260204T035414Z
UID:80082-1771873200-1771876800@thekerrvillelife.com
SUMMARY:Monday Night Fiction: The Underground Railroad at Schreiner University Logan Library
DESCRIPTION:Monday Night Fiction offers an open and welcoming discussion series centered on contemporary and classic literary works. This session focuses on The Underground Railroad by Colson Whitehead\, with conversation hosted by Rachel Lynn and guided by shared reflections on the novel’s themes\, history\, and storytelling. \nThe discussion will take place on Monday\, February 23\, from 7 pm to 8 pm at the Schreiner University Logan Library in the Scarle Philips Room in Kerrville\, Texas. Admission is free and the program is open to everyone interested in participating\, whether attending to share insights or to listen and engage with the discussion. \nAdditional information about Monday Night Fiction and upcoming selections is available through Schreiner University.
URL:https://thekerrvillelife.com/event/monday-night-fiction-the-underground-railroad-at-schreiner-university-logan-library/
LOCATION:Schreiner University\, 2100 Memorial Boulevard\, Kerrville\, TX\, 78028\, United States
CATEGORIES:General
ATTACH;FMTTYPE=image/jpeg:https://thekerrvillelife.com/wp-content/uploads/2026/02/monday-night-fiction-the-underground-railroad-at-schreiner-university-logan-library.jpg
END:VEVENT
BEGIN:VEVENT
DTSTART;TZID=America/Chicago:20260225T113000
DTEND;TZID=America/Chicago:20260225T133000
DTSTAMP:20260423T195104
CREATED:20260204T050708Z
LAST-MODIFIED:20260204T050708Z
UID:80084-1772019000-1772026200@thekerrvillelife.com
SUMMARY:Centennial Luncheon at St. Peter’s Episcopal Church
DESCRIPTION:The Centennial Luncheon marks 100 years of Rotary service in Kerrville with an afternoon focused on reflection\, recognition\, and future community impact. The event features guest speakers\, presentations highlighting Centennial projects\, and a look ahead to Rotary’s next century of service. \nThe luncheon will take place on Wednesday\, February 25\, 2026\, from 11:30 am to 1:30 pm at St. Peter’s Episcopal Church in Tucker Hall in Kerrville\, Texas. The program includes a catered luncheon with reserved seating\, featured speakers\, Centennial project reveals\, and sponsor recognition during the event. \nTickets\, table reservations\, sponsorship opportunities\, and donations to the Centennial Campaign are available through the event’s ticket link. For additional information\, contact Trey Atkission at (210) 355-1194\, Layng Guerriero at (830) 285-8883\, or Kristy Vandenberg at (713) 397-6176.
URL:https://thekerrvillelife.com/event/centennial-luncheon-at-st-peters-episcopal-church/
LOCATION:St. Peter’s Episcopal Church and School\, 320 Saint Peter St\, Kerrville\, TX\, 78028\, United States
CATEGORIES:General
ATTACH;FMTTYPE=image/jpeg:https://thekerrvillelife.com/wp-content/uploads/2026/02/centennial-luncheon-at-st-peters-episcopal-church.jpg
END:VEVENT
BEGIN:VEVENT
DTSTART;TZID=America/Chicago:20260226T073000
DTEND;TZID=America/Chicago:20260226T123000
DTSTAMP:20260423T195104
CREATED:20260204T051256Z
LAST-MODIFIED:20260204T051256Z
UID:80088-1772091000-1772109000@thekerrvillelife.com
SUMMARY:Hill Country Economic Summit 2026 at Hill Country Youth Event Center
DESCRIPTION:The Hill Country Economic Summit 2026 brings business leaders\, community stakeholders\, and professionals together for a morning focused on regional economic insights\, collaboration\, and forward-looking discussion. The event provides an opportunity to connect with peers\, hear from industry voices\, and engage in conversations impacting the Hill Country’s economic future. \nThe summit will take place on Thursday\, February 26\, 2026\, at the Hill Country Youth Event Center\, located in the Happy State Bank Expo Hall at 3785 TX-27 in Kerrville\, Texas. Registration and coffee will be available from 7:45 am to 8:10 am\, with lunch provided from 12 pm to 12:30 pm. \nIndividual ticket pricing is $70 for members and $85 for non-members\, with a non-member senior ticket available for $65. Members of neighboring chambers may attend for $70. Table sponsorships for six guests are available at $750 for members and $850 for non-members. Additional details regarding tickets and sponsorship opportunities are available through event organizers.
URL:https://thekerrvillelife.com/event/hill-country-economic-summit-2026-at-hill-country-youth-event-center/
LOCATION:Hill Country Youth Event Center\, 3785 Highway 27\, Kerrville\, TX\, 78028\, United States
CATEGORIES:General
ATTACH;FMTTYPE=image/jpeg:https://thekerrvillelife.com/wp-content/uploads/2026/02/hill-country-economic-summit-2026-at-hill-country-youth-event-center.jpg
END:VEVENT
BEGIN:VEVENT
DTSTART;TZID=America/Chicago:20260226T090000
DTEND;TZID=America/Chicago:20260226T170000
DTSTAMP:20260423T195104
CREATED:20260204T051627Z
LAST-MODIFIED:20260204T051716Z
UID:80090-1772096400-1772125200@thekerrvillelife.com
SUMMARY:16th Annual HCCASA Ad Litem Seminar: Together in Motion at YO Ranch Hotel
DESCRIPTION:The 16th Annual HCCASA Ad Litem Seminar\, titled Together in Motion\, brings together professionals for two days of education\, collaboration\, and community-focused discussion. The seminar addresses timely and relevant topics for those working within the legal\, social services\, and education fields\, with an emphasis on advocacy and multidisciplinary understanding. \nThe seminar will take place Thursday and Friday\, February 26–27\, 2026\, from 9 am to 5 pm each day at the YO Ranch Hotel in Kerrville\, Texas. A virtual attendance option is also available. Participants may earn up to 12 CLE hours\, with accreditation by the State Bar of Texas for MCLE\, and CEUs available for licensed social workers and educators through TBHEC and TEA. Featured topics include representing non-offending parents\, criminal justice interactions with individuals on the autism spectrum\, and parole and corrections considerations when clients are incarcerated. \nIn addition to educational sessions\, attendees can explore vendor booths\, participate in networking opportunities\, and connect with professionals across disciplines. Early registration is currently open. Registration details\, lodging information\, and ongoing updates are available at https://hccasa.org/resources/ad-litem-seminar and https://www.hccasa.org.
URL:https://thekerrvillelife.com/event/16th-annual-hccasa-ad-litem-seminar-together-in-motion-at-yo-ranch-hotel/2026-02-26/
LOCATION:YO Ranch Hotel and Resort\, 2033 Sidney Baker St\, Kerrville\, TX\, 78028\, United States
CATEGORIES:General
ATTACH;FMTTYPE=image/jpeg:https://thekerrvillelife.com/wp-content/uploads/2026/02/16th-annual-hccasa-ad-litem-seminar-together-in-motion-at-yo-ranch-hotel.jpg
END:VEVENT
BEGIN:VEVENT
DTSTART;TZID=America/Chicago:20260226T100000
DTEND;TZID=America/Chicago:20260226T140000
DTSTAMP:20260423T195104
CREATED:20251120T001424Z
LAST-MODIFIED:20251120T001424Z
UID:79546-1772100000-1772114400@thekerrvillelife.com
SUMMARY:Schreiner Mansion Tours at Schreiner Mansion
DESCRIPTION:Step into Kerrville’s past with guided tours of the historic Schreiner Mansion\, built in 1879 and listed on the National Register of Historic Places. Located in downtown Kerrville overlooking Peterson Plaza\, the Mansion offers a close look at period architecture and the legacy of one of the city’s founding families. \nTours are offered on Thursdays from 10 am to 2 pm\, beginning on the half-hour\, with the last tour starting at 1:30 pm. Admission is $10 for adults\, $5 for students\, and $5 for military with ID. Group tours of 10 or more are $8 per person with reservations. \nThe Schreiner Mansion is in Kerrville\, Texas. For more information\, call Stacy Page at (830) 895-5222. Visitors can view a photo gallery and experience a virtual tour on the Schreiner Mansion’s Facebook page\, and learn more about the site’s history online. \nAdditional information: The Mansion is available for special event rentals for $25\,000\, which includes access to the Events at Water Street space in the historic Schreiner Building. Two hours of complimentary photography are included with any event. To schedule an appointment to discuss your event or for further details\, call (830) 895-5222.
URL:https://thekerrvillelife.com/event/schreiner-mansion-tours-at-schreiner-mansion/2026-02-26/
LOCATION:Schreiner Mansion\, 222 Earl Garrett St\, Kerrville\, TX\, 78028\, United States
CATEGORIES:General,Kids & Family
ATTACH;FMTTYPE=image/jpeg:https://thekerrvillelife.com/wp-content/uploads/2025/11/schreiner-mansion-tours-at-schreiner-mansion.jpg
END:VEVENT
BEGIN:VEVENT
DTSTART;TZID=America/Chicago:20260227T090000
DTEND;TZID=America/Chicago:20260227T170000
DTSTAMP:20260423T195104
CREATED:20260204T051627Z
LAST-MODIFIED:20260204T051716Z
UID:80092-1772182800-1772211600@thekerrvillelife.com
SUMMARY:16th Annual HCCASA Ad Litem Seminar: Together in Motion at YO Ranch Hotel
DESCRIPTION:The 16th Annual HCCASA Ad Litem Seminar\, titled Together in Motion\, brings together professionals for two days of education\, collaboration\, and community-focused discussion. The seminar addresses timely and relevant topics for those working within the legal\, social services\, and education fields\, with an emphasis on advocacy and multidisciplinary understanding. \nThe seminar will take place Thursday and Friday\, February 26–27\, 2026\, from 9 am to 5 pm each day at the YO Ranch Hotel in Kerrville\, Texas. A virtual attendance option is also available. Participants may earn up to 12 CLE hours\, with accreditation by the State Bar of Texas for MCLE\, and CEUs available for licensed social workers and educators through TBHEC and TEA. Featured topics include representing non-offending parents\, criminal justice interactions with individuals on the autism spectrum\, and parole and corrections considerations when clients are incarcerated. \nIn addition to educational sessions\, attendees can explore vendor booths\, participate in networking opportunities\, and connect with professionals across disciplines. Early registration is currently open. Registration details\, lodging information\, and ongoing updates are available at https://hccasa.org/resources/ad-litem-seminar and https://www.hccasa.org.
URL:https://thekerrvillelife.com/event/16th-annual-hccasa-ad-litem-seminar-together-in-motion-at-yo-ranch-hotel/2026-02-27/
LOCATION:YO Ranch Hotel and Resort\, 2033 Sidney Baker St\, Kerrville\, TX\, 78028\, United States
CATEGORIES:General
ATTACH;FMTTYPE=image/jpeg:https://thekerrvillelife.com/wp-content/uploads/2026/02/16th-annual-hccasa-ad-litem-seminar-together-in-motion-at-yo-ranch-hotel.jpg
END:VEVENT
BEGIN:VEVENT
DTSTART;TZID=America/Chicago:20260227T150000
DTEND;TZID=America/Chicago:20260227T160000
DTSTAMP:20260423T195104
CREATED:20260123T015338Z
LAST-MODIFIED:20260123T015338Z
UID:80065-1772204400-1772208000@thekerrvillelife.com
SUMMARY:Tech Help Friday at Butt-Holdsworth Memorial Library
DESCRIPTION:Tech Help Friday provides adults with an opportunity to receive assistance with everyday technology questions in a supportive library setting. Help is available for topics such as downloading eBooks\, using wireless printing\, and navigating the library catalog. \nSessions will be held on Friday\, February 6\, 13\, 20\, and 27\, 2026\, from 3 pm to 4 pm in the second-floor reading area at the Butt-Holdsworth Memorial Library\, located at 505 Water Street in Kerrville\, Texas. The program is designed for adults ages 18 and older\, is free to attend\, and does not require registration. \nFor additional information about Tech Help Friday or other library programs\, contact the Butt-Holdsworth Memorial Library at (830) 257-8422.
URL:https://thekerrvillelife.com/event/tech-help-friday-at-butt-holdsworth-memorial-library-3/2026-02-27/
LOCATION:Butt-Holdsworth Memorial Library\, 505 Water Street\, Kerrville\, TX\, 78028\, United States
CATEGORIES:General
ATTACH;FMTTYPE=image/jpeg:https://thekerrvillelife.com/wp-content/uploads/2026/01/tech-help-friday-at-butt-holdsworth-memorial-library.jpg
END:VEVENT
BEGIN:VEVENT
DTSTART;TZID=America/Chicago:20260301T140000
DTEND;TZID=America/Chicago:20260301T160000
DTSTAMP:20260423T195104
CREATED:20260226T014808Z
LAST-MODIFIED:20260226T014841Z
UID:80719-1772373600-1772380800@thekerrvillelife.com
SUMMARY:Event and Wedding Expo at Arcadia Live
DESCRIPTION:Arcadia Live brings back its Event and Wedding Expo on March 1\, 2026 from 2 pm to 4 pm\, offering an afternoon designed for couples\, event planners\, and anyone preparing for a special celebration. After welcoming more than 300 attendees and over 30 vendors last year\, the 2026 expo expands its reach with the creation of an official Arcadia Live preferred vendor list. Every vendor participating in the 2026 Expo will be featured on this list\, extending marketing opportunities to Arcadia clients and beyond. \nAdmission is free for all attendees. The expo will feature live music\, bottomless mimosas\, and multiple raffle opportunities\, including a chance to win 10% off a booking at Arcadia Live. Guests can explore vendor booths\, connect with local professionals\, and gather inspiration for weddings\, parties\, and special events\, all within one of downtown Kerrville’s premier event venues. \nFree RSVP is available at https://www.showpass.com/event-and-wedding-expo/. For more information\, visit the venue’s website or email Assistant Director Libbie at events@thearcadialive.org.
URL:https://thekerrvillelife.com/event/event-and-wedding-expo-at-arcadia-live/
LOCATION:Arcadia Live Theatre\, 717 Water Street\, Kerrville\, TX\, 78028\, United States
CATEGORIES:General
ATTACH;FMTTYPE=image/jpeg:https://thekerrvillelife.com/wp-content/uploads/2026/02/event-and-wedding-expo-at-arcadia-live.jpg
END:VEVENT
END:VCALENDAR