BEGIN:VCALENDAR
VERSION:2.0
PRODID:-//The Kerrville Life - ECPv6.15.20//NONSGML v1.0//EN
CALSCALE:GREGORIAN
METHOD:PUBLISH
X-ORIGINAL-URL:https://thekerrvillelife.com
X-WR-CALDESC:Events for The Kerrville Life
REFRESH-INTERVAL;VALUE=DURATION:PT1H
X-Robots-Tag:noindex
X-PUBLISHED-TTL:PT1H
BEGIN:VTIMEZONE
TZID:America/Chicago
BEGIN:DAYLIGHT
TZOFFSETFROM:-0600
TZOFFSETTO:-0500
TZNAME:CDT
DTSTART:20250309T080000
END:DAYLIGHT
BEGIN:STANDARD
TZOFFSETFROM:-0500
TZOFFSETTO:-0600
TZNAME:CST
DTSTART:20251102T070000
END:STANDARD
BEGIN:DAYLIGHT
TZOFFSETFROM:-0600
TZOFFSETTO:-0500
TZNAME:CDT
DTSTART:20260308T080000
END:DAYLIGHT
BEGIN:STANDARD
TZOFFSETFROM:-0500
TZOFFSETTO:-0600
TZNAME:CST
DTSTART:20261101T070000
END:STANDARD
BEGIN:DAYLIGHT
TZOFFSETFROM:-0600
TZOFFSETTO:-0500
TZNAME:CDT
DTSTART:20270314T080000
END:DAYLIGHT
BEGIN:STANDARD
TZOFFSETFROM:-0500
TZOFFSETTO:-0600
TZNAME:CST
DTSTART:20271107T070000
END:STANDARD
END:VTIMEZONE
BEGIN:VEVENT
DTSTART;TZID=America/Chicago:20260210T163000
DTEND;TZID=America/Chicago:20260210T180000
DTSTAMP:20260423T225910
CREATED:20251216T013744Z
LAST-MODIFIED:20251216T013941Z
UID:79906-1770741000-1770746400@thekerrvillelife.com
SUMMARY:Boomers & Beyond at the Dietert Center
DESCRIPTION:Boomers & Beyond Alliance brings together business professionals and community members focused on supporting the aging population and their families through education and connection to local resources. The group works to strengthen the continuum of care in the Hill Country by sharing information\, encouraging collaboration\, and promoting awareness of services available in the Kerrville area. \nMeetings are held on the second Tuesday of each month from 4:30 pm to 6 pm at the Dietert Center\, located at 451 Guadalupe Street\, Suite 203\, in Kerrville\, Texas. The network includes both Chamber and non-Chamber members who directly serve the aging community and are committed to improving quality of life through education\, advocacy\, and community outreach.
URL:https://thekerrvillelife.com/event/boomers-beyond-at-the-dietert-center-2/2026-02-10/
LOCATION:Dietert Center\, 451 Guadalupe Street\, Suite 203\, Kerrville\, TX\, 78028\, United States
CATEGORIES:General
ATTACH;FMTTYPE=image/jpeg:https://thekerrvillelife.com/wp-content/uploads/2025/12/boomers-and-beyond-at-the-dietert-center.jpg
END:VEVENT
BEGIN:VEVENT
DTSTART;TZID=America/Chicago:20260212T100000
DTEND;TZID=America/Chicago:20260212T140000
DTSTAMP:20260423T225910
CREATED:20251120T001424Z
LAST-MODIFIED:20251120T001424Z
UID:79544-1770890400-1770904800@thekerrvillelife.com
SUMMARY:Schreiner Mansion Tours at Schreiner Mansion
DESCRIPTION:Step into Kerrville’s past with guided tours of the historic Schreiner Mansion\, built in 1879 and listed on the National Register of Historic Places. Located in downtown Kerrville overlooking Peterson Plaza\, the Mansion offers a close look at period architecture and the legacy of one of the city’s founding families. \nTours are offered on Thursdays from 10 am to 2 pm\, beginning on the half-hour\, with the last tour starting at 1:30 pm. Admission is $10 for adults\, $5 for students\, and $5 for military with ID. Group tours of 10 or more are $8 per person with reservations. \nThe Schreiner Mansion is in Kerrville\, Texas. For more information\, call Stacy Page at (830) 895-5222. Visitors can view a photo gallery and experience a virtual tour on the Schreiner Mansion’s Facebook page\, and learn more about the site’s history online. \nAdditional information: The Mansion is available for special event rentals for $25\,000\, which includes access to the Events at Water Street space in the historic Schreiner Building. Two hours of complimentary photography are included with any event. To schedule an appointment to discuss your event or for further details\, call (830) 895-5222.
URL:https://thekerrvillelife.com/event/schreiner-mansion-tours-at-schreiner-mansion/2026-02-12/
LOCATION:Schreiner Mansion\, 222 Earl Garrett St\, Kerrville\, TX\, 78028\, United States
CATEGORIES:General,Kids & Family
ATTACH;FMTTYPE=image/jpeg:https://thekerrvillelife.com/wp-content/uploads/2025/11/schreiner-mansion-tours-at-schreiner-mansion.jpg
END:VEVENT
BEGIN:VEVENT
DTSTART;TZID=America/Chicago:20260212T120000
DTEND;TZID=America/Chicago:20260212T130000
DTSTAMP:20260423T225910
CREATED:20260123T021040Z
LAST-MODIFIED:20260123T021054Z
UID:80077-1770897600-1770901200@thekerrvillelife.com
SUMMARY:Readers Mix Book Club at Butt-Holdsworth Memorial Library
DESCRIPTION:The Readers Mix Book Club brings adult readers together to explore a variety of genres and perspectives through guided discussion. Each meeting encourages conversation about themes\, history\, and storytelling while connecting with fellow book lovers. \nThe club will meet on Thursday\, February 12\, 2026\, from 12 pm to 1 pm in the first-floor meeting room at the Butt-Holdsworth Memorial Library\, located at 505 Water Street in Kerrville\, Texas. The February selection is Founding Mothers by Cokie Roberts. This program is designed for adults ages 18 and older and is free to attend. \nFor additional information about the book club or other library programs\, contact the Butt-Holdsworth Memorial Library at (830) 257-8422.
URL:https://thekerrvillelife.com/event/readers-mix-book-club-at-butt-holdsworth-memorial-library-5/
LOCATION:Butt-Holdsworth Memorial Library\, 505 Water Street\, Kerrville\, TX\, 78028\, United States
CATEGORIES:General
ATTACH;FMTTYPE=image/jpeg:https://thekerrvillelife.com/wp-content/uploads/2026/01/readers-mix-book-club-at-butt-holdsworth-memorial-library.jpg
END:VEVENT
BEGIN:VEVENT
DTSTART;TZID=America/Chicago:20260213T150000
DTEND;TZID=America/Chicago:20260213T160000
DTSTAMP:20260423T225910
CREATED:20260123T015338Z
LAST-MODIFIED:20260123T015338Z
UID:80063-1770994800-1770998400@thekerrvillelife.com
SUMMARY:Tech Help Friday at Butt-Holdsworth Memorial Library
DESCRIPTION:Tech Help Friday provides adults with an opportunity to receive assistance with everyday technology questions in a supportive library setting. Help is available for topics such as downloading eBooks\, using wireless printing\, and navigating the library catalog. \nSessions will be held on Friday\, February 6\, 13\, 20\, and 27\, 2026\, from 3 pm to 4 pm in the second-floor reading area at the Butt-Holdsworth Memorial Library\, located at 505 Water Street in Kerrville\, Texas. The program is designed for adults ages 18 and older\, is free to attend\, and does not require registration. \nFor additional information about Tech Help Friday or other library programs\, contact the Butt-Holdsworth Memorial Library at (830) 257-8422.
URL:https://thekerrvillelife.com/event/tech-help-friday-at-butt-holdsworth-memorial-library-3/2026-02-13/
LOCATION:Butt-Holdsworth Memorial Library\, 505 Water Street\, Kerrville\, TX\, 78028\, United States
CATEGORIES:General
ATTACH;FMTTYPE=image/jpeg:https://thekerrvillelife.com/wp-content/uploads/2026/01/tech-help-friday-at-butt-holdsworth-memorial-library.jpg
END:VEVENT
END:VCALENDAR