BEGIN:VCALENDAR
VERSION:2.0
PRODID:-//The Kerrville Life - ECPv6.15.20//NONSGML v1.0//EN
CALSCALE:GREGORIAN
METHOD:PUBLISH
X-ORIGINAL-URL:https://thekerrvillelife.com
X-WR-CALDESC:Events for The Kerrville Life
REFRESH-INTERVAL;VALUE=DURATION:PT1H
X-Robots-Tag:noindex
X-PUBLISHED-TTL:PT1H
BEGIN:VTIMEZONE
TZID:America/Chicago
BEGIN:DAYLIGHT
TZOFFSETFROM:-0600
TZOFFSETTO:-0500
TZNAME:CDT
DTSTART:20250309T080000
END:DAYLIGHT
BEGIN:STANDARD
TZOFFSETFROM:-0500
TZOFFSETTO:-0600
TZNAME:CST
DTSTART:20251102T070000
END:STANDARD
BEGIN:DAYLIGHT
TZOFFSETFROM:-0600
TZOFFSETTO:-0500
TZNAME:CDT
DTSTART:20260308T080000
END:DAYLIGHT
BEGIN:STANDARD
TZOFFSETFROM:-0500
TZOFFSETTO:-0600
TZNAME:CST
DTSTART:20261101T070000
END:STANDARD
BEGIN:DAYLIGHT
TZOFFSETFROM:-0600
TZOFFSETTO:-0500
TZNAME:CDT
DTSTART:20270314T080000
END:DAYLIGHT
BEGIN:STANDARD
TZOFFSETFROM:-0500
TZOFFSETTO:-0600
TZNAME:CST
DTSTART:20271107T070000
END:STANDARD
END:VTIMEZONE
BEGIN:VEVENT
DTSTART;TZID=America/Chicago:20260202T170000
DTEND;TZID=America/Chicago:20260202T183000
DTSTAMP:20260424T010213
CREATED:20251216T002816Z
LAST-MODIFIED:20251216T002816Z
UID:79810-1770051600-1770057000@thekerrvillelife.com
SUMMARY:KAC Young Professionals Meeting
DESCRIPTION:The KAC Young Professionals Meeting provides a networking opportunity for emerging and established professionals connected to the Kerrville Area Chamber of Commerce. These monthly gatherings are designed to encourage relationship-building\, professional growth\, and community involvement in a relaxed and engaging setting. \nMeetings are held on the first Monday of each month from 5:15 pm to 6:30 pm\, with the location changing monthly. Admission is free and open to current Chamber members or their listed representatives who are employed with a current Chamber member. Updated meeting locations and additional details are available at https://www.kerrvillechamber.biz/young-professionals/. \nKim Pendergraft serves as the Chamber liaison for this networking opportunity and can be reached at (830) 896-1155 for more information.
URL:https://thekerrvillelife.com/event/kac-young-professionals-meeting-4/2026-02-02/
LOCATION:TX
CATEGORIES:General
ATTACH;FMTTYPE=image/jpeg:https://thekerrvillelife.com/wp-content/uploads/2025/12/kac-young-professionals-meeting.jpg
END:VEVENT
BEGIN:VEVENT
DTSTART;TZID=America/Chicago:20260205T100000
DTEND;TZID=America/Chicago:20260205T140000
DTSTAMP:20260424T010213
CREATED:20251120T001424Z
LAST-MODIFIED:20251120T001424Z
UID:79543-1770285600-1770300000@thekerrvillelife.com
SUMMARY:Schreiner Mansion Tours at Schreiner Mansion
DESCRIPTION:Step into Kerrville’s past with guided tours of the historic Schreiner Mansion\, built in 1879 and listed on the National Register of Historic Places. Located in downtown Kerrville overlooking Peterson Plaza\, the Mansion offers a close look at period architecture and the legacy of one of the city’s founding families. \nTours are offered on Thursdays from 10 am to 2 pm\, beginning on the half-hour\, with the last tour starting at 1:30 pm. Admission is $10 for adults\, $5 for students\, and $5 for military with ID. Group tours of 10 or more are $8 per person with reservations. \nThe Schreiner Mansion is in Kerrville\, Texas. For more information\, call Stacy Page at (830) 895-5222. Visitors can view a photo gallery and experience a virtual tour on the Schreiner Mansion’s Facebook page\, and learn more about the site’s history online. \nAdditional information: The Mansion is available for special event rentals for $25\,000\, which includes access to the Events at Water Street space in the historic Schreiner Building. Two hours of complimentary photography are included with any event. To schedule an appointment to discuss your event or for further details\, call (830) 895-5222.
URL:https://thekerrvillelife.com/event/schreiner-mansion-tours-at-schreiner-mansion/2026-02-05/
LOCATION:Schreiner Mansion\, 222 Earl Garrett St\, Kerrville\, TX\, 78028\, United States
CATEGORIES:General,Kids & Family
ATTACH;FMTTYPE=image/jpeg:https://thekerrvillelife.com/wp-content/uploads/2025/11/schreiner-mansion-tours-at-schreiner-mansion.jpg
END:VEVENT
BEGIN:VEVENT
DTSTART;TZID=America/Chicago:20260205T120000
DTEND;TZID=America/Chicago:20260205T130000
DTSTAMP:20260424T010213
CREATED:20260123T013634Z
LAST-MODIFIED:20260123T013649Z
UID:80058-1770292800-1770296400@thekerrvillelife.com
SUMMARY:Historical Fiction Book Club at Butt-Holdsworth Memorial Library
DESCRIPTION:The Historical Fiction Book Club brings adult readers together for thoughtful discussion centered on novels inspired by real events and historical settings. Each meeting encourages conversation about historical context\, characters\, and storytelling while connecting with fellow readers. \nThe club will meet on Thursday\, February 5\, 2026\, from 12 pm to 1 pm in the first-floor meeting room at the Butt-Holdsworth Memorial Library\, located at 505 Water Street in Kerrville\, Texas. The February selection is All We Were Promised by Ashton Lattimore. This program is designed for adults ages 18 and older and is free to attend. \nFor additional information about the book club or other library programs\, contact the Butt-Holdsworth Memorial Library at (830) 257-8422.
URL:https://thekerrvillelife.com/event/historical-fiction-book-club-at-butt-holdsworth-memorial-library-5/
LOCATION:Butt-Holdsworth Memorial Library\, 505 Water Street\, Kerrville\, TX\, 78028\, United States
CATEGORIES:General
ATTACH;FMTTYPE=image/jpeg:https://thekerrvillelife.com/wp-content/uploads/2025/08/historical-fiction-book-club-at-butt-holdsworth-memorial-library.jpg
END:VEVENT
BEGIN:VEVENT
DTSTART;TZID=America/Chicago:20260205T180000
DTEND;TZID=America/Chicago:20260205T190000
DTSTAMP:20260424T010213
CREATED:20260123T011247Z
LAST-MODIFIED:20260123T011247Z
UID:80030-1770314400-1770318000@thekerrvillelife.com
SUMMARY:Wildlife Management: Seminar with Dusty & Sarah at Riverside Nature Center
DESCRIPTION:Wildlife Management: Seminar with Dusty & Sarah offers an in-person educational opportunity for Texas landowners interested in learning more about effective wildlife management\, property tax valuation\, and long-term land stewardship. Presented by Plateau Land & Wildlife\, the seminar focuses on practical insights and strategies tailored to landowners in the region. \nThe seminar will take place on Thursday\, February 5\, from 6 pm to 7 pm at Riverside Nature Center\, located at 150 Francisco Lemos Street in Kerrville\, Texas. Attendees can expect an informative discussion designed to support responsible land management and conservation efforts.
URL:https://thekerrvillelife.com/event/wildlife-management-seminar-with-dusty-sarah-at-riverside-nature-center/
LOCATION:Riverside Nature Center\, 150 Francisco Lemos Street\, Kerrville\, TX\, 78028\, United States
CATEGORIES:General
ATTACH;FMTTYPE=image/jpeg:https://thekerrvillelife.com/wp-content/uploads/2026/01/wildlife-management-seminar-with-dusty-and-sarah-at-riverside-nature-center.jpg
END:VEVENT
BEGIN:VEVENT
DTSTART;TZID=America/Chicago:20260205T190000
DTEND;TZID=America/Chicago:20260205T220000
DTSTAMP:20260424T010213
CREATED:20251215T233839Z
LAST-MODIFIED:20251215T233839Z
UID:79789-1770318000-1770328800@thekerrvillelife.com
SUMMARY:Hill Country Amateur Radio Club at Union Church Building on Memorial Boulevard
DESCRIPTION:The Hill Country Amateur Radio Club provides a welcoming space for amateur radio enthusiasts to connect\, share knowledge\, and stay engaged with the hobby through regular monthly meetings. The club supports both experienced operators and those new to amateur radio by offering opportunities for learning\, discussion\, and community involvement. \nMeetings are held on the first Thursday of each month at the Union Church Building on Memorial Boulevard. Doors open at 6:30 pm\, with the meeting beginning at 7 pm. Admission is free and open to the public. Additional information about the club\, including upcoming activities and resources\, is available at http://kerrhams.org.
URL:https://thekerrvillelife.com/event/hill-country-amateur-radio-club-at-union-church-building-on-memorial-boulevard/2026-02-05/
LOCATION:Union Church Building\, 101 Travis St\, Kerrville\, TX\, 78028\, United States
CATEGORIES:General
ATTACH;FMTTYPE=image/jpeg:https://thekerrvillelife.com/wp-content/uploads/2025/08/hill-country-amateur-radio-club-monthly-meeting.jpg
END:VEVENT
BEGIN:VEVENT
DTSTART;TZID=America/Chicago:20260206T150000
DTEND;TZID=America/Chicago:20260206T160000
DTSTAMP:20260424T010213
CREATED:20260123T015338Z
LAST-MODIFIED:20260123T015338Z
UID:80062-1770390000-1770393600@thekerrvillelife.com
SUMMARY:Tech Help Friday at Butt-Holdsworth Memorial Library
DESCRIPTION:Tech Help Friday provides adults with an opportunity to receive assistance with everyday technology questions in a supportive library setting. Help is available for topics such as downloading eBooks\, using wireless printing\, and navigating the library catalog. \nSessions will be held on Friday\, February 6\, 13\, 20\, and 27\, 2026\, from 3 pm to 4 pm in the second-floor reading area at the Butt-Holdsworth Memorial Library\, located at 505 Water Street in Kerrville\, Texas. The program is designed for adults ages 18 and older\, is free to attend\, and does not require registration. \nFor additional information about Tech Help Friday or other library programs\, contact the Butt-Holdsworth Memorial Library at (830) 257-8422.
URL:https://thekerrvillelife.com/event/tech-help-friday-at-butt-holdsworth-memorial-library-3/2026-02-06/
LOCATION:Butt-Holdsworth Memorial Library\, 505 Water Street\, Kerrville\, TX\, 78028\, United States
CATEGORIES:General
ATTACH;FMTTYPE=image/jpeg:https://thekerrvillelife.com/wp-content/uploads/2026/01/tech-help-friday-at-butt-holdsworth-memorial-library.jpg
END:VEVENT
END:VCALENDAR