BEGIN:VCALENDAR
VERSION:2.0
PRODID:-//The Kerrville Life - ECPv6.15.20//NONSGML v1.0//EN
CALSCALE:GREGORIAN
METHOD:PUBLISH
X-WR-CALNAME:The Kerrville Life
X-ORIGINAL-URL:https://thekerrvillelife.com
X-WR-CALDESC:Events for The Kerrville Life
REFRESH-INTERVAL;VALUE=DURATION:PT1H
X-Robots-Tag:noindex
X-PUBLISHED-TTL:PT1H
BEGIN:VTIMEZONE
TZID:America/Chicago
BEGIN:DAYLIGHT
TZOFFSETFROM:-0600
TZOFFSETTO:-0500
TZNAME:CDT
DTSTART:20250309T080000
END:DAYLIGHT
BEGIN:STANDARD
TZOFFSETFROM:-0500
TZOFFSETTO:-0600
TZNAME:CST
DTSTART:20251102T070000
END:STANDARD
BEGIN:DAYLIGHT
TZOFFSETFROM:-0600
TZOFFSETTO:-0500
TZNAME:CDT
DTSTART:20260308T080000
END:DAYLIGHT
BEGIN:STANDARD
TZOFFSETFROM:-0500
TZOFFSETTO:-0600
TZNAME:CST
DTSTART:20261101T070000
END:STANDARD
BEGIN:DAYLIGHT
TZOFFSETFROM:-0600
TZOFFSETTO:-0500
TZNAME:CDT
DTSTART:20270314T080000
END:DAYLIGHT
BEGIN:STANDARD
TZOFFSETFROM:-0500
TZOFFSETTO:-0600
TZNAME:CST
DTSTART:20271107T070000
END:STANDARD
END:VTIMEZONE
BEGIN:VEVENT
DTSTART;TZID=America/Chicago:20260419T090000
DTEND;TZID=America/Chicago:20260419T120000
DTSTAMP:20260419T101844
CREATED:20260406T032823Z
LAST-MODIFIED:20260406T032823Z
UID:81046-1776589200-1776600000@thekerrvillelife.com
SUMMARY:2026 TWG Spring Round Up at Hill Country Youth Event Center
DESCRIPTION:The 2026 Texas Woodcarvers Guild Spring Round Up takes place April 18 through April 24\, 2026 beginning at 9 am at the Hill Country Youth Event Center in Kerrville. Hosted by the Texas Woodcarvers Guild\, this annual event brings together carvers from across the region and beyond for a week of creativity and craftsmanship. \nThe event features a weekend of competitions and detailed woodcarving displays by guild members\, followed by several days of in-depth seminars led by experienced carvers from around the country. Attendees can explore a wide range of carving styles\, techniques\, and artistic expressions while learning from skilled instructors. \nThe Spring Round Up offers a welcoming environment for both seasoned carvers and those interested in learning more about the craft. \nThe Hill Country Youth Event Center is located in Kerrville\, TX. For more information\, contact event organizers directly.
URL:https://thekerrvillelife.com/event/2026-twg-spring-round-up-at-hill-country-youth-event-center/2026-04-19/
LOCATION:Hill Country Youth Event Center\, 3785 Highway 27\, Kerrville\, TX\, 78028\, United States
CATEGORIES:General
ATTACH;FMTTYPE=image/jpeg:https://thekerrvillelife.com/wp-content/uploads/2026/04/2026-twg-spring-round-up-at-hill-country-youth-event-center.jpg
END:VEVENT
END:VCALENDAR