BEGIN:VCALENDAR
VERSION:2.0
PRODID:-//The Kerrville Life - ECPv6.15.20//NONSGML v1.0//EN
CALSCALE:GREGORIAN
METHOD:PUBLISH
X-WR-CALNAME:The Kerrville Life
X-ORIGINAL-URL:https://thekerrvillelife.com
X-WR-CALDESC:Events for The Kerrville Life
REFRESH-INTERVAL;VALUE=DURATION:PT1H
X-Robots-Tag:noindex
X-PUBLISHED-TTL:PT1H
BEGIN:VTIMEZONE
TZID:America/Chicago
BEGIN:DAYLIGHT
TZOFFSETFROM:-0600
TZOFFSETTO:-0500
TZNAME:CDT
DTSTART:20250309T080000
END:DAYLIGHT
BEGIN:STANDARD
TZOFFSETFROM:-0500
TZOFFSETTO:-0600
TZNAME:CST
DTSTART:20251102T070000
END:STANDARD
BEGIN:DAYLIGHT
TZOFFSETFROM:-0600
TZOFFSETTO:-0500
TZNAME:CDT
DTSTART:20260308T080000
END:DAYLIGHT
BEGIN:STANDARD
TZOFFSETFROM:-0500
TZOFFSETTO:-0600
TZNAME:CST
DTSTART:20261101T070000
END:STANDARD
BEGIN:DAYLIGHT
TZOFFSETFROM:-0600
TZOFFSETTO:-0500
TZNAME:CDT
DTSTART:20270314T080000
END:DAYLIGHT
BEGIN:STANDARD
TZOFFSETFROM:-0500
TZOFFSETTO:-0600
TZNAME:CST
DTSTART:20271107T070000
END:STANDARD
END:VTIMEZONE
BEGIN:VEVENT
DTSTART;TZID=America/Chicago:20260512T163000
DTEND;TZID=America/Chicago:20260512T180000
DTSTAMP:20260419T120021
CREATED:20251216T013744Z
LAST-MODIFIED:20251216T013943Z
UID:79909-1778603400-1778608800@thekerrvillelife.com
SUMMARY:Boomers & Beyond at the Dietert Center
DESCRIPTION:Boomers & Beyond Alliance brings together business professionals and community members focused on supporting the aging population and their families through education and connection to local resources. The group works to strengthen the continuum of care in the Hill Country by sharing information\, encouraging collaboration\, and promoting awareness of services available in the Kerrville area. \nMeetings are held on the second Tuesday of each month from 4:30 pm to 6 pm at the Dietert Center\, located at 451 Guadalupe Street\, Suite 203\, in Kerrville\, Texas. The network includes both Chamber and non-Chamber members who directly serve the aging community and are committed to improving quality of life through education\, advocacy\, and community outreach.
URL:https://thekerrvillelife.com/event/boomers-beyond-at-the-dietert-center-2/2026-05-12/
LOCATION:Dietert Center\, 451 Guadalupe Street\, Suite 203\, Kerrville\, TX\, 78028\, United States
CATEGORIES:General
ATTACH;FMTTYPE=image/jpeg:https://thekerrvillelife.com/wp-content/uploads/2025/12/boomers-and-beyond-at-the-dietert-center.jpg
END:VEVENT
END:VCALENDAR