BEGIN:VCALENDAR
VERSION:2.0
PRODID:-//The Kerrville Life - ECPv6.15.20//NONSGML v1.0//EN
CALSCALE:GREGORIAN
METHOD:PUBLISH
X-WR-CALNAME:The Kerrville Life
X-ORIGINAL-URL:https://thekerrvillelife.com
X-WR-CALDESC:Events for The Kerrville Life
REFRESH-INTERVAL;VALUE=DURATION:PT1H
X-Robots-Tag:noindex
X-PUBLISHED-TTL:PT1H
BEGIN:VTIMEZONE
TZID:America/Chicago
BEGIN:DAYLIGHT
TZOFFSETFROM:-0600
TZOFFSETTO:-0500
TZNAME:CDT
DTSTART:20250309T080000
END:DAYLIGHT
BEGIN:STANDARD
TZOFFSETFROM:-0500
TZOFFSETTO:-0600
TZNAME:CST
DTSTART:20251102T070000
END:STANDARD
BEGIN:DAYLIGHT
TZOFFSETFROM:-0600
TZOFFSETTO:-0500
TZNAME:CDT
DTSTART:20260308T080000
END:DAYLIGHT
BEGIN:STANDARD
TZOFFSETFROM:-0500
TZOFFSETTO:-0600
TZNAME:CST
DTSTART:20261101T070000
END:STANDARD
BEGIN:DAYLIGHT
TZOFFSETFROM:-0600
TZOFFSETTO:-0500
TZNAME:CDT
DTSTART:20270314T080000
END:DAYLIGHT
BEGIN:STANDARD
TZOFFSETFROM:-0500
TZOFFSETTO:-0600
TZNAME:CST
DTSTART:20271107T070000
END:STANDARD
END:VTIMEZONE
BEGIN:VEVENT
DTSTART;TZID=America/Chicago:20260427T190000
DTEND;TZID=America/Chicago:20260427T200000
DTSTAMP:20260423T083537
CREATED:20260406T023031Z
LAST-MODIFIED:20260406T023212Z
UID:80998-1777316400-1777320000@thekerrvillelife.com
SUMMARY:Monday Night Fiction: The Midnight Library at Schreiner University
DESCRIPTION:Monday Night Fiction continues on April 27\, 2026 from 7 pm to 8 pm at the Logan Library\, Scarle Philips Room on the Schreiner University campus. This free event invites readers to gather for an evening of thoughtful discussion centered on The Midnight Library by Matt Haig. \nHosted by Elsa Glover\, the discussion offers a welcoming space for participants to share insights\, reflect on the book’s themes\, and engage in meaningful conversation with fellow readers. \nAdmission is free and open to everyone. \nSchreiner University Logan Library is located at 2100 Memorial Blvd.\, Kerrville\, TX 78028. For more information\, contact the university directly.
URL:https://thekerrvillelife.com/event/monday-night-fiction-the-midnight-library-at-schreiner-university/
LOCATION:Schreiner University\, 2100 Memorial Boulevard\, Kerrville\, TX\, 78028\, United States
CATEGORIES:General
ATTACH;FMTTYPE=image/jpeg:https://thekerrvillelife.com/wp-content/uploads/2026/04/monday-night-fiction-the-midnight-library-at-schreiner-university.jpg
END:VEVENT
END:VCALENDAR