BEGIN:VCALENDAR
VERSION:2.0
PRODID:-//The Kerrville Life - ECPv6.15.20//NONSGML v1.0//EN
CALSCALE:GREGORIAN
METHOD:PUBLISH
X-WR-CALNAME:The Kerrville Life
X-ORIGINAL-URL:https://thekerrvillelife.com
X-WR-CALDESC:Events for The Kerrville Life
REFRESH-INTERVAL;VALUE=DURATION:PT1H
X-Robots-Tag:noindex
X-PUBLISHED-TTL:PT1H
BEGIN:VTIMEZONE
TZID:America/Chicago
BEGIN:DAYLIGHT
TZOFFSETFROM:-0600
TZOFFSETTO:-0500
TZNAME:CDT
DTSTART:20250309T080000
END:DAYLIGHT
BEGIN:STANDARD
TZOFFSETFROM:-0500
TZOFFSETTO:-0600
TZNAME:CST
DTSTART:20251102T070000
END:STANDARD
BEGIN:DAYLIGHT
TZOFFSETFROM:-0600
TZOFFSETTO:-0500
TZNAME:CDT
DTSTART:20260308T080000
END:DAYLIGHT
BEGIN:STANDARD
TZOFFSETFROM:-0500
TZOFFSETTO:-0600
TZNAME:CST
DTSTART:20261101T070000
END:STANDARD
BEGIN:DAYLIGHT
TZOFFSETFROM:-0600
TZOFFSETTO:-0500
TZNAME:CDT
DTSTART:20270314T080000
END:DAYLIGHT
BEGIN:STANDARD
TZOFFSETFROM:-0500
TZOFFSETTO:-0600
TZNAME:CST
DTSTART:20271107T070000
END:STANDARD
END:VTIMEZONE
BEGIN:VEVENT
DTSTART;TZID=America/Chicago:20260425T080000
DTEND;TZID=America/Chicago:20260425T140000
DTSTAMP:20260419T102300
CREATED:20260406T015852Z
LAST-MODIFIED:20260406T015917Z
UID:80978-1777104000-1777125600@thekerrvillelife.com
SUMMARY:Schreiner Recall 2026 at Schreiner University
DESCRIPTION:Schreiner Recall 2026 takes place April 24 through April 26\, 2026 from 8 am to 2 pm on the campus of Schreiner University. This annual event welcomes alumni back for a weekend of reconnecting\, celebrating memories\, and engaging in campus activities. \nAttendees can participate in a variety of events throughout the weekend\, including Recall gatherings and optional golf activities\, providing opportunities to reconnect with classmates and experience campus life once again. The event is designed to bring together alumni\, friends\, and the Schreiner community in a welcoming and nostalgic setting. \nRegistration is required and can be completed at schreiner.edu/alumni/recall. For assistance or additional information\, contact Lea Nye ’92 at (830) 792-7206 or mmnye@schreiner.edu. \nSchreiner University is located at 2100 Memorial Blvd.\, Kerrville\, TX 78028.
URL:https://thekerrvillelife.com/event/schreiner-recall-2026-at-schreiner-university/2026-04-25/
LOCATION:Schreiner University\, 2100 Memorial Boulevard\, Kerrville\, TX\, 78028\, United States
CATEGORIES:General
ATTACH;FMTTYPE=image/jpeg:https://thekerrvillelife.com/wp-content/uploads/2026/04/schreiner-recall-2026-at-schreiner-university.jpg
END:VEVENT
BEGIN:VEVENT
DTSTART;TZID=America/Chicago:20260425T120000
DTEND;TZID=America/Chicago:20260425T140000
DTSTAMP:20260419T102300
CREATED:20260406T025226Z
LAST-MODIFIED:20260406T025226Z
UID:81011-1777118400-1777125600@thekerrvillelife.com
SUMMARY:City Nature Challenge at Riverside Nature Center
DESCRIPTION:The City Nature Challenge takes place on Saturday\, April 25\, 2026 from 12:15 pm to 2 pm at the Riverside Nature Center in Kerrville. This community science event invites participants to explore local nature while contributing to a global effort to document biodiversity. \nParticipants can search for plants\, animals\, and other wildlife\, then record their observations by taking photos or audio and sharing them through the iNaturalist app. The collected data helps scientists and conservationists better understand local ecosystems and protect natural habitats. \nThe event encourages people of all ages to get outdoors\, learn more about the environment\, and take part in a collaborative effort that benefits both the community and local wildlife. \nAdmission is free. For more information\, visit https://riversidenaturecenter.org/news-events/event-calendar.html/event/2026/04/25/city-nature-challenge-bioblitz-/560062. \nThe Riverside Nature Center is located at 150 Francisco Lemos St.\, Kerrville\, TX.
URL:https://thekerrvillelife.com/event/city-nature-challenge-at-riverside-nature-center/
LOCATION:Riverside Nature Center\, 150 Francisco Lemos Street\, Kerrville\, TX\, 78028\, United States
CATEGORIES:General
ATTACH;FMTTYPE=image/jpeg:https://thekerrvillelife.com/wp-content/uploads/2026/04/city-nature-challenge-at-riverside-nature-center.jpg
END:VEVENT
BEGIN:VEVENT
DTSTART;TZID=America/Chicago:20260425T150000
DTEND;TZID=America/Chicago:20260425T170000
DTSTAMP:20260419T102300
CREATED:20260406T034508Z
LAST-MODIFIED:20260406T034508Z
UID:81074-1777129200-1777136400@thekerrvillelife.com
SUMMARY:Community Plant Swap at Riverside Nature Center
DESCRIPTION:The Community Plant Swap takes place on Saturday\, April 25\, 2026 from 3 pm to 5 pm at the Riverside Nature Center in Kerrville. This community-driven event offers a chance to exchange plants and connect with fellow plant enthusiasts. \nParticipants are encouraged to bring plants to share or simply come to find a new plant to take home. The swap creates a relaxed and welcoming environment where attendees can learn from one another\, discover new varieties\, and give plants a second home. \nThis event is community facilitated and open to all. More information is available at https://riversidenaturecenter.org/news-events/event-calendar.html/event/2026/04/25/community-plant-swap/560064. \nThe Riverside Nature Center is located at 150 Francisco Lemos St.\, Kerrville\, TX 78028. For more information\, contact the organization directly.
URL:https://thekerrvillelife.com/event/community-plant-swap-at-riverside-nature-center/
LOCATION:Riverside Nature Center\, 150 Francisco Lemos Street\, Kerrville\, TX\, 78028\, United States
CATEGORIES:General
ATTACH;FMTTYPE=image/jpeg:https://thekerrvillelife.com/wp-content/uploads/2026/04/community-plant-swap-at-riverside-nature-center.jpg
END:VEVENT
BEGIN:VEVENT
DTSTART;TZID=America/Chicago:20260425T160000
DTEND;TZID=America/Chicago:20260425T220000
DTSTAMP:20260419T102300
CREATED:20260406T032458Z
LAST-MODIFIED:20260406T032458Z
UID:81042-1777132800-1777154400@thekerrvillelife.com
SUMMARY:Community Fundraiser & Silent Auction for Kaydin at Tailchasers Patio + Pub
DESCRIPTION:A community fundraiser and silent auction supporting Kaydin takes place on Saturday\, April 25\, 2026 from 4 pm to 10 pm at Tailchasers Patio + Pub in Kerrville. This special event brings the community together for an evening of support\, connection\, and giving. \nAttendees can enjoy live music and participate in a silent auction while helping raise funds for Kaydin’s fight to live. The event offers a meaningful opportunity to gather with others\, contribute to a worthy cause\, and show support for a local family. \nTailchasers Patio + Pub is located at 516 Jefferson Street\, Kerrville\, TX 78028. For more information\, contact the venue directly.
URL:https://thekerrvillelife.com/event/community-fundraiser-silent-auction-for-kaydin-at-tailchasers-patio-pub/
LOCATION:Tailchasers Patio + Pub\, 516 Jefferson Street\, Kerrville\, TX\, 78028\, United States
CATEGORIES:General
ATTACH;FMTTYPE=image/jpeg:https://thekerrvillelife.com/wp-content/uploads/2026/04/community-fundraiser-and-silent-auction-for-kaydin-at-tailchasers-patio-pub.jpg
END:VEVENT
BEGIN:VEVENT
DTSTART;TZID=America/Chicago:20260425T180000
DTEND;TZID=America/Chicago:20260425T220000
DTSTAMP:20260419T102300
CREATED:20260406T020206Z
LAST-MODIFIED:20260406T020206Z
UID:80981-1777140000-1777154400@thekerrvillelife.com
SUMMARY:A Night in Monte Carlo – 6th Annual Casino Night at Hill Country Youth Event Center
DESCRIPTION:The 6th Annual Casino Night\, themed A Night in Monte Carlo\, takes place on April 25\, 2026 from 6 pm to 10 pm at the Hill Country Youth Event Center in Kerrville. This special evening benefits the Hill Country Crisis Council and supports its mission to end the cycle of abuse through education\, intervention\, and assistance. \nGuests can enjoy a night of dinner\, lively casino-style games\, and socializing in an elegant and entertaining atmosphere. The event combines fun and philanthropy\, raising funds for programs that provide safety\, advocacy\, and healing for survivors of violence and abuse across the Hill Country. \nParticipation in the event helps support critical services and contributes to building safer communities. More information and ticket details are available at https://hillcountrycrisiscouncil.com/casinonight/. \nThe Hill Country Youth Event Center is located in Kerrville\, TX. For additional details\, contact event organizers directly.
URL:https://thekerrvillelife.com/event/a-night-in-monte-carlo-6th-annual-casino-night-at-hill-country-youth-event-center/
LOCATION:Hill Country Youth Event Center\, 3785 Highway 27\, Kerrville\, TX\, 78028\, United States
CATEGORIES:General
END:VEVENT
END:VCALENDAR