BEGIN:VCALENDAR
VERSION:2.0
PRODID:-//The Kerrville Life - ECPv6.15.20//NONSGML v1.0//EN
CALSCALE:GREGORIAN
METHOD:PUBLISH
X-ORIGINAL-URL:https://thekerrvillelife.com
X-WR-CALDESC:Events for The Kerrville Life
REFRESH-INTERVAL;VALUE=DURATION:PT1H
X-Robots-Tag:noindex
X-PUBLISHED-TTL:PT1H
BEGIN:VTIMEZONE
TZID:America/Chicago
BEGIN:DAYLIGHT
TZOFFSETFROM:-0600
TZOFFSETTO:-0500
TZNAME:CDT
DTSTART:20250309T080000
END:DAYLIGHT
BEGIN:STANDARD
TZOFFSETFROM:-0500
TZOFFSETTO:-0600
TZNAME:CST
DTSTART:20251102T070000
END:STANDARD
BEGIN:DAYLIGHT
TZOFFSETFROM:-0600
TZOFFSETTO:-0500
TZNAME:CDT
DTSTART:20260308T080000
END:DAYLIGHT
BEGIN:STANDARD
TZOFFSETFROM:-0500
TZOFFSETTO:-0600
TZNAME:CST
DTSTART:20261101T070000
END:STANDARD
BEGIN:DAYLIGHT
TZOFFSETFROM:-0600
TZOFFSETTO:-0500
TZNAME:CDT
DTSTART:20270314T080000
END:DAYLIGHT
BEGIN:STANDARD
TZOFFSETFROM:-0500
TZOFFSETTO:-0600
TZNAME:CST
DTSTART:20271107T070000
END:STANDARD
END:VTIMEZONE
BEGIN:VEVENT
DTSTART;TZID=America/Chicago:20260424T080000
DTEND;TZID=America/Chicago:20260424T110000
DTSTAMP:20260419T102556
CREATED:20260406T064605Z
LAST-MODIFIED:20260406T064605Z
UID:81141-1777017600-1777028400@thekerrvillelife.com
SUMMARY:Shred Day at Kerrville Area Chamber of Commerce
DESCRIPTION:Shred Day returns on April 24\, 2026 from 8 am to 11 am\, or until the truck is full\, offering a convenient and secure way to dispose of sensitive documents. The event takes place behind River Hills Mall on Cully Drive near Belk. \nResidents can bring documents to be safely shredded on-site\, helping protect personal information while clearing out unwanted paperwork. The cost is $5 per box\, with a maximum of 10 boxes per participant. Members of the Kerrville Area Chamber of Commerce receive their first two boxes free. \nThe event provides a practical service for the community while promoting safe document disposal practices. \nRiver Hills Mall is located in Kerrville\, TX. For more information\, contact the Kerrville Area Chamber of Commerce.
URL:https://thekerrvillelife.com/event/shred-day-at-kerrville-area-chamber-of-commerce/
LOCATION:River Hills Mall\, 200 Sidney Baker St S # 27\, Kerrville\, TX\, 78028\, United States
CATEGORIES:General
END:VEVENT
BEGIN:VEVENT
DTSTART;TZID=America/Chicago:20260424T080000
DTEND;TZID=America/Chicago:20260424T140000
DTSTAMP:20260419T102556
CREATED:20260406T015852Z
LAST-MODIFIED:20260406T015916Z
UID:80977-1777017600-1777039200@thekerrvillelife.com
SUMMARY:Schreiner Recall 2026 at Schreiner University
DESCRIPTION:Schreiner Recall 2026 takes place April 24 through April 26\, 2026 from 8 am to 2 pm on the campus of Schreiner University. This annual event welcomes alumni back for a weekend of reconnecting\, celebrating memories\, and engaging in campus activities. \nAttendees can participate in a variety of events throughout the weekend\, including Recall gatherings and optional golf activities\, providing opportunities to reconnect with classmates and experience campus life once again. The event is designed to bring together alumni\, friends\, and the Schreiner community in a welcoming and nostalgic setting. \nRegistration is required and can be completed at schreiner.edu/alumni/recall. For assistance or additional information\, contact Lea Nye ’92 at (830) 792-7206 or mmnye@schreiner.edu. \nSchreiner University is located at 2100 Memorial Blvd.\, Kerrville\, TX 78028.
URL:https://thekerrvillelife.com/event/schreiner-recall-2026-at-schreiner-university/2026-04-24/
LOCATION:Schreiner University\, 2100 Memorial Boulevard\, Kerrville\, TX\, 78028\, United States
CATEGORIES:General
ATTACH;FMTTYPE=image/jpeg:https://thekerrvillelife.com/wp-content/uploads/2026/04/schreiner-recall-2026-at-schreiner-university.jpg
END:VEVENT
BEGIN:VEVENT
DTSTART;TZID=America/Chicago:20260424T090000
DTEND;TZID=America/Chicago:20260424T120000
DTSTAMP:20260419T102556
CREATED:20260406T032823Z
LAST-MODIFIED:20260406T032823Z
UID:81051-1777021200-1777032000@thekerrvillelife.com
SUMMARY:2026 TWG Spring Round Up at Hill Country Youth Event Center
DESCRIPTION:The 2026 Texas Woodcarvers Guild Spring Round Up takes place April 18 through April 24\, 2026 beginning at 9 am at the Hill Country Youth Event Center in Kerrville. Hosted by the Texas Woodcarvers Guild\, this annual event brings together carvers from across the region and beyond for a week of creativity and craftsmanship. \nThe event features a weekend of competitions and detailed woodcarving displays by guild members\, followed by several days of in-depth seminars led by experienced carvers from around the country. Attendees can explore a wide range of carving styles\, techniques\, and artistic expressions while learning from skilled instructors. \nThe Spring Round Up offers a welcoming environment for both seasoned carvers and those interested in learning more about the craft. \nThe Hill Country Youth Event Center is located in Kerrville\, TX. For more information\, contact event organizers directly.
URL:https://thekerrvillelife.com/event/2026-twg-spring-round-up-at-hill-country-youth-event-center/2026-04-24/
LOCATION:Hill Country Youth Event Center\, 3785 Highway 27\, Kerrville\, TX\, 78028\, United States
CATEGORIES:General
ATTACH;FMTTYPE=image/jpeg:https://thekerrvillelife.com/wp-content/uploads/2026/04/2026-twg-spring-round-up-at-hill-country-youth-event-center.jpg
END:VEVENT
END:VCALENDAR