BEGIN:VCALENDAR
VERSION:2.0
PRODID:-//The Kerrville Life - ECPv6.15.20//NONSGML v1.0//EN
CALSCALE:GREGORIAN
METHOD:PUBLISH
X-WR-CALNAME:The Kerrville Life
X-ORIGINAL-URL:https://thekerrvillelife.com
X-WR-CALDESC:Events for The Kerrville Life
REFRESH-INTERVAL;VALUE=DURATION:PT1H
X-Robots-Tag:noindex
X-PUBLISHED-TTL:PT1H
BEGIN:VTIMEZONE
TZID:America/Chicago
BEGIN:DAYLIGHT
TZOFFSETFROM:-0600
TZOFFSETTO:-0500
TZNAME:CDT
DTSTART:20250309T080000
END:DAYLIGHT
BEGIN:STANDARD
TZOFFSETFROM:-0500
TZOFFSETTO:-0600
TZNAME:CST
DTSTART:20251102T070000
END:STANDARD
BEGIN:DAYLIGHT
TZOFFSETFROM:-0600
TZOFFSETTO:-0500
TZNAME:CDT
DTSTART:20260308T080000
END:DAYLIGHT
BEGIN:STANDARD
TZOFFSETFROM:-0500
TZOFFSETTO:-0600
TZNAME:CST
DTSTART:20261101T070000
END:STANDARD
BEGIN:DAYLIGHT
TZOFFSETFROM:-0600
TZOFFSETTO:-0500
TZNAME:CDT
DTSTART:20270314T080000
END:DAYLIGHT
BEGIN:STANDARD
TZOFFSETFROM:-0500
TZOFFSETTO:-0600
TZNAME:CST
DTSTART:20271107T070000
END:STANDARD
END:VTIMEZONE
BEGIN:VEVENT
DTSTART;TZID=America/Chicago:20260422T090000
DTEND;TZID=America/Chicago:20260422T120000
DTSTAMP:20260421T080415
CREATED:20260406T032823Z
LAST-MODIFIED:20260406T032823Z
UID:81049-1776848400-1776859200@thekerrvillelife.com
SUMMARY:2026 TWG Spring Round Up at Hill Country Youth Event Center
DESCRIPTION:The 2026 Texas Woodcarvers Guild Spring Round Up takes place April 18 through April 24\, 2026 beginning at 9 am at the Hill Country Youth Event Center in Kerrville. Hosted by the Texas Woodcarvers Guild\, this annual event brings together carvers from across the region and beyond for a week of creativity and craftsmanship. \nThe event features a weekend of competitions and detailed woodcarving displays by guild members\, followed by several days of in-depth seminars led by experienced carvers from around the country. Attendees can explore a wide range of carving styles\, techniques\, and artistic expressions while learning from skilled instructors. \nThe Spring Round Up offers a welcoming environment for both seasoned carvers and those interested in learning more about the craft. \nThe Hill Country Youth Event Center is located in Kerrville\, TX. For more information\, contact event organizers directly.
URL:https://thekerrvillelife.com/event/2026-twg-spring-round-up-at-hill-country-youth-event-center/2026-04-22/
LOCATION:Hill Country Youth Event Center\, 3785 Highway 27\, Kerrville\, TX\, 78028\, United States
CATEGORIES:General
ATTACH;FMTTYPE=image/jpeg:https://thekerrvillelife.com/wp-content/uploads/2026/04/2026-twg-spring-round-up-at-hill-country-youth-event-center.jpg
END:VEVENT
BEGIN:VEVENT
DTSTART;TZID=America/Chicago:20260422T110000
DTEND;TZID=America/Chicago:20260422T140000
DTSTAMP:20260421T080415
CREATED:20260305T011655Z
LAST-MODIFIED:20260305T011655Z
UID:80753-1776855600-1776866400@thekerrvillelife.com
SUMMARY:Friends of the Library Book Sale at Butt-Holdsworth Memorial Library
DESCRIPTION:The Friends of the Butt-Holdsworth Memorial Library host their ongoing Book Sale throughout 2026\, offering a wide selection of gently used books\, DVDs\, and CDs at very affordable prices. The bookstore operates every Wednesday from 11 am to 2 pm\, with additional sales held from 11 am to 2 pm on the second Saturday of each month. \nShoppers can browse thousands of titles across a variety of genres while supporting the programs and services of the library. The book sale is open to all ages and provides a great opportunity to discover new reads and media at bargain prices. \nThose interested in volunteering with the Friends of the Library can email fobhml@gmail.com or contact the library at 830-258-1274 for more information. \nThe Butt-Holdsworth Memorial Library is located at 505 Water St.\, Kerrville\, TX 78028. For additional details\, call (830) 257-8422.
URL:https://thekerrvillelife.com/event/friends-of-the-library-book-sale-at-butt-holdsworth-memorial-library-6/2026-04-22/
LOCATION:Butt-Holdsworth Memorial Library\, 505 Water Street\, Kerrville\, TX\, 78028\, United States
CATEGORIES:General
ATTACH;FMTTYPE=image/jpeg:https://thekerrvillelife.com/wp-content/uploads/2026/01/friends-of-the-library-book-sale-at-butt-holdsworth-memorial-library.jpg
END:VEVENT
BEGIN:VEVENT
DTSTART;TZID=America/Chicago:20260422T160000
DTEND;TZID=America/Chicago:20260422T190000
DTSTAMP:20260421T080415
CREATED:20260406T023554Z
LAST-MODIFIED:20260406T023554Z
UID:81000-1776873600-1776884400@thekerrvillelife.com
SUMMARY:Wind & Fire MC Southern Rally at Y.O. Ranch Hotel & Conference Center
DESCRIPTION:The Wind & Fire MC Southern Rally takes place beginning April 22\, 2026 at 4 pm at the Y.O. Ranch Hotel & Conference Center in Kerrville. This event is one of four corporate gatherings hosted by the Wind & Fire MC\, bringing members together for a multi-day rally experience. \nAttendees can expect a schedule of activities and group gatherings designed to connect participants and celebrate the club’s community. Full event details\, including the itinerary\, are available through the organization’s official website. \nThe Y.O. Ranch Hotel & Conference Center is located at 2033 Sidney Baker St.\, Kerrville\, TX 78028. For more information\, contact event organizers directly.
URL:https://thekerrvillelife.com/event/wind-fire-mc-southern-rally-at-y-o-ranch-hotel-conference-center/
LOCATION:Y.O. Ranch Hotel & Conference Center\, 2033 Sidney Baker Street\, Kerrville\, TX\, 78028\, United States
CATEGORIES:General
END:VEVENT
BEGIN:VEVENT
DTSTART;TZID=America/Chicago:20260422T183000
DTEND;TZID=America/Chicago:20260422T203000
DTSTAMP:20260421T080415
CREATED:20260406T051603Z
LAST-MODIFIED:20260406T051603Z
UID:81086-1776882600-1776889800@thekerrvillelife.com
SUMMARY:Millennial Lotería at Tailchasers Patio + Pub
DESCRIPTION:Millennial Lotería takes place from 6:30 pm to 8:30 pm at Tailchasers Patio + Pub in Kerrville\, offering a modern twist on the classic Mexican bingo-style game. \nGuests can enjoy a lively and social atmosphere while playing for fun and laughs\, with a $5 buy-in per card for each game. The event is designed for groups\, date nights\, and first-time players alike\, creating an easygoing and interactive experience. \nA full bar and kitchen will be available throughout the evening\, along with both indoor seating and a dog-friendly patio. \nTailchasers Patio + Pub is located at 516 Jefferson Street\, Kerrville\, TX 78028. For more information\, contact the venue directly.
URL:https://thekerrvillelife.com/event/millennial-loteria-at-tailchasers-patio-pub/2026-04-22/
LOCATION:Tailchasers Patio + Pub\, 516 Jefferson Street\, Kerrville\, TX\, 78028\, United States
CATEGORIES:General
ATTACH;FMTTYPE=image/jpeg:https://thekerrvillelife.com/wp-content/uploads/2026/04/millenial-loteria-at-tailchasers-patio-pub.jpg
END:VEVENT
END:VCALENDAR