BEGIN:VCALENDAR
VERSION:2.0
PRODID:-//The Kerrville Life - ECPv6.15.20//NONSGML v1.0//EN
CALSCALE:GREGORIAN
METHOD:PUBLISH
X-WR-CALNAME:The Kerrville Life
X-ORIGINAL-URL:https://thekerrvillelife.com
X-WR-CALDESC:Events for The Kerrville Life
REFRESH-INTERVAL;VALUE=DURATION:PT1H
X-Robots-Tag:noindex
X-PUBLISHED-TTL:PT1H
BEGIN:VTIMEZONE
TZID:America/Chicago
BEGIN:DAYLIGHT
TZOFFSETFROM:-0600
TZOFFSETTO:-0500
TZNAME:CDT
DTSTART:20250309T080000
END:DAYLIGHT
BEGIN:STANDARD
TZOFFSETFROM:-0500
TZOFFSETTO:-0600
TZNAME:CST
DTSTART:20251102T070000
END:STANDARD
BEGIN:DAYLIGHT
TZOFFSETFROM:-0600
TZOFFSETTO:-0500
TZNAME:CDT
DTSTART:20260308T080000
END:DAYLIGHT
BEGIN:STANDARD
TZOFFSETFROM:-0500
TZOFFSETTO:-0600
TZNAME:CST
DTSTART:20261101T070000
END:STANDARD
BEGIN:DAYLIGHT
TZOFFSETFROM:-0600
TZOFFSETTO:-0500
TZNAME:CDT
DTSTART:20270314T080000
END:DAYLIGHT
BEGIN:STANDARD
TZOFFSETFROM:-0500
TZOFFSETTO:-0600
TZNAME:CST
DTSTART:20271107T070000
END:STANDARD
END:VTIMEZONE
BEGIN:VEVENT
DTSTART;VALUE=DATE:20260409
DTEND;VALUE=DATE:20260413
DTSTAMP:20260419T102350
CREATED:20260406T011557Z
LAST-MODIFIED:20260406T011557Z
UID:80956-1775692800-1776038399@thekerrvillelife.com
SUMMARY:Spring Thing 2026 at Inn of the Hills Hotel & Conference Center
DESCRIPTION:Spring Thing returns to Kerrville from April 9 through April 12\, 2026 at the Inn of the Hills Resort\, bringing together car enthusiasts for a multi-day driving event through the scenic Texas Hill Country. Each morning begins with a driver’s meeting at 9 am in front of the Inn before participants head out on curated group drives. \nFriday’s route features a drive along the Twisted Sisters with lunch at Bent Rim Grill. On Saturday\, participants will travel around Inks Lake\, stop for lunch at River City Grill\, and continue on to Spicewood Vineyards for a short visit before returning to Kerrville. \nSpecial lodging rates are available at the Inn of the Hills\, with Queen and King rooms at $119 per night plus taxes and Queen and King cabanas at $129 per night plus taxes. Reservations can be made by calling 800-292-5690 and requesting the Fiat Car Club block. \nThe Inn of the Hills is located at 1001 Junction Highway\, Kerrville\, TX. For more information\, contact event organizers directly.
URL:https://thekerrvillelife.com/event/spring-thing-2026-at-inn-of-the-hills-hotel-conference-center/
LOCATION:Inn of the Hills\, 1001 Junction Highway\, Kerrville\, TX\, 78028\, United States
CATEGORIES:General
ATTACH;FMTTYPE=image/jpeg:https://thekerrvillelife.com/wp-content/uploads/2026/04/spring-thing-2026-at-inn-of-the-hills-hotel-and-conference-center.jpg
END:VEVENT
BEGIN:VEVENT
DTSTART;TZID=America/Chicago:20260410T120000
DTEND;TZID=America/Chicago:20260410T123000
DTSTAMP:20260419T102350
CREATED:20260317T063856Z
LAST-MODIFIED:20260317T063856Z
UID:80880-1775822400-1775824200@thekerrvillelife.com
SUMMARY:Ribbon Cutting at Museum of Western Art
DESCRIPTION:A ribbon cutting ceremony for the Museum of Western Art takes place on Friday\, April 10\, 2026 from 12 pm to 12:30 pm in Kerrville. This special event marks an important moment for the museum and invites the community to take part in the celebration. \nGuests can attend the brief ceremony to recognize the occasion and show support for the museum’s continued presence and contributions to the local arts and cultural scene. \nAdmission is free and open to the public. \nThe Museum of Western Art is located at 1555 Bandera Highway\, Kerrville\, TX 78028. For more information\, contact the venue directly.
URL:https://thekerrvillelife.com/event/ribbon-cutting-at-museum-of-western-art/
LOCATION:Museum of Western Art\, 1550 Bandera Highway\, Kerrville\, TX\, 78028\, United States
CATEGORIES:General
ATTACH;FMTTYPE=image/jpeg:https://thekerrvillelife.com/wp-content/uploads/2026/03/ribbon-cutting-at-museum-of-western-art.jpg
END:VEVENT
BEGIN:VEVENT
DTSTART;TZID=America/Chicago:20260410T160000
DTEND;TZID=America/Chicago:20260410T210000
DTSTAMP:20260419T102350
CREATED:20260406T021037Z
LAST-MODIFIED:20260406T021037Z
UID:80983-1775836800-1775854800@thekerrvillelife.com
SUMMARY:Aglow Spring Conference 2026 at Y.O. Ranch Hotel
DESCRIPTION:The Aglow Spring Conference 2026 takes place April 10 through April 12\, 2026 at the Y.O. Ranch Hotel in Kerrville. Hosted by Aglow International\, this weekend conference offers a time of worship\, fellowship\, and spiritual renewal for those seeking a deeper connection in their faith. \nThe conference begins with check-in at 4 pm on Friday\, followed by an evening worship session at 7 pm led by Terry MacAlmon. Saturday includes a 9 am morning session with worship led by MacAlmon and speakers including Carol Torrance and Nicole Williamson\, followed by a 7 pm evening session featuring worship by Billy Haun and a message from Nicole Williamson. The conference concludes Sunday at 9:30 am with a final morning session led by Billy Haun and Nicole Williamson. \nRegistration is $99 for early registration\, $115 for regular registration\, or $30 per session for individual attendance across four sessions. Registration is available at https://forms.gle/XAGinhTgRUJPkm498. \nThe Y.O. Ranch Hotel is located at 2033 Sidney Baker St.\, Kerrville\, TX 78028. For more information\, contact event organizers directly.
URL:https://thekerrvillelife.com/event/aglow-spring-conference-2026-at-y-o-ranch-hotel/2026-04-10/
LOCATION:Y.O. Ranch Hotel & Conference Center\, 2033 Sidney Baker Street\, Kerrville\, TX\, 78028\, United States
CATEGORIES:General
END:VEVENT
END:VCALENDAR