BEGIN:VCALENDAR
VERSION:2.0
PRODID:-//The Kerrville Life - ECPv6.15.20//NONSGML v1.0//EN
CALSCALE:GREGORIAN
METHOD:PUBLISH
X-WR-CALNAME:The Kerrville Life
X-ORIGINAL-URL:https://thekerrvillelife.com
X-WR-CALDESC:Events for The Kerrville Life
REFRESH-INTERVAL;VALUE=DURATION:PT1H
X-Robots-Tag:noindex
X-PUBLISHED-TTL:PT1H
BEGIN:VTIMEZONE
TZID:America/Chicago
BEGIN:DAYLIGHT
TZOFFSETFROM:-0600
TZOFFSETTO:-0500
TZNAME:CDT
DTSTART:20250309T080000
END:DAYLIGHT
BEGIN:STANDARD
TZOFFSETFROM:-0500
TZOFFSETTO:-0600
TZNAME:CST
DTSTART:20251102T070000
END:STANDARD
BEGIN:DAYLIGHT
TZOFFSETFROM:-0600
TZOFFSETTO:-0500
TZNAME:CDT
DTSTART:20260308T080000
END:DAYLIGHT
BEGIN:STANDARD
TZOFFSETFROM:-0500
TZOFFSETTO:-0600
TZNAME:CST
DTSTART:20261101T070000
END:STANDARD
BEGIN:DAYLIGHT
TZOFFSETFROM:-0600
TZOFFSETTO:-0500
TZNAME:CDT
DTSTART:20270314T080000
END:DAYLIGHT
BEGIN:STANDARD
TZOFFSETFROM:-0500
TZOFFSETTO:-0600
TZNAME:CST
DTSTART:20271107T070000
END:STANDARD
END:VTIMEZONE
BEGIN:VEVENT
DTSTART;TZID=America/Chicago:20260330T190000
DTEND;TZID=America/Chicago:20260330T200000
DTSTAMP:20260421T035411
CREATED:20260305T030649Z
LAST-MODIFIED:20260305T030649Z
UID:80835-1774897200-1774900800@thekerrvillelife.com
SUMMARY:Monday Night Fiction – The Princess Bride by William Goldman at Logan Library
DESCRIPTION:Monday Night Fiction returns on Monday\, March 30\, 2026 from 7 pm to 8 pm at Logan Library on the campus of Schreiner University. This free community book discussion invites readers to gather for thoughtful conversation about a beloved work of fiction. \nThe March meeting will focus on The Princess Bride by William Goldman. Participants are encouraged to bring their thoughts and perspectives on the story for an engaging group discussion hosted by David Gehrels. \nMonday Night Fiction is free and open to everyone. The discussion will take place in the Scarle Philips Room at Logan Library. \nLogan Library at Schreiner University is located at 2100 Memorial Blvd.\, Kerrville\, TX 78028. For more information\, contact Schreiner University.
URL:https://thekerrvillelife.com/event/monday-night-fiction-the-princess-bride-by-william-goldman-at-logan-library/
LOCATION:Schreiner University\, 2100 Memorial Boulevard\, Kerrville\, TX\, 78028\, United States
CATEGORIES:General
ATTACH;FMTTYPE=image/jpeg:https://thekerrvillelife.com/wp-content/uploads/2026/03/monday-night-fiction-the-princess-bride-by-william-goldman-at-schreiner-university-logan-library.jpg
END:VEVENT
END:VCALENDAR