BEGIN:VCALENDAR
VERSION:2.0
PRODID:-//The Kerrville Life - ECPv6.15.20//NONSGML v1.0//EN
CALSCALE:GREGORIAN
METHOD:PUBLISH
X-ORIGINAL-URL:https://thekerrvillelife.com
X-WR-CALDESC:Events for The Kerrville Life
REFRESH-INTERVAL;VALUE=DURATION:PT1H
X-Robots-Tag:noindex
X-PUBLISHED-TTL:PT1H
BEGIN:VTIMEZONE
TZID:America/Chicago
BEGIN:DAYLIGHT
TZOFFSETFROM:-0600
TZOFFSETTO:-0500
TZNAME:CDT
DTSTART:20250309T080000
END:DAYLIGHT
BEGIN:STANDARD
TZOFFSETFROM:-0500
TZOFFSETTO:-0600
TZNAME:CST
DTSTART:20251102T070000
END:STANDARD
BEGIN:DAYLIGHT
TZOFFSETFROM:-0600
TZOFFSETTO:-0500
TZNAME:CDT
DTSTART:20260308T080000
END:DAYLIGHT
BEGIN:STANDARD
TZOFFSETFROM:-0500
TZOFFSETTO:-0600
TZNAME:CST
DTSTART:20261101T070000
END:STANDARD
BEGIN:DAYLIGHT
TZOFFSETFROM:-0600
TZOFFSETTO:-0500
TZNAME:CDT
DTSTART:20270314T080000
END:DAYLIGHT
BEGIN:STANDARD
TZOFFSETFROM:-0500
TZOFFSETTO:-0600
TZNAME:CST
DTSTART:20271107T070000
END:STANDARD
END:VTIMEZONE
BEGIN:VEVENT
DTSTART;TZID=America/Chicago:20260321T100000
DTEND;TZID=America/Chicago:20260321T170000
DTSTAMP:20260423T133453
CREATED:20260109T032929Z
LAST-MODIFIED:20260305T005056Z
UID:79989-1774087200-1774112400@thekerrvillelife.com
SUMMARY:Kerrville Home & Outdoor Living Show at the Youth Event Center
DESCRIPTION:The Kerrville Home & Outdoor Living Show brings together local experts\, businesses\, and artisans for a weekend focused on home improvement\, outdoor living\, and design inspiration. The event showcases ideas and resources for homeowners\, from remodeling and décor to backyard projects\, along with expert advice and family-friendly activities. \nThe show takes place Saturday and Sunday\, March 21-22\, 2026\, at the Youth Event Center\, also known as the Ag Barn\, in Kerrville\, Texas. Admission is free with advance tickets or $5 at the door. Visitors can explore a wide range of exhibitors\, discover local products and services\, and gather ideas for upcoming home and outdoor projects. \nAdditional details\, including advance ticket information\, are available through event organizers.
URL:https://thekerrvillelife.com/event/kerrville-home-outdoor-living-show-at-the-youth-event-center/2026-03-21/
LOCATION:Hill Country Youth Event Center\, 3785 Highway 27\, Kerrville\, TX\, 78028\, United States
CATEGORIES:General
ATTACH;FMTTYPE=image/png:https://thekerrvillelife.com/wp-content/uploads/2026/01/tkl-home-senior-show-scaled.png
END:VEVENT
BEGIN:VEVENT
DTSTART;TZID=America/Chicago:20260321T153000
DTEND;TZID=America/Chicago:20260321T170000
DTSTAMP:20260423T133453
CREATED:20260305T023228Z
LAST-MODIFIED:20260305T023228Z
UID:80819-1774107000-1774112400@thekerrvillelife.com
SUMMARY:Adult Craft – Nature Pocketbook at Butt-Holdsworth Memorial Library
DESCRIPTION:Adult Craft – Nature Pocketbook takes place on Saturday\, March 21\, 2026 from 3:30 pm to 5 pm in the first-floor Meeting Room at the Butt-Holdsworth Memorial Library. This hands-on workshop invites participants to create a handcrafted nature pocketbook designed for outdoor adventures and nature walks. \nThe session will feature special guest Linda Lockheart\, who will guide attendees through the creative process while sharing techniques for assembling the project. All materials needed for the craft will be provided. The program is presented by the library’s Adult Craft Group and facilitated by Diane Furr. \nRegistration is required for this event and opens on March 9\, 2026 at 10 am. \nThis program is open to adults ages 18 and older. \nThe Butt-Holdsworth Memorial Library is located at 505 Water St.\, Kerrville\, TX 78028. For more information or to register\, contact the Reference Desk at (830) 258-1274 or call the library at (830) 257-8422.
URL:https://thekerrvillelife.com/event/adult-craft-nature-pocketbook-at-butt-holdsworth-memorial-library/
LOCATION:Butt-Holdsworth Memorial Library\, 505 Water Street\, Kerrville\, TX\, 78028\, United States
CATEGORIES:General
ATTACH;FMTTYPE=image/jpeg:https://thekerrvillelife.com/wp-content/uploads/2026/03/adult-craft-nature-pocketbook-at-butt-holdsworth-memorial-library.jpg
END:VEVENT
END:VCALENDAR