BEGIN:VCALENDAR
VERSION:2.0
PRODID:-//The Kerrville Life - ECPv6.15.20//NONSGML v1.0//EN
CALSCALE:GREGORIAN
METHOD:PUBLISH
X-ORIGINAL-URL:https://thekerrvillelife.com
X-WR-CALDESC:Events for The Kerrville Life
REFRESH-INTERVAL;VALUE=DURATION:PT1H
X-Robots-Tag:noindex
X-PUBLISHED-TTL:PT1H
BEGIN:VTIMEZONE
TZID:America/Chicago
BEGIN:DAYLIGHT
TZOFFSETFROM:-0600
TZOFFSETTO:-0500
TZNAME:CDT
DTSTART:20250309T080000
END:DAYLIGHT
BEGIN:STANDARD
TZOFFSETFROM:-0500
TZOFFSETTO:-0600
TZNAME:CST
DTSTART:20251102T070000
END:STANDARD
BEGIN:DAYLIGHT
TZOFFSETFROM:-0600
TZOFFSETTO:-0500
TZNAME:CDT
DTSTART:20260308T080000
END:DAYLIGHT
BEGIN:STANDARD
TZOFFSETFROM:-0500
TZOFFSETTO:-0600
TZNAME:CST
DTSTART:20261101T070000
END:STANDARD
BEGIN:DAYLIGHT
TZOFFSETFROM:-0600
TZOFFSETTO:-0500
TZNAME:CDT
DTSTART:20270314T080000
END:DAYLIGHT
BEGIN:STANDARD
TZOFFSETFROM:-0500
TZOFFSETTO:-0600
TZNAME:CST
DTSTART:20271107T070000
END:STANDARD
END:VTIMEZONE
BEGIN:VEVENT
DTSTART;TZID=America/Chicago:20260227T090000
DTEND;TZID=America/Chicago:20260227T170000
DTSTAMP:20260425T162124
CREATED:20260204T051627Z
LAST-MODIFIED:20260204T051716Z
UID:80092-1772182800-1772211600@thekerrvillelife.com
SUMMARY:16th Annual HCCASA Ad Litem Seminar: Together in Motion at YO Ranch Hotel
DESCRIPTION:The 16th Annual HCCASA Ad Litem Seminar\, titled Together in Motion\, brings together professionals for two days of education\, collaboration\, and community-focused discussion. The seminar addresses timely and relevant topics for those working within the legal\, social services\, and education fields\, with an emphasis on advocacy and multidisciplinary understanding. \nThe seminar will take place Thursday and Friday\, February 26–27\, 2026\, from 9 am to 5 pm each day at the YO Ranch Hotel in Kerrville\, Texas. A virtual attendance option is also available. Participants may earn up to 12 CLE hours\, with accreditation by the State Bar of Texas for MCLE\, and CEUs available for licensed social workers and educators through TBHEC and TEA. Featured topics include representing non-offending parents\, criminal justice interactions with individuals on the autism spectrum\, and parole and corrections considerations when clients are incarcerated. \nIn addition to educational sessions\, attendees can explore vendor booths\, participate in networking opportunities\, and connect with professionals across disciplines. Early registration is currently open. Registration details\, lodging information\, and ongoing updates are available at https://hccasa.org/resources/ad-litem-seminar and https://www.hccasa.org.
URL:https://thekerrvillelife.com/event/16th-annual-hccasa-ad-litem-seminar-together-in-motion-at-yo-ranch-hotel/2026-02-27/
LOCATION:YO Ranch Hotel and Resort\, 2033 Sidney Baker St\, Kerrville\, TX\, 78028\, United States
CATEGORIES:General
ATTACH;FMTTYPE=image/jpeg:https://thekerrvillelife.com/wp-content/uploads/2026/02/16th-annual-hccasa-ad-litem-seminar-together-in-motion-at-yo-ranch-hotel.jpg
END:VEVENT
BEGIN:VEVENT
DTSTART;TZID=America/Chicago:20260227T150000
DTEND;TZID=America/Chicago:20260227T160000
DTSTAMP:20260425T162125
CREATED:20260123T015338Z
LAST-MODIFIED:20260123T015338Z
UID:80065-1772204400-1772208000@thekerrvillelife.com
SUMMARY:Tech Help Friday at Butt-Holdsworth Memorial Library
DESCRIPTION:Tech Help Friday provides adults with an opportunity to receive assistance with everyday technology questions in a supportive library setting. Help is available for topics such as downloading eBooks\, using wireless printing\, and navigating the library catalog. \nSessions will be held on Friday\, February 6\, 13\, 20\, and 27\, 2026\, from 3 pm to 4 pm in the second-floor reading area at the Butt-Holdsworth Memorial Library\, located at 505 Water Street in Kerrville\, Texas. The program is designed for adults ages 18 and older\, is free to attend\, and does not require registration. \nFor additional information about Tech Help Friday or other library programs\, contact the Butt-Holdsworth Memorial Library at (830) 257-8422.
URL:https://thekerrvillelife.com/event/tech-help-friday-at-butt-holdsworth-memorial-library-3/2026-02-27/
LOCATION:Butt-Holdsworth Memorial Library\, 505 Water Street\, Kerrville\, TX\, 78028\, United States
CATEGORIES:General
ATTACH;FMTTYPE=image/jpeg:https://thekerrvillelife.com/wp-content/uploads/2026/01/tech-help-friday-at-butt-holdsworth-memorial-library.jpg
END:VEVENT
END:VCALENDAR