BEGIN:VCALENDAR
VERSION:2.0
PRODID:-//The Kerrville Life - ECPv6.15.20//NONSGML v1.0//EN
CALSCALE:GREGORIAN
METHOD:PUBLISH
X-WR-CALNAME:The Kerrville Life
X-ORIGINAL-URL:https://thekerrvillelife.com
X-WR-CALDESC:Events for The Kerrville Life
REFRESH-INTERVAL;VALUE=DURATION:PT1H
X-Robots-Tag:noindex
X-PUBLISHED-TTL:PT1H
BEGIN:VTIMEZONE
TZID:America/Chicago
BEGIN:DAYLIGHT
TZOFFSETFROM:-0600
TZOFFSETTO:-0500
TZNAME:CDT
DTSTART:20250309T080000
END:DAYLIGHT
BEGIN:STANDARD
TZOFFSETFROM:-0500
TZOFFSETTO:-0600
TZNAME:CST
DTSTART:20251102T070000
END:STANDARD
BEGIN:DAYLIGHT
TZOFFSETFROM:-0600
TZOFFSETTO:-0500
TZNAME:CDT
DTSTART:20260308T080000
END:DAYLIGHT
BEGIN:STANDARD
TZOFFSETFROM:-0500
TZOFFSETTO:-0600
TZNAME:CST
DTSTART:20261101T070000
END:STANDARD
BEGIN:DAYLIGHT
TZOFFSETFROM:-0600
TZOFFSETTO:-0500
TZNAME:CDT
DTSTART:20270314T080000
END:DAYLIGHT
BEGIN:STANDARD
TZOFFSETFROM:-0500
TZOFFSETTO:-0600
TZNAME:CST
DTSTART:20271107T070000
END:STANDARD
END:VTIMEZONE
BEGIN:VEVENT
DTSTART;TZID=America/Chicago:20260328T103000
DTEND;TZID=America/Chicago:20260328T120000
DTSTAMP:20260425T211202
CREATED:20260305T024741Z
LAST-MODIFIED:20260305T024741Z
UID:80827-1774693800-1774699200@thekerrvillelife.com
SUMMARY:Kathleen Hudson: Creative Writing at Butt-Holdsworth Memorial Library
DESCRIPTION:A creative writing workshop with Dr. Kathleen Hudson takes place on Saturday\, March 28\, 2026 from 10:30 am to 12 pm in the first-floor Meeting Room at the Butt-Holdsworth Memorial Library. Hudson\, a retired professor from Schreiner University and an accomplished author\, will guide participants through a series of engaging writing prompts designed to spark creativity and encourage personal expression. \nThe workshop provides a supportive environment for adults interested in exploring storytelling\, reflection\, and creative discovery through writing. Participants will have the opportunity to experiment with ideas and develop their voice through guided exercises and discussion. \nRegistration is required for this event and opens on March 9\, 2026. Registration will close on March 28\, 2026 at 10:30 am. \nThis program is open to adults ages 18 and older. \nThe Butt-Holdsworth Memorial Library is located at 505 Water St.\, Kerrville\, TX 78028. For more information or to register\, contact the Reference Desk at (830) 258-1274 or call the library at (830) 257-8422.
URL:https://thekerrvillelife.com/event/kathleen-hudson-creative-writing-at-butt-holdsworth-memorial-library-3/
LOCATION:Butt-Holdsworth Memorial Library\, 505 Water Street\, Kerrville\, TX\, 78028\, United States
CATEGORIES:Arts & Culture
ATTACH;FMTTYPE=image/jpeg:https://thekerrvillelife.com/wp-content/uploads/2026/01/kathleen-hudson-creative-writing-at-butt-holdsworth-memorial-library.jpg
END:VEVENT
END:VCALENDAR