BEGIN:VCALENDAR
VERSION:2.0
PRODID:-//The Kerrville Life - ECPv6.15.20//NONSGML v1.0//EN
CALSCALE:GREGORIAN
METHOD:PUBLISH
X-WR-CALNAME:The Kerrville Life
X-ORIGINAL-URL:https://thekerrvillelife.com
X-WR-CALDESC:Events for The Kerrville Life
REFRESH-INTERVAL;VALUE=DURATION:PT1H
X-Robots-Tag:noindex
X-PUBLISHED-TTL:PT1H
BEGIN:VTIMEZONE
TZID:America/Chicago
BEGIN:DAYLIGHT
TZOFFSETFROM:-0600
TZOFFSETTO:-0500
TZNAME:CDT
DTSTART:20250309T080000
END:DAYLIGHT
BEGIN:STANDARD
TZOFFSETFROM:-0500
TZOFFSETTO:-0600
TZNAME:CST
DTSTART:20251102T070000
END:STANDARD
BEGIN:DAYLIGHT
TZOFFSETFROM:-0600
TZOFFSETTO:-0500
TZNAME:CDT
DTSTART:20260308T080000
END:DAYLIGHT
BEGIN:STANDARD
TZOFFSETFROM:-0500
TZOFFSETTO:-0600
TZNAME:CST
DTSTART:20261101T070000
END:STANDARD
BEGIN:DAYLIGHT
TZOFFSETFROM:-0600
TZOFFSETTO:-0500
TZNAME:CDT
DTSTART:20270314T080000
END:DAYLIGHT
BEGIN:STANDARD
TZOFFSETFROM:-0500
TZOFFSETTO:-0600
TZNAME:CST
DTSTART:20271107T070000
END:STANDARD
END:VTIMEZONE
BEGIN:VEVENT
DTSTART;TZID=America/Chicago:20260318T153000
DTEND;TZID=America/Chicago:20260318T163000
DTSTAMP:20260425T224834
CREATED:20260305T015917Z
LAST-MODIFIED:20260305T015917Z
UID:80812-1773847800-1773851400@thekerrvillelife.com
SUMMARY:Spring Break Craft Event at Butt-Holdsworth Memorial Library
DESCRIPTION:The Spring Break Craft Event takes place on Wednesday\, March 18\, 2026 from 3:30 pm to 4:30 pm in the first-floor Meeting Room at the Butt-Holdsworth Memorial Library. This creative program invites children and teens to spend part of their spring break making a fun hands-on art project in a welcoming library setting. \nParticipants ages 4 to 17 will have the opportunity to create a simple craft while exploring creativity and enjoying time with other young artists. The activity is designed to be accessible and enjoyable for a wide range of ages. \nThis program is designed for children and their accompanying adults. Caregivers are expected to remain with their children and actively participate during the activity\, as drop-offs are not permitted. \nThe Butt-Holdsworth Memorial Library is located at 505 Water St.\, Kerrville\, TX 78028. For more information\, call (830) 257-8422.
URL:https://thekerrvillelife.com/event/spring-break-craft-event-at-butt-holdsworth-memorial-library/
LOCATION:Butt-Holdsworth Memorial Library\, 505 Water Street\, Kerrville\, TX\, 78028\, United States
CATEGORIES:Arts & Culture,Kids & Family
ATTACH;FMTTYPE=image/jpeg:https://thekerrvillelife.com/wp-content/uploads/2026/03/spring-break-craft-event-at-butt-holdsworth-memorial-library.jpg
END:VEVENT
BEGIN:VEVENT
DTSTART;TZID=America/Chicago:20260320T100000
DTEND;TZID=America/Chicago:20260320T110000
DTSTAMP:20260425T224834
CREATED:20260305T022549Z
LAST-MODIFIED:20260305T022549Z
UID:80816-1774000800-1774004400@thekerrvillelife.com
SUMMARY:Fiber Friday at Butt-Holdsworth Memorial Library
DESCRIPTION:Fiber Friday offers a relaxed gathering for fiber arts enthusiasts on Friday\, March 20\, 2026 from 10 am to 11 am in the Second Floor Reading Area at the Butt-Holdsworth Memorial Library. Participants are invited to bring their yarn\, hooks\, or knitting needles and spend an hour crafting in a friendly\, creative environment. \nLed by Kimberly Wygant\, the session provides an opportunity to work on personal projects while sharing ideas\, techniques\, and inspiration with fellow crafters. Whether knitting\, crocheting\, or exploring other fiber arts\, attendees can enjoy a supportive space to create and connect. \nFiber Friday is offered on the first and third Friday of each month and is open to adults ages 18 and older. \nThe Butt-Holdsworth Memorial Library is located at 505 Water St.\, Kerrville\, TX 78028. For more information\, call (830) 257-8422.
URL:https://thekerrvillelife.com/event/fiber-friday-at-butt-holdsworth-memorial-library-6/
LOCATION:Butt-Holdsworth Memorial Library\, 505 Water Street\, Kerrville\, TX\, 78028\, United States
CATEGORIES:Arts & Culture
ATTACH;FMTTYPE=image/jpeg:https://thekerrvillelife.com/wp-content/uploads/2026/01/fiber-friday-at-butt-holdsworth-memorial-library.jpg
END:VEVENT
END:VCALENDAR