BEGIN:VCALENDAR
VERSION:2.0
PRODID:-//The Kerrville Life - ECPv6.15.20//NONSGML v1.0//EN
CALSCALE:GREGORIAN
METHOD:PUBLISH
X-WR-CALNAME:The Kerrville Life
X-ORIGINAL-URL:https://thekerrvillelife.com
X-WR-CALDESC:Events for The Kerrville Life
REFRESH-INTERVAL;VALUE=DURATION:PT1H
X-Robots-Tag:noindex
X-PUBLISHED-TTL:PT1H
BEGIN:VTIMEZONE
TZID:America/Chicago
BEGIN:DAYLIGHT
TZOFFSETFROM:-0600
TZOFFSETTO:-0500
TZNAME:CDT
DTSTART:20250309T080000
END:DAYLIGHT
BEGIN:STANDARD
TZOFFSETFROM:-0500
TZOFFSETTO:-0600
TZNAME:CST
DTSTART:20251102T070000
END:STANDARD
BEGIN:DAYLIGHT
TZOFFSETFROM:-0600
TZOFFSETTO:-0500
TZNAME:CDT
DTSTART:20260308T080000
END:DAYLIGHT
BEGIN:STANDARD
TZOFFSETFROM:-0500
TZOFFSETTO:-0600
TZNAME:CST
DTSTART:20261101T070000
END:STANDARD
BEGIN:DAYLIGHT
TZOFFSETFROM:-0600
TZOFFSETTO:-0500
TZNAME:CDT
DTSTART:20270314T080000
END:DAYLIGHT
BEGIN:STANDARD
TZOFFSETFROM:-0500
TZOFFSETTO:-0600
TZNAME:CST
DTSTART:20271107T070000
END:STANDARD
END:VTIMEZONE
BEGIN:VEVENT
DTSTART;TZID=America/Chicago:20260720T090000
DTEND;TZID=America/Chicago:20260720T120000
DTSTAMP:20260424T042222
CREATED:20260406T031706Z
LAST-MODIFIED:20260406T031706Z
UID:81030-1784538000-1784548800@thekerrvillelife.com
SUMMARY:Summer Art Camp 2026 at Kerr Arts & Cultural Center
DESCRIPTION:Summer Art Camp 2026 takes place throughout July at the Kerr Arts & Cultural Center in Kerrville\, offering a series of week-long sessions designed to encourage creativity and artistic development in young people. Classes are held Monday through Friday from 9 am to 12 pm\, with small class sizes to ensure a hands-on and engaging experience. \nThe camp focuses on fostering creative thinking while helping participants explore a variety of artistic techniques and projects in a supportive environment. Sessions are scheduled for July 6–10\, July 13–17\, July 20–24\, and July 27–31\, allowing families to choose one or multiple weeks. \nTuition is $100 per week\, with a discounted rate of $75 for each additional child from the same family. \nThe Kerr Arts & Cultural Center is located at 228 Earl Garrett Street\, Kerrville\, TX 78028. For more information or to register\, visit https://lp.constantcontactpages.com/ev/reg/rzzrpk7/lp/90427ca0-10fa-4592-9c34-d15f16c55e66.
URL:https://thekerrvillelife.com/event/summer-art-camp-2026-at-kerr-arts-cultural-center/2026-07-20/
LOCATION:Kerr Arts & Cultural Center\, 228 Earl Garrett Street\, Kerrville\, TX\, 78028\, United States
CATEGORIES:Arts & Culture,Kids & Family
ATTACH;FMTTYPE=image/jpeg:https://thekerrvillelife.com/wp-content/uploads/2026/04/summer-art-camp-2026-at-kerr-arts-and-cultural-center.jpg
END:VEVENT
END:VCALENDAR