BEGIN:VCALENDAR
VERSION:2.0
PRODID:-//The Kerrville Life - ECPv6.15.20//NONSGML v1.0//EN
CALSCALE:GREGORIAN
METHOD:PUBLISH
X-ORIGINAL-URL:https://thekerrvillelife.com
X-WR-CALDESC:Events for The Kerrville Life
REFRESH-INTERVAL;VALUE=DURATION:PT1H
X-Robots-Tag:noindex
X-PUBLISHED-TTL:PT1H
BEGIN:VTIMEZONE
TZID:America/Chicago
BEGIN:DAYLIGHT
TZOFFSETFROM:-0600
TZOFFSETTO:-0500
TZNAME:CDT
DTSTART:20250309T080000
END:DAYLIGHT
BEGIN:STANDARD
TZOFFSETFROM:-0500
TZOFFSETTO:-0600
TZNAME:CST
DTSTART:20251102T070000
END:STANDARD
BEGIN:DAYLIGHT
TZOFFSETFROM:-0600
TZOFFSETTO:-0500
TZNAME:CDT
DTSTART:20260308T080000
END:DAYLIGHT
BEGIN:STANDARD
TZOFFSETFROM:-0500
TZOFFSETTO:-0600
TZNAME:CST
DTSTART:20261101T070000
END:STANDARD
BEGIN:DAYLIGHT
TZOFFSETFROM:-0600
TZOFFSETTO:-0500
TZNAME:CDT
DTSTART:20270314T080000
END:DAYLIGHT
BEGIN:STANDARD
TZOFFSETFROM:-0500
TZOFFSETTO:-0600
TZNAME:CST
DTSTART:20271107T070000
END:STANDARD
END:VTIMEZONE
BEGIN:VEVENT
DTSTART;TZID=America/Chicago:20260716T090000
DTEND;TZID=America/Chicago:20260716T120000
DTSTAMP:20260420T000045
CREATED:20260406T031706Z
LAST-MODIFIED:20260406T031706Z
UID:81028-1784192400-1784203200@thekerrvillelife.com
SUMMARY:Summer Art Camp 2026 at Kerr Arts & Cultural Center
DESCRIPTION:Summer Art Camp 2026 takes place throughout July at the Kerr Arts & Cultural Center in Kerrville\, offering a series of week-long sessions designed to encourage creativity and artistic development in young people. Classes are held Monday through Friday from 9 am to 12 pm\, with small class sizes to ensure a hands-on and engaging experience. \nThe camp focuses on fostering creative thinking while helping participants explore a variety of artistic techniques and projects in a supportive environment. Sessions are scheduled for July 6–10\, July 13–17\, July 20–24\, and July 27–31\, allowing families to choose one or multiple weeks. \nTuition is $100 per week\, with a discounted rate of $75 for each additional child from the same family. \nThe Kerr Arts & Cultural Center is located at 228 Earl Garrett Street\, Kerrville\, TX 78028. For more information or to register\, visit https://lp.constantcontactpages.com/ev/reg/rzzrpk7/lp/90427ca0-10fa-4592-9c34-d15f16c55e66.
URL:https://thekerrvillelife.com/event/summer-art-camp-2026-at-kerr-arts-cultural-center/2026-07-16/
LOCATION:Kerr Arts & Cultural Center\, 228 Earl Garrett Street\, Kerrville\, TX\, 78028\, United States
CATEGORIES:Arts & Culture,Kids & Family
ATTACH;FMTTYPE=image/jpeg:https://thekerrvillelife.com/wp-content/uploads/2026/04/summer-art-camp-2026-at-kerr-arts-and-cultural-center.jpg
END:VEVENT
BEGIN:VEVENT
DTSTART;TZID=America/Chicago:20260716T100000
DTEND;TZID=America/Chicago:20260716T140000
DTSTAMP:20260420T000045
CREATED:20251120T001424Z
LAST-MODIFIED:20251120T001424Z
UID:79566-1784196000-1784210400@thekerrvillelife.com
SUMMARY:Schreiner Mansion Tours at Schreiner Mansion
DESCRIPTION:Step into Kerrville’s past with guided tours of the historic Schreiner Mansion\, built in 1879 and listed on the National Register of Historic Places. Located in downtown Kerrville overlooking Peterson Plaza\, the Mansion offers a close look at period architecture and the legacy of one of the city’s founding families. \nTours are offered on Thursdays from 10 am to 2 pm\, beginning on the half-hour\, with the last tour starting at 1:30 pm. Admission is $10 for adults\, $5 for students\, and $5 for military with ID. Group tours of 10 or more are $8 per person with reservations. \nThe Schreiner Mansion is in Kerrville\, Texas. For more information\, call Stacy Page at (830) 895-5222. Visitors can view a photo gallery and experience a virtual tour on the Schreiner Mansion’s Facebook page\, and learn more about the site’s history online. \nAdditional information: The Mansion is available for special event rentals for $25\,000\, which includes access to the Events at Water Street space in the historic Schreiner Building. Two hours of complimentary photography are included with any event. To schedule an appointment to discuss your event or for further details\, call (830) 895-5222.
URL:https://thekerrvillelife.com/event/schreiner-mansion-tours-at-schreiner-mansion/2026-07-16/
LOCATION:Schreiner Mansion\, 222 Earl Garrett St\, Kerrville\, TX\, 78028\, United States
CATEGORIES:General,Kids & Family
ATTACH;FMTTYPE=image/jpeg:https://thekerrvillelife.com/wp-content/uploads/2025/11/schreiner-mansion-tours-at-schreiner-mansion.jpg
END:VEVENT
BEGIN:VEVENT
DTSTART;TZID=America/Chicago:20260716T113000
DTEND;TZID=America/Chicago:20260716T123000
DTSTAMP:20260420T000045
CREATED:20251215T232939Z
LAST-MODIFIED:20251215T233324Z
UID:79764-1784201400-1784205000@thekerrvillelife.com
SUMMARY:KAC Networking Group at Inn of the Hills Hotel & Conference
DESCRIPTION:The KAC Networking Group offers a professional\, structured environment for local business people to promote their services while building meaningful connections through shared referrals\, knowledge\, and expertise. Hosted by the Kerrville Area Chamber of Commerce\, this networking group is designed to foster collaboration among members while maintaining a focused and organized format. \nMeetings take place from 11:30 am to 12:30 pm on the first and third Thursday of every month at the Inn of the Hills Hotel & Conference\, located at 1001 Junction Highway in Kerrville\, Texas. The group follows a one-industry-per-person model\, with membership available on a first-come\, first-served basis\, ensuring a diverse range of professional representation. \nParticipation is available to members of the Kerrville Area Chamber of Commerce\, and attendees can expect a consistent opportunity to build relationships and exchange business referrals in a supportive setting. For additional details about membership or meeting availability\, contact the Kerrville Area Chamber of Commerce directly.
URL:https://thekerrvillelife.com/event/kac-networking-group-at-inn-of-the-hills-hotel-conference/2026-07-16/
LOCATION:Inn of the Hills\, 1001 Junction Highway\, Kerrville\, TX\, 78028\, United States
CATEGORIES:Business & Networking
ATTACH;FMTTYPE=image/jpeg:https://thekerrvillelife.com/wp-content/uploads/2025/08/kac-networking-group-at-inn-of-the-hills.jpg
END:VEVENT
BEGIN:VEVENT
DTSTART;TZID=America/Chicago:20260716T170000
DTEND;TZID=America/Chicago:20260716T200000
DTSTAMP:20260420T000045
CREATED:20250821T094324Z
LAST-MODIFIED:20251120T003254Z
UID:79637-1784221200-1784232000@thekerrvillelife.com
SUMMARY:Country Nights Open Mic at Gravity Check Saloon and Arena
DESCRIPTION:Country music fans can enjoy an easygoing evening of live local talent during Country Nights Open Mic at Gravity Check Saloon. Listeners can relax to a mix of classic and contemporary country\, while aspiring performers are welcome to bring an instrument and take a turn on stage. \nThe open mic runs every Thursday from 6 pm to 10 pm\, with the grill serving until 9 pm. \nGravity Check Saloon is located in Kerrville\, Texas.
URL:https://thekerrvillelife.com/event/country-nights-open-mic-at-gravity-check-saloon-and-arena/2026-07-16/
LOCATION:Gravity Check Saloon and Arena\, 3979 Bandera Highway (173)\, Kerrville\, TX\, 78028\, United States
CATEGORIES:Music
ATTACH;FMTTYPE=image/jpeg:https://thekerrvillelife.com/wp-content/uploads/2025/08/country-nights-open-mic-at-gravity-check-saloon-and-arena.jpg
END:VEVENT
END:VCALENDAR