BEGIN:VCALENDAR
VERSION:2.0
PRODID:-//The Kerrville Life - ECPv6.15.20//NONSGML v1.0//EN
CALSCALE:GREGORIAN
METHOD:PUBLISH
X-ORIGINAL-URL:https://thekerrvillelife.com
X-WR-CALDESC:Events for The Kerrville Life
REFRESH-INTERVAL;VALUE=DURATION:PT1H
X-Robots-Tag:noindex
X-PUBLISHED-TTL:PT1H
BEGIN:VTIMEZONE
TZID:America/Chicago
BEGIN:DAYLIGHT
TZOFFSETFROM:-0600
TZOFFSETTO:-0500
TZNAME:CDT
DTSTART:20250309T080000
END:DAYLIGHT
BEGIN:STANDARD
TZOFFSETFROM:-0500
TZOFFSETTO:-0600
TZNAME:CST
DTSTART:20251102T070000
END:STANDARD
BEGIN:DAYLIGHT
TZOFFSETFROM:-0600
TZOFFSETTO:-0500
TZNAME:CDT
DTSTART:20260308T080000
END:DAYLIGHT
BEGIN:STANDARD
TZOFFSETFROM:-0500
TZOFFSETTO:-0600
TZNAME:CST
DTSTART:20261101T070000
END:STANDARD
BEGIN:DAYLIGHT
TZOFFSETFROM:-0600
TZOFFSETTO:-0500
TZNAME:CDT
DTSTART:20270314T080000
END:DAYLIGHT
BEGIN:STANDARD
TZOFFSETFROM:-0500
TZOFFSETTO:-0600
TZNAME:CST
DTSTART:20271107T070000
END:STANDARD
END:VTIMEZONE
BEGIN:VEVENT
DTSTART;TZID=America/Chicago:20260613T100000
DTEND;TZID=America/Chicago:20260613T160000
DTSTAMP:20260424T113206
CREATED:20251216T013103Z
LAST-MODIFIED:20260403T141347Z
UID:79898-1781344800-1781366400@thekerrvillelife.com
SUMMARY:Friends of the Library Book Sale at Butt-Holdsworth Memorial Library
DESCRIPTION:The Friends of the Library Book Sale offers a monthly opportunity to browse a wide selection of books while supporting local library programs and services. Shoppers can explore a variety of titles during this community sale held in a convenient\, central location. \nThe book sale takes place on the second Saturday of every month from 10 am to 4 pm at the Butt-Holdsworth Memorial Library. The event is open to the public. \nIt’s a great chance to score a fantastic deal on some new (to you) books for your collection.
URL:https://thekerrvillelife.com/event/friends-of-the-library-book-sale-at-kerrville-area-chamber-of-commerce/2026-06-13/
LOCATION:Kerrville Area Chamber of Commerce\, 1700 Sidney Baker\, Suite 100\, Kerrville\, TX\, 78028\, United States
CATEGORIES:Kids & Family
ATTACH;FMTTYPE=image/jpeg:https://thekerrvillelife.com/wp-content/uploads/2025/08/friends-of-the-library-book-sale-at-kerrville-area-chamber-of-commerce.jpg
END:VEVENT
END:VCALENDAR