BEGIN:VCALENDAR
VERSION:2.0
PRODID:-//The Kerrville Life - ECPv6.15.20//NONSGML v1.0//EN
CALSCALE:GREGORIAN
METHOD:PUBLISH
X-ORIGINAL-URL:https://thekerrvillelife.com
X-WR-CALDESC:Events for The Kerrville Life
REFRESH-INTERVAL;VALUE=DURATION:PT1H
X-Robots-Tag:noindex
X-PUBLISHED-TTL:PT1H
BEGIN:VTIMEZONE
TZID:America/Chicago
BEGIN:DAYLIGHT
TZOFFSETFROM:-0600
TZOFFSETTO:-0500
TZNAME:CDT
DTSTART:20250309T080000
END:DAYLIGHT
BEGIN:STANDARD
TZOFFSETFROM:-0500
TZOFFSETTO:-0600
TZNAME:CST
DTSTART:20251102T070000
END:STANDARD
BEGIN:DAYLIGHT
TZOFFSETFROM:-0600
TZOFFSETTO:-0500
TZNAME:CDT
DTSTART:20260308T080000
END:DAYLIGHT
BEGIN:STANDARD
TZOFFSETFROM:-0500
TZOFFSETTO:-0600
TZNAME:CST
DTSTART:20261101T070000
END:STANDARD
BEGIN:DAYLIGHT
TZOFFSETFROM:-0600
TZOFFSETTO:-0500
TZNAME:CDT
DTSTART:20270314T080000
END:DAYLIGHT
BEGIN:STANDARD
TZOFFSETFROM:-0500
TZOFFSETTO:-0600
TZNAME:CST
DTSTART:20271107T070000
END:STANDARD
END:VTIMEZONE
BEGIN:VEVENT
DTSTART;TZID=America/Chicago:20260530T100000
DTEND;TZID=America/Chicago:20260530T160000
DTSTAMP:20260419T183606
CREATED:20260109T060158Z
LAST-MODIFIED:20260109T060158Z
UID:80021-1780135200-1780156800@thekerrvillelife.com
SUMMARY:Family Free Day at the Museum of Western Art
DESCRIPTION:Family Free Day offers a monthly opportunity for families to explore western art\, history\, and hands-on activities in a welcoming museum setting. Visitors can enjoy the Museum of Western Art’s current exhibits\, the Journey West Children’s Gallery\, western art and artifacts\, and the museum’s award-winning store throughout the day. \nFamily Free Day is held on the last Saturday of each month from 10 am to 4 pm at the Museum of Western Art\, located at 1550 Bandera Highway in Kerrville\, Texas. Admission is free for families during the event. Each month features a different themed activity\, with January offering Painting with Snow\, February featuring Candle Making\, March to be announced\, April highlighting Leather Works\, and May focused on Painting. \nAdditional details about Family Free Day and museum offerings are available through the Museum of Western Art.
URL:https://thekerrvillelife.com/event/family-free-day-at-the-museum-of-western-art-2/2026-05-30/
LOCATION:Museum of Western Art\, 1550 Bandera Highway\, Kerrville\, TX\, 78028\, United States
CATEGORIES:Kids & Family
ATTACH;FMTTYPE=image/jpeg:https://thekerrvillelife.com/wp-content/uploads/2026/01/family-free-day-at-the-museum-of-western-art.jpg
END:VEVENT
BEGIN:VEVENT
DTSTART;TZID=America/Chicago:20260530T130000
DTEND;TZID=America/Chicago:20260530T160000
DTSTAMP:20260419T183606
CREATED:20260415T022925Z
LAST-MODIFIED:20260415T022925Z
UID:81177-1780146000-1780156800@thekerrvillelife.com
SUMMARY:Brianna Adams Live at Singing Water Vineyards
DESCRIPTION:Brianna Adams performs live at Singing Water Vineyards in Comfort on Saturday\, May 30\, 2026 from 1 pm to 4 pm. This afternoon show highlights an emerging Texas artist gaining attention across the Hill Country. \nBrianna Adams brings a powerful sound and engaging stage presence\, delivering a performance that blends energy and authenticity. Her growing reputation and dynamic live shows make this a standout opportunity to catch a rising talent in an intimate setting. \nThis all-ages event is free and open to the public\, with no tickets required. Singing Water Vineyards is located in Comfort\, TX. For more information\, contact the venue directly.
URL:https://thekerrvillelife.com/event/brianna-adams-live-at-singing-water-vineyards/
LOCATION:Singing Water Vineyards\, 316 Mill Dam Rd\, Comfort\, TX\, 78013\, United States
CATEGORIES:Music
ATTACH;FMTTYPE=image/jpeg:https://thekerrvillelife.com/wp-content/uploads/2026/04/brianna-adams-live-at-singing-water-vineyards.jpg
END:VEVENT
BEGIN:VEVENT
DTSTART;TZID=America/Chicago:20260530T170000
DTEND;TZID=America/Chicago:20260530T200000
DTSTAMP:20260419T183606
CREATED:20260415T023113Z
LAST-MODIFIED:20260415T023113Z
UID:81179-1780160400-1780171200@thekerrvillelife.com
SUMMARY:David Selbo Live at Singing Water Vineyards
DESCRIPTION:David Selbo performs live at Singing Water Vineyards in Comfort on Saturday\, May 30\, 2026 from 5 pm to 8 pm. This evening show features a smooth blend of classic favorites paired with soulful guitar work in a relaxed winery setting. \nDavid Selbo is known for his sultry sound and polished style\, creating an easygoing atmosphere that complements an afternoon or evening in the Texas Hill Country. \nThis all-ages event is free and open to the public\, with no tickets required. Singing Water Vineyards is located in Comfort\, TX. For more information\, contact the venue directly.
URL:https://thekerrvillelife.com/event/david-selbo-live-at-singing-water-vineyards/
LOCATION:Singing Water Vineyards\, 316 Mill Dam Rd\, Comfort\, TX\, 78013\, United States
CATEGORIES:Music
ATTACH;FMTTYPE=image/jpeg:https://thekerrvillelife.com/wp-content/uploads/2026/04/david-selbo-live-at-singing-water-vineyards.jpg
END:VEVENT
END:VCALENDAR