BEGIN:VCALENDAR
VERSION:2.0
PRODID:-//The Kerrville Life - ECPv6.15.20//NONSGML v1.0//EN
CALSCALE:GREGORIAN
METHOD:PUBLISH
X-ORIGINAL-URL:https://thekerrvillelife.com
X-WR-CALDESC:Events for The Kerrville Life
REFRESH-INTERVAL;VALUE=DURATION:PT1H
X-Robots-Tag:noindex
X-PUBLISHED-TTL:PT1H
BEGIN:VTIMEZONE
TZID:America/Chicago
BEGIN:DAYLIGHT
TZOFFSETFROM:-0600
TZOFFSETTO:-0500
TZNAME:CDT
DTSTART:20250309T080000
END:DAYLIGHT
BEGIN:STANDARD
TZOFFSETFROM:-0500
TZOFFSETTO:-0600
TZNAME:CST
DTSTART:20251102T070000
END:STANDARD
BEGIN:DAYLIGHT
TZOFFSETFROM:-0600
TZOFFSETTO:-0500
TZNAME:CDT
DTSTART:20260308T080000
END:DAYLIGHT
BEGIN:STANDARD
TZOFFSETFROM:-0500
TZOFFSETTO:-0600
TZNAME:CST
DTSTART:20261101T070000
END:STANDARD
BEGIN:DAYLIGHT
TZOFFSETFROM:-0600
TZOFFSETTO:-0500
TZNAME:CDT
DTSTART:20270314T080000
END:DAYLIGHT
BEGIN:STANDARD
TZOFFSETFROM:-0500
TZOFFSETTO:-0600
TZNAME:CST
DTSTART:20271107T070000
END:STANDARD
END:VTIMEZONE
BEGIN:VEVENT
DTSTART;TZID=America/Chicago:20260517T110000
DTEND;TZID=America/Chicago:20260517T170000
DTSTAMP:20260419T201205
CREATED:20250911T000454Z
LAST-MODIFIED:20250911T000454Z
UID:79073-1779015600-1779037200@thekerrvillelife.com
SUMMARY:Turtle Creek Vineyard Market Days at Turtle Creek Vineyard
DESCRIPTION:Turtle Creek Vineyard invites guests to enjoy a relaxing Hill Country afternoon at Market Days\, a free\, family-friendly event celebrating local artisans\, music\, and food. Visitors can browse a variety of vendor booths featuring handmade goods\, crafts\, and unique finds while savoring delicious bites and live music against the beautiful backdrop of the vineyard. \nThe 2025 Market Days will be held on Sundays\, September 21\, October 19\, and November 16\, from 12 pm to 6 pm. The 2026 dates include March 15\, April 19\, and May 17. \nTurtle Creek Vineyard is located at 183 Fall Creek Road\, Kerrville\, Texas 78028. Admission is free\, and all are welcome. For more information\, contact the Kerrville Area Chamber of Commerce or visit the vineyard’s website.
URL:https://thekerrvillelife.com/event/turtle-creek-vineyard-market-days-at-turtle-creek-vineyard/2026-05-17/
LOCATION:Turtle Creek Vineyard\, 183 Fall Creek Road\, Kerrville\, TX\, 78028\, United States
CATEGORIES:Kids & Family
ATTACH;FMTTYPE=image/jpeg:https://thekerrvillelife.com/wp-content/uploads/2025/09/turtle-creek-vineyard-market-days-at-turtle-creek-vineyard.jpg
END:VEVENT
BEGIN:VEVENT
DTSTART;TZID=America/Chicago:20260517T130000
DTEND;TZID=America/Chicago:20260517T160000
DTSTAMP:20260419T201205
CREATED:20260415T022043Z
LAST-MODIFIED:20260415T022043Z
UID:81167-1779022800-1779033600@thekerrvillelife.com
SUMMARY:Lee Beauchamp Live at Singing Water Vineyards
DESCRIPTION:Lee Beauchamp performs live at Singing Water Vineyards in Comfort on Sunday\, May 17\, 2026 from 1 pm to 4 pm. This afternoon show offers a laid-back setting to enjoy live music alongside the vineyard’s scenic Hill Country surroundings. \nLee Beauchamp brings an upbeat and entertaining performance\, creating a fun atmosphere for guests looking to relax\, enjoy good music\, and spend time with friends or family. \nThis all-ages event is free and open to the public\, with no tickets required. Singing Water Vineyards is located in Comfort\, TX. For more information\, contact the venue directly.
URL:https://thekerrvillelife.com/event/lee-beauchamp-live-at-singing-water-vineyards/
LOCATION:Singing Water Vineyards\, 316 Mill Dam Rd\, Comfort\, TX\, 78013\, United States
CATEGORIES:Music
ATTACH;FMTTYPE=image/jpeg:https://thekerrvillelife.com/wp-content/uploads/2026/04/lee-beauchamp-live-at-singing-water-vineyards.jpg
END:VEVENT
END:VCALENDAR