BEGIN:VCALENDAR
VERSION:2.0
PRODID:-//The Kerrville Life - ECPv6.15.20//NONSGML v1.0//EN
CALSCALE:GREGORIAN
METHOD:PUBLISH
X-WR-CALNAME:The Kerrville Life
X-ORIGINAL-URL:https://thekerrvillelife.com
X-WR-CALDESC:Events for The Kerrville Life
REFRESH-INTERVAL;VALUE=DURATION:PT1H
X-Robots-Tag:noindex
X-PUBLISHED-TTL:PT1H
BEGIN:VTIMEZONE
TZID:America/Chicago
BEGIN:DAYLIGHT
TZOFFSETFROM:-0600
TZOFFSETTO:-0500
TZNAME:CDT
DTSTART:20250309T080000
END:DAYLIGHT
BEGIN:STANDARD
TZOFFSETFROM:-0500
TZOFFSETTO:-0600
TZNAME:CST
DTSTART:20251102T070000
END:STANDARD
BEGIN:DAYLIGHT
TZOFFSETFROM:-0600
TZOFFSETTO:-0500
TZNAME:CDT
DTSTART:20260308T080000
END:DAYLIGHT
BEGIN:STANDARD
TZOFFSETFROM:-0500
TZOFFSETTO:-0600
TZNAME:CST
DTSTART:20261101T070000
END:STANDARD
BEGIN:DAYLIGHT
TZOFFSETFROM:-0600
TZOFFSETTO:-0500
TZNAME:CDT
DTSTART:20270314T080000
END:DAYLIGHT
BEGIN:STANDARD
TZOFFSETFROM:-0500
TZOFFSETTO:-0600
TZNAME:CST
DTSTART:20271107T070000
END:STANDARD
END:VTIMEZONE
BEGIN:VEVENT
DTSTART;VALUE=DATE:20260409
DTEND;VALUE=DATE:20260413
DTSTAMP:20260420T090946
CREATED:20260406T011557Z
LAST-MODIFIED:20260406T011557Z
UID:80956-1775692800-1776038399@thekerrvillelife.com
SUMMARY:Spring Thing 2026 at Inn of the Hills Hotel & Conference Center
DESCRIPTION:Spring Thing returns to Kerrville from April 9 through April 12\, 2026 at the Inn of the Hills Resort\, bringing together car enthusiasts for a multi-day driving event through the scenic Texas Hill Country. Each morning begins with a driver’s meeting at 9 am in front of the Inn before participants head out on curated group drives. \nFriday’s route features a drive along the Twisted Sisters with lunch at Bent Rim Grill. On Saturday\, participants will travel around Inks Lake\, stop for lunch at River City Grill\, and continue on to Spicewood Vineyards for a short visit before returning to Kerrville. \nSpecial lodging rates are available at the Inn of the Hills\, with Queen and King rooms at $119 per night plus taxes and Queen and King cabanas at $129 per night plus taxes. Reservations can be made by calling 800-292-5690 and requesting the Fiat Car Club block. \nThe Inn of the Hills is located at 1001 Junction Highway\, Kerrville\, TX. For more information\, contact event organizers directly.
URL:https://thekerrvillelife.com/event/spring-thing-2026-at-inn-of-the-hills-hotel-conference-center/
LOCATION:Inn of the Hills\, 1001 Junction Highway\, Kerrville\, TX\, 78028\, United States
CATEGORIES:General
ATTACH;FMTTYPE=image/jpeg:https://thekerrvillelife.com/wp-content/uploads/2026/04/spring-thing-2026-at-inn-of-the-hills-hotel-and-conference-center.jpg
END:VEVENT
BEGIN:VEVENT
DTSTART;TZID=America/Chicago:20260411T080000
DTEND;TZID=America/Chicago:20260411T100000
DTSTAMP:20260420T090946
CREATED:20260406T053306Z
LAST-MODIFIED:20260406T053306Z
UID:81114-1775894400-1775901600@thekerrvillelife.com
SUMMARY:Plant Walk & Talk: Edible Plants at Riverside Nature Center
DESCRIPTION:Plant Walk & Talk: Edible Plants takes place on Saturday\, April 11\, 2026 from 8 am to 10 am at the Riverside Nature Center in Kerrville. This guided program offers a hands-on opportunity to explore the edible plants found within the center’s gardens. \nLed by Kim Ort\, participants will walk through the gardens while learning to identify a variety of edible plants and gain insight into their uses. The program provides a practical and engaging way to connect with local plant life and expand knowledge of sustainable\, nature-based resources. \nTwo session times are available at 8 am and 10 am. Admission is free\, but space is limited and RSVPs are required. More information and registration details can be found at https://riversidenaturecenter.org/news-events/event-calendar.html/event/2026/04/11/plant-walk-talk-edible-plants/560052. \nThe Riverside Nature Center is located at 150 Francisco Lemos St.\, Kerrville\, TX. For more information\, contact the organization directly.
URL:https://thekerrvillelife.com/event/plant-walk-talk-edible-plants-at-riverside-nature-center/
LOCATION:Riverside Nature Center\, 150 Francisco Lemos Street\, Kerrville\, TX\, 78028\, United States
CATEGORIES:General
END:VEVENT
BEGIN:VEVENT
DTSTART;TZID=America/Chicago:20260411T090000
DTEND;TZID=America/Chicago:20260411T120000
DTSTAMP:20260420T090946
CREATED:20260406T022150Z
LAST-MODIFIED:20260406T022150Z
UID:80991-1775898000-1775908800@thekerrvillelife.com
SUMMARY:Hill Country Master Gardeners Blooms & Barrels Sale at Hill Country Youth Event Center
DESCRIPTION:The Hill Country Master Gardeners Blooms & Barrels Sale takes place on Saturday\, April 11\, 2026 from 9 am to 12 pm at the Hill Country Youth Event Center in Kerrville. This annual plant sale offers a wide selection of gardening resources and activities for the community. \nShoppers can browse a variety of plants\, trees\, rain barrels\, and handmade crafts while learning more about sustainable gardening practices. The event also features tours of the Master Gardeners Demonstration Garden\, Junior Master Gardener growing areas\, and educational spaces focused on gardening and agriculture. \nThe sale runs until noon or until items sell out\, giving visitors the opportunity to explore\, learn\, and shop while supporting local gardening initiatives. \nThe Hill Country Youth Event Center is located in Kerrville\, TX. For more information\, contact event organizers directly.
URL:https://thekerrvillelife.com/event/hill-country-master-gardeners-blooms-barrels-sale-at-hill-country-youth-event-center/
LOCATION:Hill Country Youth Event Center\, 3785 Highway 27\, Kerrville\, TX\, 78028\, United States
CATEGORIES:General
END:VEVENT
BEGIN:VEVENT
DTSTART;TZID=America/Chicago:20260411T090000
DTEND;TZID=America/Chicago:20260411T210000
DTSTAMP:20260420T090946
CREATED:20260406T021037Z
LAST-MODIFIED:20260406T021037Z
UID:80985-1775898000-1775941200@thekerrvillelife.com
SUMMARY:Aglow Spring Conference 2026 at Y.O. Ranch Hotel
DESCRIPTION:The Aglow Spring Conference 2026 takes place April 10 through April 12\, 2026 at the Y.O. Ranch Hotel in Kerrville. Hosted by Aglow International\, this weekend conference offers a time of worship\, fellowship\, and spiritual renewal for those seeking a deeper connection in their faith. \nThe conference begins with check-in at 4 pm on Friday\, followed by an evening worship session at 7 pm led by Terry MacAlmon. Saturday includes a 9 am morning session with worship led by MacAlmon and speakers including Carol Torrance and Nicole Williamson\, followed by a 7 pm evening session featuring worship by Billy Haun and a message from Nicole Williamson. The conference concludes Sunday at 9:30 am with a final morning session led by Billy Haun and Nicole Williamson. \nRegistration is $99 for early registration\, $115 for regular registration\, or $30 per session for individual attendance across four sessions. Registration is available at https://forms.gle/XAGinhTgRUJPkm498. \nThe Y.O. Ranch Hotel is located at 2033 Sidney Baker St.\, Kerrville\, TX 78028. For more information\, contact event organizers directly.
URL:https://thekerrvillelife.com/event/aglow-spring-conference-2026-at-y-o-ranch-hotel/2026-04-11/
LOCATION:Y.O. Ranch Hotel & Conference Center\, 2033 Sidney Baker Street\, Kerrville\, TX\, 78028\, United States
CATEGORIES:General
END:VEVENT
BEGIN:VEVENT
DTSTART;TZID=America/Chicago:20260411T093000
DTEND;TZID=America/Chicago:20260411T120000
DTSTAMP:20260420T090946
CREATED:20260406T005919Z
LAST-MODIFIED:20260406T005919Z
UID:80948-1775899800-1775908800@thekerrvillelife.com
SUMMARY:Kerrville Skateboard Competition at Kerrville Skate Park
DESCRIPTION:The Kerrville Skateboard Competition takes place on Saturday\, April 11\, 2026 at the Skate Park in Singing Wind Park. Hosted by the Kerrville Parks and Recreation Department\, this annual event invites skateboarders of all skill levels to showcase their talent and compete for top honors in their age division. \nCheck-in and warm-up begin at 9:30 am\, with the competition starting at 10 am. Each participant will have two minutes to perform their best tricks and routines in front of judges. Age divisions include 8 years and under\, 9–12 years\, 13–16 years\, and 17 years and over. \nParticipation is free\, but pre-registration is required. Participants can register in person at the Parks and Recreation Department office located at 2385 Bandera Hwy.\, by phone at (830) 257-7300\, or online at https://txkerrvilleweb.myvscloud.com/webtrac/web/splash.html. \nAll competitors must bring their own equipment\, including skateboards and protective gear. Helmets are required to participate. \nThe Skate Park at Singing Wind Park is located at 2112 Singing Wind Dr.\, Kerrville\, TX 78028. For more information\, contact the Kerrville Parks and Recreation Department.
URL:https://thekerrvillelife.com/event/kerrville-skateboard-competition-at-kerrville-skate-park/
LOCATION:Kerrville Skate Park\, 2112 Singing Wind Dr.\, Kerrville\, TX\, 78028\, United States
CATEGORIES:Sports
ATTACH;FMTTYPE=image/jpeg:https://thekerrvillelife.com/wp-content/uploads/2026/04/kerrville-skateboard-competition-at-kerrville-skate-park.jpg
END:VEVENT
BEGIN:VEVENT
DTSTART;TZID=America/Chicago:20260411T093000
DTEND;TZID=America/Chicago:20260411T123000
DTSTAMP:20260420T090946
CREATED:20260406T030329Z
LAST-MODIFIED:20260406T030422Z
UID:81013-1775899800-1775910600@thekerrvillelife.com
SUMMARY:Beginning Watercolor with Kandi Stimson at Kerr Arts & Cultural Center
DESCRIPTION:Beginning Watercolor with Kandi Stimson is a three-week class held on Saturdays\, April 11 and April 25\, and May 2\, 2026 from 9:30 am to 12:30 pm at the Kerr Arts & Cultural Center in Kerrville. This instructional workshop offers an introduction to watercolor techniques in a supportive\, hands-on environment. \nLed by instructor Kandi Stimson\, the class covers essential skills including understanding supplies\, brush techniques\, paint mixing\, washes\, glazing\, layering\, and basic color theory. Participants will also explore value\, edges\, texture\, and composition while completing several paintings throughout the course. \nTuition is $125 for the full three-week session. A supply list will be provided after registration. \nThe Kerr Arts & Cultural Center is located at 228 Earl Garrett Street\, Kerrville\, TX 78028. For more information or to register\, visit https://lp.constantcontactpages.com/ev/reg/3vk9c28/lp/a762fb31-d13c-4a79-bc71-e79a09ef31e5.
URL:https://thekerrvillelife.com/event/beginning-watercolor-with-kandi-stimson-at-kerr-arts-cultural-center/2026-04-11/
LOCATION:Kerr Arts & Cultural Center\, 228 Earl Garrett Street\, Kerrville\, TX\, 78028\, United States
CATEGORIES:Arts & Culture
END:VEVENT
BEGIN:VEVENT
DTSTART;TZID=America/Chicago:20260411T100000
DTEND;TZID=America/Chicago:20260411T140000
DTSTAMP:20260420T090946
CREATED:20260406T012923Z
LAST-MODIFIED:20260406T012923Z
UID:80965-1775901600-1775916000@thekerrvillelife.com
SUMMARY:Decorate a Mini Birdhouse at McCoy's Building Supply
DESCRIPTION:Decorate a Mini Birdhouse takes place on April 11\, 2026 from 10 am to 2 pm at McCoy’s Building Supply in Kerrville. This family-friendly activity invites kids to paint and decorate their own mini birdhouse\, creating a fun and creative spring project. \nChildren can explore their creativity while making a decorative piece to take home\, perfect for adding a seasonal touch to any space. The event is free of charge and open to all\, with supplies available while they last and no registration required. \nThis event is happening at all McCoy’s locations and is sponsored by Milwaukee Tool. \nMcCoy’s Building Supply is located at 1825 Sidney Baker St.\, Kerrville\, TX 78028. For more information\, contact the store directly.
URL:https://thekerrvillelife.com/event/decorate-a-mini-birdhouse-at-mccoys-building-supply/
LOCATION:McCoy’s Building Supply\, 1825 Sidney Baker St.\, Kerrville\, TX\, 78028\, United States
CATEGORIES:Kids & Family
ATTACH;FMTTYPE=image/jpeg:https://thekerrvillelife.com/wp-content/uploads/2026/04/decorate-a-mini-birdhouse-at-mccoys-building-supply.jpg
END:VEVENT
BEGIN:VEVENT
DTSTART;TZID=America/Chicago:20260411T100000
DTEND;TZID=America/Chicago:20260411T160000
DTSTAMP:20260420T090946
CREATED:20251216T013103Z
LAST-MODIFIED:20260403T141346Z
UID:79896-1775901600-1775923200@thekerrvillelife.com
SUMMARY:Friends of the Library Book Sale at Butt-Holdsworth Memorial Library
DESCRIPTION:The Friends of the Library Book Sale offers a monthly opportunity to browse a wide selection of books while supporting local library programs and services. Shoppers can explore a variety of titles during this community sale held in a convenient\, central location. \nThe book sale takes place on the second Saturday of every month from 10 am to 4 pm at the Butt-Holdsworth Memorial Library. The event is open to the public. \nIt’s a great chance to score a fantastic deal on some new (to you) books for your collection.
URL:https://thekerrvillelife.com/event/friends-of-the-library-book-sale-at-kerrville-area-chamber-of-commerce/2026-04-11/
LOCATION:Kerrville Area Chamber of Commerce\, 1700 Sidney Baker\, Suite 100\, Kerrville\, TX\, 78028\, United States
CATEGORIES:Kids & Family
ATTACH;FMTTYPE=image/jpeg:https://thekerrvillelife.com/wp-content/uploads/2025/08/friends-of-the-library-book-sale-at-kerrville-area-chamber-of-commerce.jpg
END:VEVENT
BEGIN:VEVENT
DTSTART;TZID=America/Chicago:20260411T130000
DTEND;TZID=America/Chicago:20260411T160000
DTSTAMP:20260420T090946
CREATED:20260323T024013Z
LAST-MODIFIED:20260323T024013Z
UID:80904-1775912400-1775923200@thekerrvillelife.com
SUMMARY:Noelle Goforthe at Singing Water Vineyards
DESCRIPTION:A live performance by Noelle Goforthe takes place on Saturday\, April 11\, 2026 from 1 pm to 4 pm at Singing Water Vineyards. This all-ages event offers an afternoon of live music in a relaxed vineyard setting. \nReturning to the Singing Water stage\, Noelle Goforthe brings her smooth\, silky vocal style to a selection of jazz favorites and American standards. Her performance creates an inviting atmosphere perfect for enjoying a laid-back afternoon among the vines. \nAdmission is free\, and no tickets are required. Singing Water Vineyards is located in Comfort\, TX. For more information\, contact the venue directly.
URL:https://thekerrvillelife.com/event/noelle-goforthe-at-singing-water-vineyards/
LOCATION:Singing Water Vineyards\, 316 Mill Dam Rd\, Comfort\, TX\, 78013\, United States
CATEGORIES:Music
ATTACH;FMTTYPE=image/jpeg:https://thekerrvillelife.com/wp-content/uploads/2026/03/noelle-goforthe-live-at-singing-water-vineyards.jpg
END:VEVENT
BEGIN:VEVENT
DTSTART;TZID=America/Chicago:20260411T130000
DTEND;TZID=America/Chicago:20260411T160000
DTSTAMP:20260420T090946
CREATED:20260406T060521Z
LAST-MODIFIED:20260406T060521Z
UID:81133-1775912400-1775923200@thekerrvillelife.com
SUMMARY:Wet Felting Jelly Fish with Marti Swanson at The Rogue Skein
DESCRIPTION:Wet Felting Jelly Fish with Marti Swanson takes place on Saturday\, April 11\, 2026 from 1 pm to 4 pm at The Rogue Skein in Kerrville. This hands-on workshop introduces participants to wet-felting techniques while creating colorful\, three-dimensional jellyfish sculptures. \nDesigned for all skill levels\, the class covers the fundamentals of wet-felting using a resist to build form and structure. Students will explore color blending\, texture\, and shaping techniques while crafting their own decorative piece. The process involves some physical activity\, including standing and rolling wool\, resulting in a unique finished creation. \nAll consumable materials are included in the $147 class fee\, and participants will leave with their completed project and a foundational understanding of wet-felting. Students should bring an old bath towel\, and additional supplies will be available in-store\, with a discount offered on the day of class. \nClass size is limited to ensure a personalized experience. \nThe Rogue Skein is located at 1013 Main Street\, Kerrville\, TX 78028. For more information or to register\, visit https://therogueskein.com/collections/classes/products/wet-felting-jelly-fish-with-marti-swanson.
URL:https://thekerrvillelife.com/event/wet-felting-jelly-fish-with-marti-swanson-at-the-rogue-skein/
LOCATION:The Rogue Skein\, 1013 Main Street\, Kerrville\, TX\, 78028\, United States
CATEGORIES:Arts & Culture,Kids & Family
ATTACH;FMTTYPE=image/jpeg:https://thekerrvillelife.com/wp-content/uploads/2026/04/wet-felting-jelly-fish-with-marti-swanson-at-the-rogue-skein.jpg
END:VEVENT
BEGIN:VEVENT
DTSTART;TZID=America/Chicago:20260411T140000
DTEND;TZID=America/Chicago:20260411T160000
DTSTAMP:20260420T090946
CREATED:20260406T012255Z
LAST-MODIFIED:20260406T012255Z
UID:80960-1775916000-1775923200@thekerrvillelife.com
SUMMARY:Celebration of Life for Mary Muse at Quiet Valley Ranch
DESCRIPTION:A Celebration of Life honoring Mary Muse will take place on Saturday\, April 11\, 2026 from 2 pm to 4 pm at the Threadgill Theater at Quiet Valley Ranch in Kerrville. This gathering invites the community to come together to remember Mary’s life\, share stories and music\, and reflect on the lasting impact she had on the Kerrville Folk Festival Foundation and those who call it home. \nThe service will be followed by a reception with light refreshments. Guests are encouraged to wear casual\, comfortable attire suitable for the ranch’s rustic outdoor setting\, including sturdy shoes for uneven ground. \nCamping will be available on-site for guests on Friday\, April 10 and Saturday\, April 11\, with departure requested before dark on Sunday\, April 12. RV guests are welcome\, with a suggested donation of $20 per night to help offset utilities. \nThose planning to attend are asked to RSVP at https://forms.gle/NZNyrdHCxBQit44z9 to assist organizers in preparing for the event. A digital guest book is also available through the RSVP form for those who wish to share memories\, messages\, or photos in honor of Mary. The service is expected to be livestreamed for those unable to attend in person. \nIn lieu of flowers\, donations in Mary’s honor may be made to the Kerrville Folk Festival Foundation or the American Cancer Society. \nQuiet Valley Ranch is located at 3876 Medina Hwy\, Kerrville\, TX 78028. For more information\, contact event organizers directly.
URL:https://thekerrvillelife.com/event/celebration-of-life-for-mary-muse-at-quiet-valley-ranch/
LOCATION:Quiet Valley Ranch\, 3876 Medina Hwy\, Kerrville\, TX\, 78028\, United States
CATEGORIES:General
ATTACH;FMTTYPE=image/jpeg:https://thekerrvillelife.com/wp-content/uploads/2026/04/celebration-of-life-for-mary-muse-at-quiet-valley-ranch.jpg
END:VEVENT
BEGIN:VEVENT
DTSTART;TZID=America/Chicago:20260411T180000
DTEND;TZID=America/Chicago:20260411T210000
DTSTAMP:20260420T090946
CREATED:20260323T023842Z
LAST-MODIFIED:20260323T023842Z
UID:80902-1775930400-1775941200@thekerrvillelife.com
SUMMARY:Dreams – A Tribute to Fleetwood Mac at Singing Water Vineyards
DESCRIPTION:An immersive tribute to Fleetwood Mac comes to Singing Water Vineyards on Saturday\, April 11\, 2026 at 6 pm. Dreams brings the band’s iconic sound to life with a talented group of musicians dedicated to recreating the look and feel of the original performances. \nThe show invites guests to sing along\, get close to the stage\, and enjoy a participatory concert experience in a family-friendly setting. Attendees are encouraged to dress in era-inspired attire and fully embrace the atmosphere while enjoying classic Fleetwood Mac hits performed live. \nThe vineyard’s kitchen will be reopening for this event\, with updated menu offerings shared with guests prior to the show. The evening combines live music\, a relaxed outdoor setting\, and a shared appreciation for one of rock’s most celebrated bands. \nSinging Water Vineyards is located in Comfort\, TX. For more information\, contact the venue directly.
URL:https://thekerrvillelife.com/event/dreams-a-tribute-to-fleetwood-mac-at-singing-water-vineyards/
LOCATION:Singing Water Vineyards\, 316 Mill Dam Rd\, Comfort\, TX\, 78013\, United States
CATEGORIES:Music
ATTACH;FMTTYPE=image/jpeg:https://thekerrvillelife.com/wp-content/uploads/2026/03/dreams-a-tribute-to-fleetwood-mac-at-singing-water-vineyards.jpg
END:VEVENT
BEGIN:VEVENT
DTSTART;TZID=America/Chicago:20260411T190000
DTEND;TZID=America/Chicago:20260411T210000
DTSTAMP:20260420T090946
CREATED:20260406T052031Z
LAST-MODIFIED:20260406T052031Z
UID:81092-1775934000-1775941200@thekerrvillelife.com
SUMMARY:Huston Sonhouse at Trailhead Beer Garden
DESCRIPTION:A live performance by Huston Sonhouse takes place on April 11\, 2026 from 7 pm to 9 pm at Trailhead Beer Garden in Kerrville. This evening show features a unique blend of western-inspired music and modern influences. \nHuston Sonhouse\, a singer-songwriter and multi-instrumentalist from New Braunfels\, brings rich baritone vocals\, rock-influenced guitar playing\, and live looping to the stage. His performances are known for their layered sound and distinctive style\, including intricate instrumentation and signature whistling. \nAdmission is $5. Guests can also enjoy food available on-site from Shim’s Be Blessed\, serving throughout the day from 12 pm to 9 pm. \nTrailhead Beer Garden is located in Kerrville\, TX. For more information\, contact the venue directly.
URL:https://thekerrvillelife.com/event/huston-sonhouse-at-trailhead-beer-garden/
LOCATION:Trailhead Beer Garden\, 2100 Memorial Boulevard\, Building #11\, Kerrville\, TX\, 78028\, United States
CATEGORIES:Music
ATTACH;FMTTYPE=image/jpeg:https://thekerrvillelife.com/wp-content/uploads/2026/04/huston-sonhouse-at-trailhead-beer-garden.jpg
END:VEVENT
BEGIN:VEVENT
DTSTART;TZID=America/Chicago:20260411T190000
DTEND;TZID=America/Chicago:20260411T220000
DTSTAMP:20260420T090946
CREATED:20260406T024242Z
LAST-MODIFIED:20260406T024242Z
UID:81005-1775934000-1775944800@thekerrvillelife.com
SUMMARY:Maplewood Brothers Duo at Tailchasers Patio + Pub
DESCRIPTION:The Maplewood Brothers Duo performs live on April 11\, 2026 from 7 pm to 10 pm at Tailchasers Patio + Pub in Kerrville. This evening show brings a mix of original music and familiar covers in a relaxed\, pet-friendly setting. \nFeaturing Dart and Saxy\, the duo will loop live instrumentation to create layered performances that blend original songs with crowd-pleasing favorites. The casual backyard atmosphere makes it a great spot to enjoy live music alongside food\, drinks\, and good company. \nAdmission is free. \nTailchasers Patio + Pub is located at 516 Jefferson Street\, Kerrville\, TX 78028. For more information\, contact the venue directly.
URL:https://thekerrvillelife.com/event/maplewood-brothers-duo-at-tailchasers-patio-pub/
LOCATION:Tailchasers Patio + Pub\, 516 Jefferson Street\, Kerrville\, TX\, 78028\, United States
CATEGORIES:Music
ATTACH;FMTTYPE=image/jpeg:https://thekerrvillelife.com/wp-content/uploads/2026/04/maplewood-brothers-duo-at-tailchasers-patio-pub.jpg
END:VEVENT
BEGIN:VEVENT
DTSTART;TZID=America/Chicago:20260411T203000
DTEND;TZID=America/Chicago:20260411T233000
DTSTAMP:20260420T090946
CREATED:20260406T055518Z
LAST-MODIFIED:20260406T055518Z
UID:81122-1775939400-1775950200@thekerrvillelife.com
SUMMARY:Chuck Wimer Band at Inn of the Hills Hotel & Conference Center
DESCRIPTION:The Chuck Wimer Band performs live on April 11\, 2026 at 8:30 pm at the Inn of the Hills in Kerrville\, delivering an evening of high-energy Texas country music. \nLed by Texas country recording artist and U.S. Army veteran Chuck Wimer\, the band blends modern country grit with classic storytelling. Known for songs like “Don’t Ask Me to Dance\,” “Dive Bar\,” and “Redemption\,” their live performances are built around strong vocals\, engaging stage presence\, and a sound that keeps audiences dancing and singing along. \nGuests can expect a lively atmosphere with great music and a true Texas country experience in a classic Hill Country venue. \nThe Inn of the Hills Hotel & Conference Center is located at 1001 Junction Hwy\, Kerrville\, TX 78028. For more information\, contact the venue directly.
URL:https://thekerrvillelife.com/event/chuck-wimer-band-at-inn-of-the-hills-hotel-conference-center/
LOCATION:Inn of the Hills\, 1001 Junction Highway\, Kerrville\, TX\, 78028\, United States
CATEGORIES:Music
ATTACH;FMTTYPE=image/jpeg:https://thekerrvillelife.com/wp-content/uploads/2026/04/chuck-wimer-band-at-inn-of-the-hills-hotel-and-conference-center.jpg
END:VEVENT
END:VCALENDAR