BEGIN:VCALENDAR
VERSION:2.0
PRODID:-//The Kerrville Life - ECPv6.15.20//NONSGML v1.0//EN
CALSCALE:GREGORIAN
METHOD:PUBLISH
X-ORIGINAL-URL:https://thekerrvillelife.com
X-WR-CALDESC:Events for The Kerrville Life
REFRESH-INTERVAL;VALUE=DURATION:PT1H
X-Robots-Tag:noindex
X-PUBLISHED-TTL:PT1H
BEGIN:VTIMEZONE
TZID:America/Chicago
BEGIN:DAYLIGHT
TZOFFSETFROM:-0600
TZOFFSETTO:-0500
TZNAME:CDT
DTSTART:20250309T080000
END:DAYLIGHT
BEGIN:STANDARD
TZOFFSETFROM:-0500
TZOFFSETTO:-0600
TZNAME:CST
DTSTART:20251102T070000
END:STANDARD
BEGIN:DAYLIGHT
TZOFFSETFROM:-0600
TZOFFSETTO:-0500
TZNAME:CDT
DTSTART:20260308T080000
END:DAYLIGHT
BEGIN:STANDARD
TZOFFSETFROM:-0500
TZOFFSETTO:-0600
TZNAME:CST
DTSTART:20261101T070000
END:STANDARD
BEGIN:DAYLIGHT
TZOFFSETFROM:-0600
TZOFFSETTO:-0500
TZNAME:CDT
DTSTART:20270314T080000
END:DAYLIGHT
BEGIN:STANDARD
TZOFFSETFROM:-0500
TZOFFSETTO:-0600
TZNAME:CST
DTSTART:20271107T070000
END:STANDARD
END:VTIMEZONE
BEGIN:VEVENT
DTSTART;TZID=America/Chicago:20260407T120000
DTEND;TZID=America/Chicago:20260407T130000
DTSTAMP:20260421T101516
CREATED:20260406T034912Z
LAST-MODIFIED:20260406T034912Z
UID:81076-1775563200-1775566800@thekerrvillelife.com
SUMMARY:PTO General Meeting at Tom Daniels Elementary School
DESCRIPTION:The PTO General Meeting takes place on April 7\, 2026 from 12 pm to 1 pm at Tom Daniels Elementary School in Kerrville. This monthly meeting provides an opportunity for parents\, teachers\, and community members to stay informed and involved in school activities. \nAttendees can learn about upcoming events\, discuss school initiatives\, and collaborate with others to support students and programs. The meeting offers a welcoming space for sharing ideas and strengthening the school community. \nTom Daniels Elementary School is located in Kerrville\, TX. For more information\, contact the school directly.
URL:https://thekerrvillelife.com/event/pto-general-meeting-at-tom-daniels-elementary-school/
LOCATION:Tom Daniels Elementary School\, 2002 Singing Wind Drive North\, Kerrville\, TX\, 78028\, United States
CATEGORIES:General
ATTACH;FMTTYPE=image/jpeg:https://thekerrvillelife.com/wp-content/uploads/2026/04/pto-general-meeting-at-tom-daniels-elementary-school.jpg
END:VEVENT
BEGIN:VEVENT
DTSTART;TZID=America/Chicago:20260407T150000
DTEND;TZID=America/Chicago:20260407T170000
DTSTAMP:20260421T101516
CREATED:20251216T003236Z
LAST-MODIFIED:20251216T003236Z
UID:79824-1775574000-1775581200@thekerrvillelife.com
SUMMARY:River Point of Kerrville Caregivers Café
DESCRIPTION:River Point of Kerrville hosts the Caregivers Café as a supportive gathering for those caring for individuals with dementia. This monthly meet-up offers a relaxed setting where caregivers can connect over coffee and desserts while sharing ideas\, information\, experiences\, and encouragement with others who understand the journey. \nThe Caregivers Café is held on the first Tuesday of every month from 3 pm to 5 pm at River Point of Kerrville. Admission is free and open to dementia caregivers seeking community and support. For additional information\, contact Valerie Newport at (830) 955-3214. \nRiver Point of Kerrville also provides a variety of social and recreational activities for residents\, creating opportunities for connection and engagement within the community.
URL:https://thekerrvillelife.com/event/river-point-of-kerrville-caregivers-cafe-2/2026-04-07/
LOCATION:River Point of Kerrville\, 1441 Bandera Highway\, Kerrville\, TX\, 78028\, United States
CATEGORIES:Food & Drink
ATTACH;FMTTYPE=image/jpeg:https://thekerrvillelife.com/wp-content/uploads/2025/08/river-point-of-kerrville-caregivers-cafe.jpg
END:VEVENT
BEGIN:VEVENT
DTSTART;TZID=America/Chicago:20260407T170000
DTEND;TZID=America/Chicago:20260407T233000
DTSTAMP:20260421T101516
CREATED:20260406T052529Z
LAST-MODIFIED:20260406T052843Z
UID:81096-1775581200-1775604600@thekerrvillelife.com
SUMMARY:Latin Night Every Tuesday at Divine's Sports Bar
DESCRIPTION:Latin Night takes place every Tuesday from 5 pm to 12 am at Divine’s Sports Bar in Kerrville\, bringing a lively mix of Tejano and Cumbia music to the dance floor each week. \nGuests can enjoy a festive atmosphere with music perfect for dancing\, along with drink specials including $3 Mexican Candy shots and $4 frozen margaritas. The event offers a fun and social midweek outing for those looking to enjoy Latin music and connect with others. \nLotería nights are also hosted periodically\, with special drink offers for players. Guests are encouraged to follow the venue for announcements\, as seating for Lotería events is limited and fills quickly. \nDivine’s Sports Bar is located in Kerrville\, TX. For more information\, contact the venue directly.
URL:https://thekerrvillelife.com/event/latin-night-every-tuesday-at-divines-sports-bar/2026-04-07/
LOCATION:Divine’s Sports Bar\, 225 Earl Garrett Street East\, Kerrville\, TX\, 78028\, United States
CATEGORIES:Music
ATTACH;FMTTYPE=image/jpeg:https://thekerrvillelife.com/wp-content/uploads/2026/04/latin-night-every-tuesday-at-divines-sports-bar.jpg
END:VEVENT
BEGIN:VEVENT
DTSTART;TZID=America/Chicago:20260407T180000
DTEND;TZID=America/Chicago:20260407T210000
DTSTAMP:20260421T101516
CREATED:20251111T232856Z
LAST-MODIFIED:20251111T232856Z
UID:79251-1775584800-1775595600@thekerrvillelife.com
SUMMARY:Tuesdays with Shane Stumpf at Gravity Check Saloon
DESCRIPTION:Country music fans can kick up their heels for an evening of boot-scootin’ fun as Shane Stumpf & The Heartbreak Outlaws take the stage at Gravity Check Saloon. Guests can look forward to a lively mix of classic and contemporary country favorites guaranteed to keep dancers two-stepping all night long. \nPerformances will take place from 6 pm to 9 pm on select Tuesdays\, including November 18 and 25\, December 2\, 9\, 16\, 23\, and 30\, 2025; January 6\, 13\, 20\, and 27\, 2026; February 3\, 10\, 17\, and 24\, 2026; March 3\, 10\, 17\, 24\, and 31\, 2026; and April 7\, 2026. The grill will be open until 11 pm\, and the bar will be serving drinks throughout the night. \nGravity Check Saloon is located at 315 Farm-to-Market Road 473\, Kerrville\, TX 78028.
URL:https://thekerrvillelife.com/event/tuesdays-with-shane-stumpf-at-gravity-check-saloon/2026-04-07/
LOCATION:Gravity Check Saloon and Arena\, 3979 Bandera Highway (173)\, Kerrville\, TX\, 78028\, United States
CATEGORIES:Music
ATTACH;FMTTYPE=image/jpeg:https://thekerrvillelife.com/wp-content/uploads/2025/11/tuesdays-with-shane-stumpf-at-gravity-check-saloon.jpg
END:VEVENT
END:VCALENDAR