BEGIN:VCALENDAR
VERSION:2.0
PRODID:-//The Kerrville Life - ECPv6.15.20//NONSGML v1.0//EN
CALSCALE:GREGORIAN
METHOD:PUBLISH
X-WR-CALNAME:The Kerrville Life
X-ORIGINAL-URL:https://thekerrvillelife.com
X-WR-CALDESC:Events for The Kerrville Life
REFRESH-INTERVAL;VALUE=DURATION:PT1H
X-Robots-Tag:noindex
X-PUBLISHED-TTL:PT1H
BEGIN:VTIMEZONE
TZID:America/Chicago
BEGIN:DAYLIGHT
TZOFFSETFROM:-0600
TZOFFSETTO:-0500
TZNAME:CDT
DTSTART:20250309T080000
END:DAYLIGHT
BEGIN:STANDARD
TZOFFSETFROM:-0500
TZOFFSETTO:-0600
TZNAME:CST
DTSTART:20251102T070000
END:STANDARD
BEGIN:DAYLIGHT
TZOFFSETFROM:-0600
TZOFFSETTO:-0500
TZNAME:CDT
DTSTART:20260308T080000
END:DAYLIGHT
BEGIN:STANDARD
TZOFFSETFROM:-0500
TZOFFSETTO:-0600
TZNAME:CST
DTSTART:20261101T070000
END:STANDARD
BEGIN:DAYLIGHT
TZOFFSETFROM:-0600
TZOFFSETTO:-0500
TZNAME:CDT
DTSTART:20270314T080000
END:DAYLIGHT
BEGIN:STANDARD
TZOFFSETFROM:-0500
TZOFFSETTO:-0600
TZNAME:CST
DTSTART:20271107T070000
END:STANDARD
END:VTIMEZONE
BEGIN:VEVENT
DTSTART;VALUE=DATE:20260403
DTEND;VALUE=DATE:20260405
DTSTAMP:20260419T201009
CREATED:20260305T025733Z
LAST-MODIFIED:20260305T025733Z
UID:80831-1775174400-1775347199@thekerrvillelife.com
SUMMARY:Library Closed at Butt-Holdsworth Memorial Library
DESCRIPTION:The Butt-Holdsworth Memorial Library will be closed on April 3 and April 4\, 2026. All library services\, programs\, and facilities will be unavailable during this time. \nThe library is located at 505 Water St.\, Kerrville\, TX 78028. For additional information\, call (830) 257-8422.
URL:https://thekerrvillelife.com/event/library-closed-at-butt-holdsworth-memorial-library/
LOCATION:Butt-Holdsworth Memorial Library\, 505 Water Street\, Kerrville\, TX\, 78028\, United States
CATEGORIES:General
ATTACH;FMTTYPE=image/jpeg:https://thekerrvillelife.com/wp-content/uploads/2026/03/library-closed-at-butt-holdsworth-memorial-library.jpg
END:VEVENT
BEGIN:VEVENT
DTSTART;TZID=America/Chicago:20260404T070000
DTEND;TZID=America/Chicago:20260404T080000
DTSTAMP:20260419T201009
CREATED:20260317T050241Z
LAST-MODIFIED:20260317T050241Z
UID:80863-1775286000-1775289600@thekerrvillelife.com
SUMMARY:1st Annual Kroc Hop 5K and Fun Run at Kerrville Kroc Center
DESCRIPTION:The 1st Annual Kroc Hop 5K and Fun Run takes place on Saturday\, April 4\, 2026 from 7 am to 8 am at the Kerrville Kroc Center. This family-friendly event invites participants to run\, walk\, or hop their way through the course for a fun and active start to the day. \nDesigned for all ages and fitness levels\, the event offers a welcoming atmosphere where individuals and families can enjoy a lighthearted race experience together. Whether aiming for a personal best or simply enjoying time outdoors\, participants can expect a festive and energetic environment. \nFollowing the race\, the celebration continues with the Annual Easter Eggstravaganza from 9 am to 12 pm\, giving families an opportunity to enjoy additional activities and seasonal fun after the run. \nThe Kerrville Kroc Center is located at 201 Holdsworth Dr.\, Kerrville\, TX 78028. For more information\, contact the venue directly.
URL:https://thekerrvillelife.com/event/1st-annual-kroc-hop-5k-and-fun-run-at-kerrville-kroc-center/
LOCATION:Kerrville Kroc Center\, 201 Holdsworth Dr\, Kerrville\, TX\, 78028\, United States
CATEGORIES:Kids & Family
ATTACH;FMTTYPE=image/jpeg:https://thekerrvillelife.com/wp-content/uploads/2026/03/1st-annual-kroc-hop-5k-and-fun-run-at-kerrville-kroc-center.jpg
END:VEVENT
BEGIN:VEVENT
DTSTART;TZID=America/Chicago:20260404T090000
DTEND;TZID=America/Chicago:20260404T120000
DTSTAMP:20260419T201009
CREATED:20260317T050550Z
LAST-MODIFIED:20260317T050550Z
UID:80865-1775293200-1775304000@thekerrvillelife.com
SUMMARY:Easter Eggstravaganza at Kerrville Kroc Center
DESCRIPTION:The Easter Eggstravaganza takes place on Saturday\, April 4\, 2026 from 9 am to 12 pm at the Kerrville Kroc Center field. This free community event offers a morning of family-friendly fun and fellowship in a festive outdoor setting. \nFamilies can enjoy a variety of activities celebrating the Easter season\, creating a welcoming space for children and adults alike to gather and take part in the festivities. The event follows the morning’s Kroc Hop 5K and Fun Run\, making it part of a full day of springtime celebration. \nThe Kerrville Kroc Center is located at 201 Holdsworth Dr.\, Kerrville\, TX 78028. For more information\, contact the venue directly.
URL:https://thekerrvillelife.com/event/easter-eggstravaganza-at-kerrville-kroc-center/
LOCATION:Kerrville Kroc Center\, 201 Holdsworth Dr\, Kerrville\, TX\, 78028\, United States
CATEGORIES:Kids & Family
ATTACH;FMTTYPE=image/jpeg:https://thekerrvillelife.com/wp-content/uploads/2026/03/easter-eggstravaganza-at-kerrville-kroc-center.jpg
END:VEVENT
BEGIN:VEVENT
DTSTART;TZID=America/Chicago:20260404T100000
DTEND;TZID=America/Chicago:20260404T160000
DTSTAMP:20260419T201009
CREATED:20260317T051714Z
LAST-MODIFIED:20260317T051714Z
UID:80867-1775296800-1775318400@thekerrvillelife.com
SUMMARY:EasterFest at Flat Rock Park
DESCRIPTION:EasterFest takes place on Saturday\, April 4\, 2026 from 10 am to 4 pm at Flat Rock Park\, offering a full day of outdoor fun along the Guadalupe River. This free community event invites Kerrville residents of all ages to enjoy a lively spring celebration in a scenic park setting. \nThe festival features a variety of activities throughout the day\, including an Easter egg hunt\, food and craft vendors\, live music\, and a car show. A BBQ Cook-Off adds to the festivities\, bringing together great food and friendly competition while creating a vibrant atmosphere for attendees. \nProceeds from the event will benefit local charities\, making EasterFest both a fun and meaningful way to celebrate the season with the community. \nFlat Rock Park is located at 3840 Riverside Dr.\, Kerrville\, TX. For more information\, contact event organizers directly.
URL:https://thekerrvillelife.com/event/easterfest-at-flat-rock-park/
LOCATION:Flat Rock Park\, 3840 Riverside Dr\, Kerrville\, TX\, 78028\, United States
CATEGORIES:Kids & Family
ATTACH;FMTTYPE=image/jpeg:https://thekerrvillelife.com/wp-content/uploads/2026/03/easterfest-at-flat-rock-park.jpg
END:VEVENT
BEGIN:VEVENT
DTSTART;TZID=America/Chicago:20260404T100000
DTEND;TZID=America/Chicago:20260404T160000
DTSTAMP:20260419T201009
CREATED:20260317T052003Z
LAST-MODIFIED:20260317T052003Z
UID:80870-1775296800-1775318400@thekerrvillelife.com
SUMMARY:Easterfest Open Car Show at Flat Rock Park
DESCRIPTION:The Easterfest Open Car Show takes place on Saturday\, April 4\, 2026 from 10 am to 4 pm at Flat Rock Park in Kerrville. Held as part of the day’s EasterFest celebration\, this event showcases a wide variety of vehicles in a scenic setting along the Guadalupe River. \nParticipants can enter custom builds\, new models\, restored vehicles\, motorcycles\, classic cars\, and specialty creations\, offering attendees a diverse display of automotive craftsmanship and style. The show provides an opportunity for car enthusiasts to share their vehicles\, connect with others\, and enjoy a full day of community festivities. \nThe entry fee for participants is $30. \nFlat Rock Park is located at 3840 Riverside Dr.\, Kerrville\, TX. For more information\, contact event organizers directly.
URL:https://thekerrvillelife.com/event/easterfest-open-car-show-at-flat-rock-park/
LOCATION:Flat Rock Park\, 3840 Riverside Dr\, Kerrville\, TX\, 78028\, United States
CATEGORIES:Kids & Family
ATTACH;FMTTYPE=image/jpeg:https://thekerrvillelife.com/wp-content/uploads/2026/03/easterfest-open-car-show-at-flat-rock-park.jpg
END:VEVENT
BEGIN:VEVENT
DTSTART;TZID=America/Chicago:20260404T100000
DTEND;TZID=America/Chicago:20260404T160000
DTSTAMP:20260419T201009
CREATED:20260317T052511Z
LAST-MODIFIED:20260317T052511Z
UID:80872-1775296800-1775318400@thekerrvillelife.com
SUMMARY:Sponsorship & Vendor Registration – EasterFest 2026 at Flat Rock Park
DESCRIPTION:Sponsorship and vendor registration for EasterFest 2026 is open for the event taking place on Saturday\, April 4\, 2026 from 10 am to 4 pm at Flat Rock Park. Hosted by Leadership Kerr County\, this annual celebration invites businesses and organizations to be part of a large community gathering along the Guadalupe River. \nEasterFest welcomes attendees of all ages with activities including an Easter egg hunt\, live music\, food and craft vendors\, a car show\, and a BBQ Cook-Off\, with proceeds benefiting local charities. Sponsors and vendors have the opportunity to showcase their brand to a large audience\, support community engagement\, and gain visibility through event promotions and on-site participation. \nAdmission to EasterFest is free for the public. Additional information about sponsorships and vendor opportunities is available at https://www.kerrvillechamber.biz/easterfest/. \nFlat Rock Park is located at 3840 Riverside Dr.\, Kerrville\, TX. For more information\, contact event organizers directly.
URL:https://thekerrvillelife.com/event/sponsorship-vendor-registration-easterfest-2026-at-flat-rock-park/
LOCATION:Flat Rock Park\, 3840 Riverside Dr\, Kerrville\, TX\, 78028\, United States
CATEGORIES:General
ATTACH;FMTTYPE=image/jpeg:https://thekerrvillelife.com/wp-content/uploads/2026/03/sponsorship-and-vendor-registration-easterfest-2026-at-flat-rock-park.jpg
END:VEVENT
BEGIN:VEVENT
DTSTART;TZID=America/Chicago:20260404T100000
DTEND;TZID=America/Chicago:20260404T160000
DTSTAMP:20260419T201009
CREATED:20260317T053030Z
LAST-MODIFIED:20260317T053030Z
UID:80874-1775296800-1775318400@thekerrvillelife.com
SUMMARY:Easterfest BBQ Competition at Flat Rock Park
DESCRIPTION:The Easterfest BBQ Competition takes place on Saturday\, April 4\, 2026 from 10 am to 4 pm at Flat Rock Park as part of the day’s EasterFest celebration. This cook-off invites pitmasters and barbecue enthusiasts to showcase their skills in a friendly yet competitive setting along the Guadalupe River. \nCompetitors can enter the three-meat category\, which includes chicken\, pork spareribs\, and brisket\, or participate in the beans category. The entry fee is $150 for the three-meat competition and $30 for the beans category. Attendees can enjoy the sights\, aromas\, and flavors of barbecue while exploring the larger festival\, which includes live music\, vendors\, and family-friendly activities. \nFlat Rock Park is located at 3840 Riverside Dr.\, Kerrville\, TX. For more information\, contact event organizers directly.
URL:https://thekerrvillelife.com/event/easterfest-bbq-competition-at-flat-rock-park/
LOCATION:Flat Rock Park\, 3840 Riverside Dr\, Kerrville\, TX\, 78028\, United States
CATEGORIES:Kids & Family
ATTACH;FMTTYPE=image/jpeg:https://thekerrvillelife.com/wp-content/uploads/2026/03/easterfest-bbq-competition-at-flat-rock-park.jpg
END:VEVENT
BEGIN:VEVENT
DTSTART;TZID=America/Chicago:20260404T130000
DTEND;TZID=America/Chicago:20260404T160000
DTSTAMP:20260419T201009
CREATED:20260323T023329Z
LAST-MODIFIED:20260323T023343Z
UID:80898-1775307600-1775318400@thekerrvillelife.com
SUMMARY:Hunter Billingsley at Singing Water Vineyards
DESCRIPTION:A live performance by Hunter Billingsley takes place on Saturday\, April 4\, 2026 from 1 pm to 4 pm at Singing Water Vineyards. This all-ages event offers an afternoon of live music in a relaxed vineyard setting. \nHunter Billingsley\, a well-regarded singer and guitarist from the Texas Hill Country\, brings a wide-ranging repertoire that includes both original songs and covers. His sound draws from influences spanning roots rock to alternative styles\, creating a dynamic and engaging performance. \nAdmission is free\, and no tickets are required. Singing Water Vineyards is located in Comfort\, TX. For more information\, contact the venue directly.
URL:https://thekerrvillelife.com/event/hunter-billingsley-at-singing-water-vineyards/
LOCATION:Singing Water Vineyards\, 316 Mill Dam Rd\, Comfort\, TX\, 78013\, United States
CATEGORIES:Music
ATTACH;FMTTYPE=image/jpeg:https://thekerrvillelife.com/wp-content/uploads/2026/03/hunter-billingsley-live-at-singing-water-vineyards.jpg
END:VEVENT
BEGIN:VEVENT
DTSTART;TZID=America/Chicago:20260404T180000
DTEND;TZID=America/Chicago:20260404T220000
DTSTAMP:20260419T201009
CREATED:20260305T032844Z
LAST-MODIFIED:20260305T032844Z
UID:80841-1775325600-1775340000@thekerrvillelife.com
SUMMARY:Good Looks & The Lonesome Heroes at Arcadia Live
DESCRIPTION:A co-headline night of Texas-rooted music takes place at Arcadia Live on April 4\, 2026 from 6 pm to 10 pm featuring performances by Good Looks and The Lonesome Heroes. The Centennial Club opens at 5 pm\, followed by doors and bar service at 6 pm. The Lonesome Heroes begin their set at 7 pm\, and Good Looks take the stage at 8:30 pm. \nThe Lonesome Heroes bring more than two decades of experience blending indie\, country\, and Americana into a distinctive sound that has carried them to stages around the world. The band has collaborated with producer Ryan Joseph and shared bills with artists such as Sierra Ferrell and Bahamas\, while appearing at festivals including South by Southwest and Dashville Skyline. \nGood Looks deliver emotionally charged rock rooted in honesty and resilience. After gaining widespread attention with their debut album Bummer Year\, the band returned with Lived Here For A While\, an energetic and introspective release that reflects the intensity of their live performances. Together\, these two Austin acts promise an evening of heartfelt songwriting and dynamic stage presence. \nAll ticket sales are final\, and Arcadia Live cannot provide refunds.
URL:https://thekerrvillelife.com/event/good-looks-the-lonesome-heroes-at-arcadia-live/
LOCATION:Arcadia Live Theatre\, 717 Water Street\, Kerrville\, TX\, 78028\, United States
CATEGORIES:General
ATTACH;FMTTYPE=image/jpeg:https://thekerrvillelife.com/wp-content/uploads/2026/03/good-looks-and-the-lonesome-heroes-at-arcadia-live.jpg
END:VEVENT
END:VCALENDAR