BEGIN:VCALENDAR
VERSION:2.0
PRODID:-//The Kerrville Life - ECPv6.15.20//NONSGML v1.0//EN
CALSCALE:GREGORIAN
METHOD:PUBLISH
X-WR-CALNAME:The Kerrville Life
X-ORIGINAL-URL:https://thekerrvillelife.com
X-WR-CALDESC:Events for The Kerrville Life
REFRESH-INTERVAL;VALUE=DURATION:PT1H
X-Robots-Tag:noindex
X-PUBLISHED-TTL:PT1H
BEGIN:VTIMEZONE
TZID:America/Chicago
BEGIN:DAYLIGHT
TZOFFSETFROM:-0600
TZOFFSETTO:-0500
TZNAME:CDT
DTSTART:20250309T080000
END:DAYLIGHT
BEGIN:STANDARD
TZOFFSETFROM:-0500
TZOFFSETTO:-0600
TZNAME:CST
DTSTART:20251102T070000
END:STANDARD
BEGIN:DAYLIGHT
TZOFFSETFROM:-0600
TZOFFSETTO:-0500
TZNAME:CDT
DTSTART:20260308T080000
END:DAYLIGHT
BEGIN:STANDARD
TZOFFSETFROM:-0500
TZOFFSETTO:-0600
TZNAME:CST
DTSTART:20261101T070000
END:STANDARD
BEGIN:DAYLIGHT
TZOFFSETFROM:-0600
TZOFFSETTO:-0500
TZNAME:CDT
DTSTART:20270314T080000
END:DAYLIGHT
BEGIN:STANDARD
TZOFFSETFROM:-0500
TZOFFSETTO:-0600
TZNAME:CST
DTSTART:20271107T070000
END:STANDARD
END:VTIMEZONE
BEGIN:VEVENT
DTSTART;TZID=America/Chicago:20260402T100000
DTEND;TZID=America/Chicago:20260402T140000
DTSTAMP:20260421T075528
CREATED:20251120T001424Z
LAST-MODIFIED:20251120T001424Z
UID:79551-1775124000-1775138400@thekerrvillelife.com
SUMMARY:Schreiner Mansion Tours at Schreiner Mansion
DESCRIPTION:Step into Kerrville’s past with guided tours of the historic Schreiner Mansion\, built in 1879 and listed on the National Register of Historic Places. Located in downtown Kerrville overlooking Peterson Plaza\, the Mansion offers a close look at period architecture and the legacy of one of the city’s founding families. \nTours are offered on Thursdays from 10 am to 2 pm\, beginning on the half-hour\, with the last tour starting at 1:30 pm. Admission is $10 for adults\, $5 for students\, and $5 for military with ID. Group tours of 10 or more are $8 per person with reservations. \nThe Schreiner Mansion is in Kerrville\, Texas. For more information\, call Stacy Page at (830) 895-5222. Visitors can view a photo gallery and experience a virtual tour on the Schreiner Mansion’s Facebook page\, and learn more about the site’s history online. \nAdditional information: The Mansion is available for special event rentals for $25\,000\, which includes access to the Events at Water Street space in the historic Schreiner Building. Two hours of complimentary photography are included with any event. To schedule an appointment to discuss your event or for further details\, call (830) 895-5222.
URL:https://thekerrvillelife.com/event/schreiner-mansion-tours-at-schreiner-mansion/2026-04-02/
LOCATION:Schreiner Mansion\, 222 Earl Garrett St\, Kerrville\, TX\, 78028\, United States
CATEGORIES:General,Kids & Family
ATTACH;FMTTYPE=image/jpeg:https://thekerrvillelife.com/wp-content/uploads/2025/11/schreiner-mansion-tours-at-schreiner-mansion.jpg
END:VEVENT
BEGIN:VEVENT
DTSTART;TZID=America/Chicago:20260402T113000
DTEND;TZID=America/Chicago:20260402T123000
DTSTAMP:20260421T075528
CREATED:20251215T232939Z
LAST-MODIFIED:20251215T232939Z
UID:79780-1775129400-1775133000@thekerrvillelife.com
SUMMARY:KAC Networking Group at Inn of the Hills Hotel & Conference
DESCRIPTION:The KAC Networking Group offers a professional\, structured environment for local business people to promote their services while building meaningful connections through shared referrals\, knowledge\, and expertise. Hosted by the Kerrville Area Chamber of Commerce\, this networking group is designed to foster collaboration among members while maintaining a focused and organized format. \nMeetings take place from 11:30 am to 12:30 pm on the first and third Thursday of every month at the Inn of the Hills Hotel & Conference\, located at 1001 Junction Highway in Kerrville\, Texas. The group follows a one-industry-per-person model\, with membership available on a first-come\, first-served basis\, ensuring a diverse range of professional representation. \nParticipation is available to members of the Kerrville Area Chamber of Commerce\, and attendees can expect a consistent opportunity to build relationships and exchange business referrals in a supportive setting. For additional details about membership or meeting availability\, contact the Kerrville Area Chamber of Commerce directly.
URL:https://thekerrvillelife.com/event/kac-networking-group-at-inn-of-the-hills-hotel-conference/2026-04-02/
LOCATION:Inn of the Hills\, 1001 Junction Highway\, Kerrville\, TX\, 78028\, United States
CATEGORIES:Business & Networking
ATTACH;FMTTYPE=image/jpeg:https://thekerrvillelife.com/wp-content/uploads/2025/08/kac-networking-group-at-inn-of-the-hills.jpg
END:VEVENT
BEGIN:VEVENT
DTSTART;TZID=America/Chicago:20260402T120000
DTEND;TZID=America/Chicago:20260402T130000
DTSTAMP:20260421T075528
CREATED:20260305T025428Z
LAST-MODIFIED:20260305T025428Z
UID:80830-1775131200-1775134800@thekerrvillelife.com
SUMMARY:Historical Fiction Book Club at Butt-Holdsworth Memorial Library
DESCRIPTION:The Historical Fiction Book Club meets on Thursday\, April 2\, 2026 from 12 pm to 1 pm in the first-floor Meeting Room at the Butt-Holdsworth Memorial Library. This discussion group brings together readers who enjoy stories inspired by real events and historical figures. \nThe April meeting will focus on Hidden Figures by Margot Lee Shetterly. The book tells the remarkable true story of the Black women mathematicians who played a crucial role in early space missions\, highlighting their contributions to science and the challenges they overcame. \nThis program is open to adults ages 18 and older. \nThe Butt-Holdsworth Memorial Library is located at 505 Water St.\, Kerrville\, TX 78028. For more information\, call (830) 257-8422.
URL:https://thekerrvillelife.com/event/historical-fiction-book-club-at-butt-holdsworth-memorial-library-6/
LOCATION:Butt-Holdsworth Memorial Library\, 505 Water Street\, Kerrville\, TX\, 78028\, United States
CATEGORIES:General
ATTACH;FMTTYPE=image/jpeg:https://thekerrvillelife.com/wp-content/uploads/2025/08/historical-fiction-book-club-at-butt-holdsworth-memorial-library.jpg
END:VEVENT
BEGIN:VEVENT
DTSTART;TZID=America/Chicago:20260402T170000
DTEND;TZID=America/Chicago:20260402T200000
DTSTAMP:20260421T075528
CREATED:20250821T094324Z
LAST-MODIFIED:20251120T003245Z
UID:79622-1775149200-1775160000@thekerrvillelife.com
SUMMARY:Country Nights Open Mic at Gravity Check Saloon and Arena
DESCRIPTION:Country music fans can enjoy an easygoing evening of live local talent during Country Nights Open Mic at Gravity Check Saloon. Listeners can relax to a mix of classic and contemporary country\, while aspiring performers are welcome to bring an instrument and take a turn on stage. \nThe open mic runs every Thursday from 6 pm to 10 pm\, with the grill serving until 9 pm. \nGravity Check Saloon is located in Kerrville\, Texas.
URL:https://thekerrvillelife.com/event/country-nights-open-mic-at-gravity-check-saloon-and-arena/2026-04-02/
LOCATION:Gravity Check Saloon and Arena\, 3979 Bandera Highway (173)\, Kerrville\, TX\, 78028\, United States
CATEGORIES:Music
ATTACH;FMTTYPE=image/jpeg:https://thekerrvillelife.com/wp-content/uploads/2025/08/country-nights-open-mic-at-gravity-check-saloon-and-arena.jpg
END:VEVENT
BEGIN:VEVENT
DTSTART;TZID=America/Chicago:20260402T190000
DTEND;TZID=America/Chicago:20260402T220000
DTSTAMP:20260421T075528
CREATED:20251215T233839Z
LAST-MODIFIED:20251215T233839Z
UID:79791-1775156400-1775167200@thekerrvillelife.com
SUMMARY:Hill Country Amateur Radio Club at Union Church Building on Memorial Boulevard
DESCRIPTION:The Hill Country Amateur Radio Club provides a welcoming space for amateur radio enthusiasts to connect\, share knowledge\, and stay engaged with the hobby through regular monthly meetings. The club supports both experienced operators and those new to amateur radio by offering opportunities for learning\, discussion\, and community involvement. \nMeetings are held on the first Thursday of each month at the Union Church Building on Memorial Boulevard. Doors open at 6:30 pm\, with the meeting beginning at 7 pm. Admission is free and open to the public. Additional information about the club\, including upcoming activities and resources\, is available at http://kerrhams.org.
URL:https://thekerrvillelife.com/event/hill-country-amateur-radio-club-at-union-church-building-on-memorial-boulevard/2026-04-02/
LOCATION:Union Church Building\, 101 Travis St\, Kerrville\, TX\, 78028\, United States
CATEGORIES:General
ATTACH;FMTTYPE=image/jpeg:https://thekerrvillelife.com/wp-content/uploads/2025/08/hill-country-amateur-radio-club-monthly-meeting.jpg
END:VEVENT
END:VCALENDAR