BEGIN:VCALENDAR
VERSION:2.0
PRODID:-//The Kerrville Life - ECPv6.15.20//NONSGML v1.0//EN
CALSCALE:GREGORIAN
METHOD:PUBLISH
X-ORIGINAL-URL:https://thekerrvillelife.com
X-WR-CALDESC:Events for The Kerrville Life
REFRESH-INTERVAL;VALUE=DURATION:PT1H
X-Robots-Tag:noindex
X-PUBLISHED-TTL:PT1H
BEGIN:VTIMEZONE
TZID:America/Chicago
BEGIN:DAYLIGHT
TZOFFSETFROM:-0600
TZOFFSETTO:-0500
TZNAME:CDT
DTSTART:20250309T080000
END:DAYLIGHT
BEGIN:STANDARD
TZOFFSETFROM:-0500
TZOFFSETTO:-0600
TZNAME:CST
DTSTART:20251102T070000
END:STANDARD
BEGIN:DAYLIGHT
TZOFFSETFROM:-0600
TZOFFSETTO:-0500
TZNAME:CDT
DTSTART:20260308T080000
END:DAYLIGHT
BEGIN:STANDARD
TZOFFSETFROM:-0500
TZOFFSETTO:-0600
TZNAME:CST
DTSTART:20261101T070000
END:STANDARD
BEGIN:DAYLIGHT
TZOFFSETFROM:-0600
TZOFFSETTO:-0500
TZNAME:CDT
DTSTART:20270314T080000
END:DAYLIGHT
BEGIN:STANDARD
TZOFFSETFROM:-0500
TZOFFSETTO:-0600
TZNAME:CST
DTSTART:20271107T070000
END:STANDARD
END:VTIMEZONE
BEGIN:VEVENT
DTSTART;TZID=America/Chicago:20260329T130000
DTEND;TZID=America/Chicago:20260329T160000
DTSTAMP:20260424T082342
CREATED:20260323T023040Z
LAST-MODIFIED:20260323T023040Z
UID:80896-1774789200-1774800000@thekerrvillelife.com
SUMMARY:Anthony Garcia at Singing Water Vineyards
DESCRIPTION:A live performance by Anthony Garcia takes place on Sunday\, March 29\, 2026 from 1 pm to 4 pm at Singing Water Vineyards. This free\, all-ages event features a mix of original songs and popular covers delivered in a versatile and engaging style. \nA favorite in the local music scene\, Anthony Garcia brings a dynamic performance that blends genres and connects with audiences in a relaxed vineyard setting. Guests can enjoy an afternoon of live music while taking in the scenic Hill Country atmosphere. \nAdmission is free\, though guests are encouraged to reserve tickets in advance so the venue can prepare for attendance. \nSinging Water Vineyards is located in Comfort\, TX. For more information\, contact the venue directly.
URL:https://thekerrvillelife.com/event/anthony-garcia-at-singing-water-vineyards/
LOCATION:Singing Water Vineyards\, 316 Mill Dam Rd\, Comfort\, TX\, 78013\, United States
CATEGORIES:Music
ATTACH;FMTTYPE=image/jpeg:https://thekerrvillelife.com/wp-content/uploads/2026/03/anthony-garcia-live-at-singing-water-vineyards.jpg
END:VEVENT
END:VCALENDAR