BEGIN:VCALENDAR
VERSION:2.0
PRODID:-//The Kerrville Life - ECPv6.15.20//NONSGML v1.0//EN
CALSCALE:GREGORIAN
METHOD:PUBLISH
X-ORIGINAL-URL:https://thekerrvillelife.com
X-WR-CALDESC:Events for The Kerrville Life
REFRESH-INTERVAL;VALUE=DURATION:PT1H
X-Robots-Tag:noindex
X-PUBLISHED-TTL:PT1H
BEGIN:VTIMEZONE
TZID:America/Chicago
BEGIN:DAYLIGHT
TZOFFSETFROM:-0600
TZOFFSETTO:-0500
TZNAME:CDT
DTSTART:20250309T080000
END:DAYLIGHT
BEGIN:STANDARD
TZOFFSETFROM:-0500
TZOFFSETTO:-0600
TZNAME:CST
DTSTART:20251102T070000
END:STANDARD
BEGIN:DAYLIGHT
TZOFFSETFROM:-0600
TZOFFSETTO:-0500
TZNAME:CDT
DTSTART:20260308T080000
END:DAYLIGHT
BEGIN:STANDARD
TZOFFSETFROM:-0500
TZOFFSETTO:-0600
TZNAME:CST
DTSTART:20261101T070000
END:STANDARD
BEGIN:DAYLIGHT
TZOFFSETFROM:-0600
TZOFFSETTO:-0500
TZNAME:CDT
DTSTART:20270314T080000
END:DAYLIGHT
BEGIN:STANDARD
TZOFFSETFROM:-0500
TZOFFSETTO:-0600
TZNAME:CST
DTSTART:20271107T070000
END:STANDARD
END:VTIMEZONE
BEGIN:VEVENT
DTSTART;TZID=America/Chicago:20260325T100000
DTEND;TZID=America/Chicago:20260325T110000
DTSTAMP:20260420T061706
CREATED:20260305T023458Z
LAST-MODIFIED:20260305T023458Z
UID:80821-1774432800-1774436400@thekerrvillelife.com
SUMMARY:History Center Storytime at Kerr Regional History Center
DESCRIPTION:History Center Storytime takes place on Wednesday\, March 25\, 2026 from 10 am to 11 am at the Kerr Regional History Center. This special program invites toddlers ages 3 to 5 to enjoy a storytime experience in a setting that celebrates local history. \nChildren and their caregivers will gather at the History Center\, located next door to the library\, for stories and activities designed to encourage early literacy and curiosity about the past. The program offers a welcoming environment where young participants can enjoy books while exploring a unique community space. \nThis program is designed for children and their accompanying adults. Caregivers are expected to remain with their children and actively participate during the program\, as drop-offs are not permitted. \nThe Kerr Regional History Center is located at 425 Water Street\, Kerrville\, TX 78028. For more information\, call (830) 258-1278.
URL:https://thekerrvillelife.com/event/history-center-storytime-at-kerr-regional-history-center-4/
LOCATION:Kerr Regional History Center\, 425 Water Street\, Kerrville\, TX\, 78028\, United States
CATEGORIES:Kids & Family
ATTACH;FMTTYPE=image/jpeg:https://thekerrvillelife.com/wp-content/uploads/2026/01/history-center-storytime-at-kerr-regional-history-center.jpg
END:VEVENT
BEGIN:VEVENT
DTSTART;TZID=America/Chicago:20260325T110000
DTEND;TZID=America/Chicago:20260325T140000
DTSTAMP:20260420T061706
CREATED:20260305T011655Z
LAST-MODIFIED:20260305T011655Z
UID:80749-1774436400-1774447200@thekerrvillelife.com
SUMMARY:Friends of the Library Book Sale at Butt-Holdsworth Memorial Library
DESCRIPTION:The Friends of the Butt-Holdsworth Memorial Library host their ongoing Book Sale throughout 2026\, offering a wide selection of gently used books\, DVDs\, and CDs at very affordable prices. The bookstore operates every Wednesday from 11 am to 2 pm\, with additional sales held from 11 am to 2 pm on the second Saturday of each month. \nShoppers can browse thousands of titles across a variety of genres while supporting the programs and services of the library. The book sale is open to all ages and provides a great opportunity to discover new reads and media at bargain prices. \nThose interested in volunteering with the Friends of the Library can email fobhml@gmail.com or contact the library at 830-258-1274 for more information. \nThe Butt-Holdsworth Memorial Library is located at 505 Water St.\, Kerrville\, TX 78028. For additional details\, call (830) 257-8422.
URL:https://thekerrvillelife.com/event/friends-of-the-library-book-sale-at-butt-holdsworth-memorial-library-6/2026-03-25/
LOCATION:Butt-Holdsworth Memorial Library\, 505 Water Street\, Kerrville\, TX\, 78028\, United States
CATEGORIES:General
ATTACH;FMTTYPE=image/jpeg:https://thekerrvillelife.com/wp-content/uploads/2026/01/friends-of-the-library-book-sale-at-butt-holdsworth-memorial-library.jpg
END:VEVENT
BEGIN:VEVENT
DTSTART;TZID=America/Chicago:20260325T160000
DTEND;TZID=America/Chicago:20260325T180000
DTSTAMP:20260420T061706
CREATED:20260305T023724Z
LAST-MODIFIED:20260305T023724Z
UID:80822-1774454400-1774461600@thekerrvillelife.com
SUMMARY:A\, B\, C\, & D’s of Medicare at Butt-Holdsworth Memorial Library
DESCRIPTION:A\, B\, C\, & D’s of Medicare takes place on Wednesday\, March 25\, 2026 from 4 pm to 5:45 pm in the first-floor Meeting Room at the Butt-Holdsworth Memorial Library. This informational session provides a clear overview of Medicare and the different coverage options available. \nThe presentation will be led by benefit advisor Esse Moreno\, who will explain the basics of Medicare plans and how the different parts work together. Attendees will have the opportunity to learn about available options and ask questions during the session. \nThis program is open to adults ages 18 and older. \nThe Butt-Holdsworth Memorial Library is located at 505 Water St.\, Kerrville\, TX 78028. For more information\, call (830) 257-8422.
URL:https://thekerrvillelife.com/event/a-b-c-ds-of-medicare-at-butt-holdsworth-memorial-library-3/
LOCATION:Butt-Holdsworth Memorial Library\, 505 Water Street\, Kerrville\, TX\, 78028\, United States
CATEGORIES:Health & Wellness
ATTACH;FMTTYPE=image/jpeg:https://thekerrvillelife.com/wp-content/uploads/2026/01/a-b-c-and-ds-of-medicare-at-butt-holdsworth-memorial-library.jpg
END:VEVENT
BEGIN:VEVENT
DTSTART;TZID=America/Chicago:20260325T180000
DTEND;TZID=America/Chicago:20260325T220000
DTSTAMP:20260420T061706
CREATED:20251120T000728Z
LAST-MODIFIED:20251120T000728Z
UID:79489-1774461600-1774476000@thekerrvillelife.com
SUMMARY:Wednesday Karaoke Night at Gravity Check Saloon & Arena
DESCRIPTION:Singers of all levels can take the stage for a fun midweek night of music during Wednesday Karaoke Night at Gravity Check Saloon & Arena. Guests can belt out country classics\, rock anthems\, and pop favorites while enjoying a lively\, welcoming atmosphere with friends. \nKaraoke begins at 6 pm every Wednesday. The full bar is open until midnight\, and the kitchen serves until 9 pm\, making it easy to fuel up before or after your song. \nGravity Check Saloon & Arena is located at 3979 Bandera Highway\, Pipe Creek\, TX. For more information\, call 830-634-3075 or visit www.gravitychecksaloonandarena.com.
URL:https://thekerrvillelife.com/event/wednesday-karaoke-night-at-gravity-check-saloon-arena/2026-03-25/
LOCATION:Gravity Check Saloon and Arena\, 3979 Bandera Highway (173)\, Kerrville\, TX\, 78028\, United States
CATEGORIES:Music
ATTACH;FMTTYPE=image/jpeg:https://thekerrvillelife.com/wp-content/uploads/2025/09/karaoke-wednesday-nights-at-gravity-check-saloon-and-arena.jpg
END:VEVENT
END:VCALENDAR