BEGIN:VCALENDAR
VERSION:2.0
PRODID:-//The Kerrville Life - ECPv6.15.20//NONSGML v1.0//EN
CALSCALE:GREGORIAN
METHOD:PUBLISH
X-ORIGINAL-URL:https://thekerrvillelife.com
X-WR-CALDESC:Events for The Kerrville Life
REFRESH-INTERVAL;VALUE=DURATION:PT1H
X-Robots-Tag:noindex
X-PUBLISHED-TTL:PT1H
BEGIN:VTIMEZONE
TZID:America/Chicago
BEGIN:DAYLIGHT
TZOFFSETFROM:-0600
TZOFFSETTO:-0500
TZNAME:CDT
DTSTART:20250309T080000
END:DAYLIGHT
BEGIN:STANDARD
TZOFFSETFROM:-0500
TZOFFSETTO:-0600
TZNAME:CST
DTSTART:20251102T070000
END:STANDARD
BEGIN:DAYLIGHT
TZOFFSETFROM:-0600
TZOFFSETTO:-0500
TZNAME:CDT
DTSTART:20260308T080000
END:DAYLIGHT
BEGIN:STANDARD
TZOFFSETFROM:-0500
TZOFFSETTO:-0600
TZNAME:CST
DTSTART:20261101T070000
END:STANDARD
BEGIN:DAYLIGHT
TZOFFSETFROM:-0600
TZOFFSETTO:-0500
TZNAME:CDT
DTSTART:20270314T080000
END:DAYLIGHT
BEGIN:STANDARD
TZOFFSETFROM:-0500
TZOFFSETTO:-0600
TZNAME:CST
DTSTART:20271107T070000
END:STANDARD
END:VTIMEZONE
BEGIN:VEVENT
DTSTART;TZID=America/Chicago:20260224T100000
DTEND;TZID=America/Chicago:20260224T110000
DTSTAMP:20260423T194815
CREATED:20260123T020200Z
LAST-MODIFIED:20260123T020200Z
UID:80071-1771927200-1771930800@thekerrvillelife.com
SUMMARY:Lapsit Storytime at Butt-Holdsworth Memorial Library
DESCRIPTION:Lapsit Storytime offers a gentle\, interactive experience for babies and their caregivers through books\, songs\, rhymes\, and baby playtime. The program supports early literacy and sensory exploration in a calm and welcoming library environment designed for very young children. \nSessions will be held on Tuesday\, February 3\, 10\, and 24\, 2026\, from 10 am to 11 am in the first-floor meeting room at the Butt-Holdsworth Memorial Library\, located at 505 Water Street in Kerrville\, Texas. The program is geared toward babies ages 0 to 3\, with accompanying adults expected to attend and actively participate. Drop-offs are not permitted. \nFor additional information about this program or other library offerings\, contact the Butt-Holdsworth Memorial Library at (830) 257-8422.
URL:https://thekerrvillelife.com/event/lapsit-storytime-at-butt-holdsworth-memorial-library-4/2026-02-24/
LOCATION:Butt-Holdsworth Memorial Library\, 505 Water Street\, Kerrville\, TX\, 78028\, United States
CATEGORIES:Kids & Family
ATTACH;FMTTYPE=image/jpeg:https://thekerrvillelife.com/wp-content/uploads/2026/01/lapsit-storytime-at-butt-holdsworth-memorial-library.jpg
END:VEVENT
BEGIN:VEVENT
DTSTART;TZID=America/Chicago:20260224T100000
DTEND;TZID=America/Chicago:20260224T160000
DTSTAMP:20260423T194815
CREATED:20260123T013004Z
LAST-MODIFIED:20260123T013004Z
UID:80048-1771927200-1771948800@thekerrvillelife.com
SUMMARY:Friends: Exhibition at Kerr Arts & Cultural Center
DESCRIPTION:Friends is an art exhibition celebrating personal relationships and the diverse individuals who call the Texas Hill Country home. Presented through works created in white conte on toned paper\, the exhibition highlights connection\, character\, and community through an intimate and expressive artistic approach. \nThe exhibition will be on view from February 4 through March 7\, 2026\, at the Kerr Arts & Cultural Center in the Aline Cornels Gallery\, located at 228 Earl Garrett Street in Kerrville\, Texas. Gallery hours are Tuesday through Thursday from 10 am to 4 pm. An artist reception will be held on Saturday\, February 14\, 2026\, offering an additional opportunity to experience the exhibition and engage with the work. \nAdditional information about the exhibition and gallery programming is available through the Kerr Arts & Cultural Center.
URL:https://thekerrvillelife.com/event/friends-exhibition-at-kerr-arts-cultural-center/2026-02-24/
LOCATION:Kerr Arts & Cultural Center\, 228 Earl Garrett Street\, Kerrville\, TX\, 78028\, United States
CATEGORIES:Arts & Culture
ATTACH;FMTTYPE=image/jpeg:https://thekerrvillelife.com/wp-content/uploads/2026/01/friends-exhibition-at-kerr-arts-and-cultural-center.jpg
END:VEVENT
BEGIN:VEVENT
DTSTART;TZID=America/Chicago:20260224T180000
DTEND;TZID=America/Chicago:20260224T210000
DTSTAMP:20260423T194815
CREATED:20251111T232856Z
LAST-MODIFIED:20251111T232856Z
UID:79245-1771956000-1771966800@thekerrvillelife.com
SUMMARY:Tuesdays with Shane Stumpf at Gravity Check Saloon
DESCRIPTION:Country music fans can kick up their heels for an evening of boot-scootin’ fun as Shane Stumpf & The Heartbreak Outlaws take the stage at Gravity Check Saloon. Guests can look forward to a lively mix of classic and contemporary country favorites guaranteed to keep dancers two-stepping all night long. \nPerformances will take place from 6 pm to 9 pm on select Tuesdays\, including November 18 and 25\, December 2\, 9\, 16\, 23\, and 30\, 2025; January 6\, 13\, 20\, and 27\, 2026; February 3\, 10\, 17\, and 24\, 2026; March 3\, 10\, 17\, 24\, and 31\, 2026; and April 7\, 2026. The grill will be open until 11 pm\, and the bar will be serving drinks throughout the night. \nGravity Check Saloon is located at 315 Farm-to-Market Road 473\, Kerrville\, TX 78028.
URL:https://thekerrvillelife.com/event/tuesdays-with-shane-stumpf-at-gravity-check-saloon/2026-02-24/
LOCATION:Gravity Check Saloon and Arena\, 3979 Bandera Highway (173)\, Kerrville\, TX\, 78028\, United States
CATEGORIES:Music
ATTACH;FMTTYPE=image/jpeg:https://thekerrvillelife.com/wp-content/uploads/2025/11/tuesdays-with-shane-stumpf-at-gravity-check-saloon.jpg
END:VEVENT
END:VCALENDAR